Workbook

Sheet Dates to search
A1: Date | B1: Startdate | C1: Enddate
A2: 43952 | B2: =A2 -> 43952 | C2: =A2+1 -> 43953
A3: 43953 | B3: =A3 -> 43953 | C3: =A3+1 -> 43954
A4: 43954 | B4: =A4 -> 43954 | C4: =A4+1 -> 43955
A5: 43955 | B5: =A5 -> 43955 | C5: =A5+1 -> 43956
A6: 43956 | B6: =A6 -> 43956 | C6: =A6+1 -> 43957
A7: 43957 | B7: =A7 -> 43957 | C7: =A7+1 -> 43958
A8: 43958 | B8: =A8 -> 43958 | C8: =A8+1 -> 43959
A9: 43959 | B9: =A9 -> 43959 | C9: =A9+1 -> 43960
A10: 43960 | B10: =A10 -> 43960 | C10: =A10+1 -> 43961
A11: 43961 | B11: =A11 -> 43961 | C11: =A11+1 -> 43962
A12: 43962 | B12: =A12 -> 43962 | C12: =A12+1 -> 43963
A13: 43963 | B13: =A13 -> 43963 | C13: =A13+1 -> 43964
... A32: 43982 | B32: =A32 -> 43982 | C32: =A32+1 -> 43983

Sheet Sources to search
A1: Source | B1: URL
A2: AP | B2: apnews.com
A3: CNN | B3: CNN.com
A4: FoxNews | B4: foxnews.com
A5: MSNBC | B5: msnbc.com
A6: NPR | B6: npr.org
A7: NY Times | B7: nytimes.com
A8: USA Today | B8: usatoday.com
A9: Wall Street Journal | B9: wsj.com
A10: Washington Post | B10: washingtonpost.com

Sheet Search terms
A1: Search term(s):
A2: ("Donald Trump" OR "President Trump")

Sheet URLs30Days
A1: Date | B1: Source | C1: Part 1 | D1: Part 2 | E1: Part 3 | F1: Part 4 | G1: Part 5 | H1: Part 6 | I1: Part 7 | J1: Part 8 | K1: Part 9 | L1: FullURL
A2: ='Dates to search'!$A$2 -> 43952 | B2: AP | C2: 'https://api.gdeltproject.org/api/v2/doc/doc?query= | D2: ='Search terms'!$A$2 -> ("Donald Trump" OR "President Trump") | E2: domainis: | F2: =VLOOKUP(B2,'Sources to search'!A:B,2,FALSE) -> apnews.com | G2: &startdatetime= | H2: =VLOOKUP(A2,'Dates to search'!A:C,2,FALSE) -> 43952 | I2: &enddatetime= | J2: =VLOOKUP(A2,'Dates to search'!A:C,3,FALSE) -> 43953 | K2: &mode=artlist&maxrecords=250&sort=datedesc&format=csv', | L2: =CONCATENATE(C2,D2,E2,F2,G2,TEXT(H2,"yyyymmddhhmmss"),I2,TEXT(J2,"yyyymmddhhmmss"),K2) -> 'https://api.gdeltproject.org/api/v2/doc/doc?query=("Donald Trump" OR "President Trump") domainis:apnews.com&startdatetime=20200501000000&enddatetime=20200502000000&mode=artlist&maxrecords=250&sort=datedesc&format=csv',
A3: ='Dates to search'!$A$3 -> 43953 | B3: AP | C3: 'https://api.gdeltproject.org/api/v2/doc/doc?query= | D3: ='Search terms'!$A$2 -> ("Donald Trump" OR "President Trump") | E3: domainis: | F3: =VLOOKUP(B3,'Sources to search'!A:B,2,FALSE) -> apnews.com | G3: &startdatetime= | H3: =VLOOKUP(A3,'Dates to search'!A:C,2,FALSE) -> 43953 | I3: &enddatetime= | J3: =VLOOKUP(A3,'Dates to search'!A:C,3,FALSE) -> 43954 | K3: &mode=artlist&maxrecords=250&sort=datedesc&format=csv', | L3: =CONCATENATE(C3,D3,E3,F3,G3,TEXT(H3,"yyyymmddhhmmss"),I3,TEXT(J3,"yyyymmddhhmmss"),K3) -> 'https://api.gdeltproject.org/api/v2/doc/doc?query=("Donald Trump" OR "President Trump") domainis:apnews.com&startdatetime=20200502000000&enddatetime=20200503000000&mode=artlist&maxrecords=250&sort=datedesc&format=csv',
A4: ='Dates to search'!$A$4 -> 43954 | B4: AP | C4: 'https://api.gdeltproject.org/api/v2/doc/doc?query= | D4: ='Search terms'!$A$2 -> ("Donald Trump" OR "President Trump") | E4: domainis: | F4: =VLOOKUP(B4,'Sources to search'!A:B,2,FALSE) -> apnews.com | G4: &startdatetime= | H4: =VLOOKUP(A4,'Dates to search'!A:C,2,FALSE) -> 43954 | I4: &enddatetime= | J4: =VLOOKUP(A4,'Dates to search'!A:C,3,FALSE) -> 43955 | K4: &mode=artlist&maxrecords=250&sort=datedesc&format=csv', | L4: =CONCATENATE(C4,D4,E4,F4,G4,TEXT(H4,"yyyymmddhhmmss"),I4,TEXT(J4,"yyyymmddhhmmss"),K4) -> 'https://api.gdeltproject.org/api/v2/doc/doc?query=("Donald Trump" OR "President Trump") domainis:apnews.com&startdatetime=20200503000000&enddatetime=20200504000000&mode=artlist&maxrecords=250&sort=datedesc&format=csv',
A5: ='Dates to search'!$A$5 -> 43955 | B5: AP | C5: 'https://api.gdeltproject.org/api/v2/doc/doc?query= | D5: ='Search terms'!$A$2 -> ("Donald Trump" OR "President Trump") | E5: domainis: | F5: =VLOOKUP(B5,'Sources to search'!A:B,2,FALSE) -> apnews.com | G5: &startdatetime= | H5: =VLOOKUP(A5,'Dates to search'!A:C,2,FALSE) -> 43955 | I5: &enddatetime= | J5: =VLOOKUP(A5,'Dates to search'!A:C,3,FALSE) -> 43956 | K5: &mode=artlist&maxrecords=250&sort=datedesc&format=csv', | L5: =CONCATENATE(C5,D5,E5,F5,G5,TEXT(H5,"yyyymmddhhmmss"),I5,TEXT(J5,"yyyymmddhhmmss"),K5) -> 'https://api.gdeltproject.org/api/v2/doc/doc?query=("Donald Trump" OR "President Trump") domainis:apnews.com&startdatetime=20200504000000&enddatetime=20200505000000&mode=artlist&maxrecords=250&sort=datedesc&format=csv',
A6: ='Dates to search'!$A$6 -> 43956 | B6: AP | C6: 'https://api.gdeltproject.org/api/v2/doc/doc?query= | D6: ='Search terms'!$A$2 -> ("Donald Trump" OR "President Trump") | E6: domainis: | F6: =VLOOKUP(B6,'Sources to search'!A:B,2,FALSE) -> apnews.com | G6: &startdatetime= | H6: =VLOOKUP(A6,'Dates to search'!A:C,2,FALSE) -> 43956 | I6: &enddatetime= | J6: =VLOOKUP(A6,'Dates to search'!A:C,3,FALSE) -> 43957 | K6: &mode=artlist&maxrecords=250&sort=datedesc&format=csv', | L6: =CONCATENATE(C6,D6,E6,F6,G6,TEXT(H6,"yyyymmddhhmmss"),I6,TEXT(J6,"yyyymmddhhmmss"),K6) -> 'https://api.gdeltproject.org/api/v2/doc/doc?query=("Donald Trump" OR "President Trump") domainis:apnews.com&startdatetime=20200505000000&enddatetime=20200506000000&mode=artlist&maxrecords=250&sort=datedesc&format=csv',
A7: ='Dates to search'!$A$7 -> 43957 | B7: AP | C7: 'https://api.gdeltproject.org/api/v2/doc/doc?query= | D7: ='Search terms'!$A$2 -> ("Donald Trump" OR "President Trump") | E7: domainis: | F7: =VLOOKUP(B7,'Sources to search'!A:B,2,FALSE) -> apnews.com | G7: &startdatetime= | H7: =VLOOKUP(A7,'Dates to search'!A:C,2,FALSE) -> 43957 | I7: &enddatetime= | J7: =VLOOKUP(A7,'Dates to search'!A:C,3,FALSE) -> 43958 | K7: &mode=artlist&maxrecords=250&sort=datedesc&format=csv', | L7: =CONCATENATE(C7,D7,E7,F7,G7,TEXT(H7,"yyyymmddhhmmss"),I7,TEXT(J7,"yyyymmddhhmmss"),K7) -> 'https://api.gdeltproject.org/api/v2/doc/doc?query=("Donald Trump" OR "President Trump") domainis:apnews.com&startdatetime=20200506000000&enddatetime=20200507000000&mode=artlist&maxrecords=250&sort=datedesc&format=csv',
A8: ='Dates to search'!$A$8 -> 43958 | B8: AP | C8: 'https://api.gdeltproject.org/api/v2/doc/doc?query= | D8: ='Search terms'!$A$2 -> ("Donald Trump" OR "President Trump") | E8: domainis: | F8: =VLOOKUP(B8,'Sources to search'!A:B,2,FALSE) -> apnews.com | G8: &startdatetime= | H8: =VLOOKUP(A8,'Dates to search'!A:C,2,FALSE) -> 43958 | I8: &enddatetime= | J8: =VLOOKUP(A8,'Dates to search'!A:C,3,FALSE) -> 43959 | K8: &mode=artlist&maxrecords=250&sort=datedesc&format=csv', | L8: =CONCATENATE(C8,D8,E8,F8,G8,TEXT(H8,"yyyymmddhhmmss"),I8,TEXT(J8,"yyyymmddhhmmss"),K8) -> 'https://api.gdeltproject.org/api/v2/doc/doc?query=("Donald Trump" OR "President Trump") domainis:apnews.com&startdatetime=20200507000000&enddatetime=20200508000000&mode=artlist&maxrecords=250&sort=datedesc&format=csv',
A9: ='Dates to search'!$A$9 -> 43959 | B9: AP | C9: 'https://api.gdeltproject.org/api/v2/doc/doc?query= | D9: ='Search terms'!$A$2 -> ("Donald Trump" OR "President Trump") | E9: domainis: | F9: =VLOOKUP(B9,'Sources to search'!A:B,2,FALSE) -> apnews.com | G9: &startdatetime= | H9: =VLOOKUP(A9,'Dates to search'!A:C,2,FALSE) -> 43959 | I9: &enddatetime= | J9: =VLOOKUP(A9,'Dates to search'!A:C,3,FALSE) -> 43960 | K9: &mode=artlist&maxrecords=250&sort=datedesc&format=csv', | L9: =CONCATENATE(C9,D9,E9,F9,G9,TEXT(H9,"yyyymmddhhmmss"),I9,TEXT(J9,"yyyymmddhhmmss"),K9) -> 'https://api.gdeltproject.org/api/v2/doc/doc?query=("Donald Trump" OR "President Trump") domainis:apnews.com&startdatetime=20200508000000&enddatetime=20200509000000&mode=artlist&maxrecords=250&sort=datedesc&format=csv',
A10: ='Dates to search'!$A$10 -> 43960 | B10: AP | C10: 'https://api.gdeltproject.org/api/v2/doc/doc?query= | D10: ='Search terms'!$A$2 -> ("Donald Trump" OR "President Trump") | E10: domainis: | F10: =VLOOKUP(B10,'Sources to search'!A:B,2,FALSE) -> apnews.com | G10: &startdatetime= | H10: =VLOOKUP(A10,'Dates to search'!A:C,2,FALSE) -> 43960 | I10: &enddatetime= | J10: =VLOOKUP(A10,'Dates to search'!A:C,3,FALSE) -> 43961 | K10: &mode=artlist&maxrecords=250&sort=datedesc&format=csv', | L10: =CONCATENATE(C10,D10,E10,F10,G10,TEXT(H10,"yyyymmddhhmmss"),I10,TEXT(J10,"yyyymmddhhmmss"),K10) -> 'https://api.gdeltproject.org/api/v2/doc/doc?query=("Donald Trump" OR "President Trump") domainis:apnews.com&startdatetime=20200509000000&enddatetime=20200510000000&mode=artlist&maxrecords=250&sort=datedesc&format=csv',
A11: ='Dates to search'!$A$11 -> 43961 | B11: AP | C11: 'https://api.gdeltproject.org/api/v2/doc/doc?query= | D11: ='Search terms'!$A$2 -> ("Donald Trump" OR "President Trump") | E11: domainis: | F11: =VLOOKUP(B11,'Sources to search'!A:B,2,FALSE) -> apnews.com | G11: &startdatetime= | H11: =VLOOKUP(A11,'Dates to search'!A:C,2,FALSE) -> 43961 | I11: &enddatetime= | J11: =VLOOKUP(A11,'Dates to search'!A:C,3,FALSE) -> 43962 | K11: &mode=artlist&maxrecords=250&sort=datedesc&format=csv', | L11: =CONCATENATE(C11,D11,E11,F11,G11,TEXT(H11,"yyyymmddhhmmss"),I11,TEXT(J11,"yyyymmddhhmmss"),K11) -> 'https://api.gdeltproject.org/api/v2/doc/doc?query=("Donald Trump" OR "President Trump") domainis:apnews.com&startdatetime=20200510000000&enddatetime=20200511000000&mode=artlist&maxrecords=250&sort=datedesc&format=csv',
A12: ='Dates to search'!$A$12 -> 43962 | B12: AP | C12: 'https://api.gdeltproject.org/api/v2/doc/doc?query= | D12: ='Search terms'!$A$2 -> ("Donald Trump" OR "President Trump") | E12: domainis: | F12: =VLOOKUP(B12,'Sources to search'!A:B,2,FALSE) -> apnews.com | G12: &startdatetime= | H12: =VLOOKUP(A12,'Dates to search'!A:C,2,FALSE) -> 43962 | I12: &enddatetime= | J12: =VLOOKUP(A12,'Dates to search'!A:C,3,FALSE) -> 43963 | K12: &mode=artlist&maxrecords=250&sort=datedesc&format=csv', | L12: =CONCATENATE(C12,D12,E12,F12,G12,TEXT(H12,"yyyymmddhhmmss"),I12,TEXT(J12,"yyyymmddhhmmss"),K12) -> 'https://api.gdeltproject.org/api/v2/doc/doc?query=("Donald Trump" OR "President Trump") domainis:apnews.com&startdatetime=20200511000000&enddatetime=20200512000000&mode=artlist&maxrecords=250&sort=datedesc&format=csv',
A13: ='Dates to search'!$A$13 -> 43963 | B13: AP | C13: 'https://api.gdeltproject.org/api/v2/doc/doc?query= | D13: ='Search terms'!$A$2 -> ("Donald Trump" OR "President Trump") | E13: domainis: | F13: =VLOOKUP(B13,'Sources to search'!A:B,2,FALSE) -> apnews.com | G13: &startdatetime= | H13: =VLOOKUP(A13,'Dates to search'!A:C,2,FALSE) -> 43963 | I13: &enddatetime= | J13: =VLOOKUP(A13,'Dates to search'!A:C,3,FALSE) -> 43964 | K13: &mode=artlist&maxrecords=250&sort=datedesc&format=csv', | L13: =CONCATENATE(C13,D13,E13,F13,G13,TEXT(H13,"yyyymmddhhmmss"),I13,TEXT(J13,"yyyymmddhhmmss"),K13) -> 'https://api.gdeltproject.org/api/v2/doc/doc?query=("Donald Trump" OR "President Trump") domainis:apnews.com&startdatetime=20200512000000&enddatetime=20200513000000&mode=artlist&maxrecords=250&sort=datedesc&format=csv',
A14: ='Dates to search'!$A$14 -> 43964 | B14: AP | C14: 'https://api.gdeltproject.org/api/v2/doc/doc?query= | D14: ='Search terms'!$A$2 -> ("Donald Trump" OR "President Trump") | E14: domainis: | F14: =VLOOKUP(B14,'Sources to search'!A:B,2,FALSE) -> apnews.com | G14: &startdatetime= | H14: =VLOOKUP(A14,'Dates to search'!A:C,2,FALSE) -> 43964 | I14: &enddatetime= | J14: =VLOOKUP(A14,'Dates to search'!A:C,3,FALSE) -> 43965 | K14: &mode=artlist&maxrecords=250&sort=datedesc&format=csv', | L14: =CONCATENATE(C14,D14,E14,F14,G14,TEXT(H14,"yyyymmddhhmmss"),I14,TEXT(J14,"yyyymmddhhmmss"),K14) -> 'https://api.gdeltproject.org/api/v2/doc/doc?query=("Donald Trump" OR "President Trump") domainis:apnews.com&startdatetime=20200513000000&enddatetime=20200514000000&mode=artlist&maxrecords=250&sort=datedesc&format=csv',
A15: ='Dates to search'!$A$15 -> 43965 | B15: AP | C15: 'https://api.gdeltproject.org/api/v2/doc/doc?query= | D15: ='Search terms'!$A$2 -> ("Donald Trump" OR "President Trump") | E15: domainis: | F15: =VLOOKUP(B15,'Sources to search'!A:B,2,FALSE) -> apnews.com | G15: &startdatetime= | H15: =VLOOKUP(A15,'Dates to search'!A:C,2,FALSE) -> 43965 | I15: &enddatetime= | J15: =VLOOKUP(A15,'Dates to search'!A:C,3,FALSE) -> 43966 | K15: &mode=artlist&maxrecords=250&sort=datedesc&format=csv', | L15: =CONCATENATE(C15,D15,E15,F15,G15,TEXT(H15,"yyyymmddhhmmss"),I15,TEXT(J15,"yyyymmddhhmmss"),K15) -> 'https://api.gdeltproject.org/api/v2/doc/doc?query=("Donald Trump" OR "President Trump") domainis:apnews.com&startdatetime=20200514000000&enddatetime=20200515000000&mode=artlist&maxrecords=250&sort=datedesc&format=csv',
A16: ='Dates to search'!$A$16 -> 43966 | B16: AP | C16: 'https://api.gdeltproject.org/api/v2/doc/doc?query= | D16: ='Search terms'!$A$2 -> ("Donald Trump" OR "President Trump") | E16: domainis: | F16: =VLOOKUP(B16,'Sources to search'!A:B,2,FALSE) -> apnews.com | G16: &startdatetime= | H16: =VLOOKUP(A16,'Dates to search'!A:C,2,FALSE) -> 43966 | I16: &enddatetime= | J16: =VLOOKUP(A16,'Dates to search'!A:C,3,FALSE) -> 43967 | K16: &mode=artlist&maxrecords=250&sort=datedesc&format=csv', | L16: =CONCATENATE(C16,D16,E16,F16,G16,TEXT(H16,"yyyymmddhhmmss"),I16,TEXT(J16,"yyyymmddhhmmss"),K16) -> 'https://api.gdeltproject.org/api/v2/doc/doc?query=("Donald Trump" OR "President Trump") domainis:apnews.com&startdatetime=20200515000000&enddatetime=20200516000000&mode=artlist&maxrecords=250&sort=datedesc&format=csv',
A17: ='Dates to search'!$A$17 -> 43967 | B17: AP | C17: 'https://api.gdeltproject.org/api/v2/doc/doc?query= | D17: ='Search terms'!$A$2 -> ("Donald Trump" OR "President Trump") | E17: domainis: | F17: =VLOOKUP(B17,'Sources to search'!A:B,2,FALSE) -> apnews.com | G17: &startdatetime= | H17: =VLOOKUP(A17,'Dates to search'!A:C,2,FALSE) -> 43967 | I17: &enddatetime= | J17: =VLOOKUP(A17,'Dates to search'!A:C,3,FALSE) -> 43968 | K17: &mode=artlist&maxrecords=250&sort=datedesc&format=csv', | L17: =CONCATENATE(C17,D17,E17,F17,G17,TEXT(H17,"yyyymmddhhmmss"),I17,TEXT(J17,"yyyymmddhhmmss"),K17) -> 'https://api.gdeltproject.org/api/v2/doc/doc?query=("Donald Trump" OR "President Trump") domainis:apnews.com&startdatetime=20200516000000&enddatetime=20200517000000&mode=artlist&maxrecords=250&sort=datedesc&format=csv',
A18: ='Dates to search'!$A$18 -> 43968 | B18: AP | C18: 'https://api.gdeltproject.org/api/v2/doc/doc?query= | D18: ='Search terms'!$A$2 -> ("Donald Trump" OR "President Trump") | E18: domainis: | F18: =VLOOKUP(B18,'Sources to search'!A:B,2,FALSE) -> apnews.com | G18: &startdatetime= | H18: =VLOOKUP(A18,'Dates to search'!A:C,2,FALSE) -> 43968 | I18: &enddatetime= | J18: =VLOOKUP(A18,'Dates to search'!A:C,3,FALSE) -> 43969 | K18: &mode=artlist&maxrecords=250&sort=datedesc&format=csv', | L18: =CONCATENATE(C18,D18,E18,F18,G18,TEXT(H18,"yyyymmddhhmmss"),I18,TEXT(J18,"yyyymmddhhmmss"),K18) -> 'https://api.gdeltproject.org/api/v2/doc/doc?query=("Donald Trump" OR "President Trump") domainis:apnews.com&startdatetime=20200517000000&enddatetime=20200518000000&mode=artlist&maxrecords=250&sort=datedesc&format=csv',
A19: ='Dates to search'!$A$19 -> 43969 | B19: AP | C19: 'https://api.gdeltproject.org/api/v2/doc/doc?query= | D19: ='Search terms'!$A$2 -> ("Donald Trump" OR "President Trump") | E19: domainis: | F19: =VLOOKUP(B19,'Sources to search'!A:B,2,FALSE) -> apnews.com | G19: &startdatetime= | H19: =VLOOKUP(A19,'Dates to search'!A:C,2,FALSE) -> 43969 | I19: &enddatetime= | J19: =VLOOKUP(A19,'Dates to search'!A:C,3,FALSE) -> 43970 | K19: &mode=artlist&maxrecords=250&sort=datedesc&format=csv', | L19: =CONCATENATE(C19,D19,E19,F19,G19,TEXT(H19,"yyyymmddhhmmss"),I19,TEXT(J19,"yyyymmddhhmmss"),K19) -> 'https://api.gdeltproject.org/api/v2/doc/doc?query=("Donald Trump" OR "President Trump") domainis:apnews.com&startdatetime=20200518000000&enddatetime=20200519000000&mode=artlist&maxrecords=250&sort=datedesc&format=csv',
A20: ='Dates to search'!$A$20 -> 43970 | B20: AP | C20: 'https://api.gdeltproject.org/api/v2/doc/doc?query= | D20: ='Search terms'!$A$2 -> ("Donald Trump" OR "President Trump") | E20: domainis: | F20: =VLOOKUP(B20,'Sources to search'!A:B,2,FALSE) -> apnews.com | G20: &startdatetime= | H20: =VLOOKUP(A20,'Dates to search'!A:C,2,FALSE) -> 43970 | I20: &enddatetime= | J20: =VLOOKUP(A20,'Dates to search'!A:C,3,FALSE) -> 43971 | K20: &mode=artlist&maxrecords=250&sort=datedesc&format=csv', | L20: =CONCATENATE(C20,D20,E20,F20,G20,TEXT(H20,"yyyymmddhhmmss"),I20,TEXT(J20,"yyyymmddhhmmss"),K20) -> 'https://api.gdeltproject.org/api/v2/doc/doc?query=("Donald Trump" OR "President Trump") domainis:apnews.com&startdatetime=20200519000000&enddatetime=20200520000000&mode=artlist&maxrecords=250&sort=datedesc&format=csv',
A21: ='Dates to search'!$A$21 -> 43971 | B21: AP | C21: 'https://api.gdeltproject.org/api/v2/doc/doc?query= | D21: ='Search terms'!$A$2 -> ("Donald Trump" OR "President Trump") | E21: domainis: | F21: =VLOOKUP(B21,'Sources to search'!A:B,2,FALSE) -> apnews.com | G21: &startdatetime= | H21: =VLOOKUP(A21,'Dates to search'!A:C,2,FALSE) -> 43971 | I21: &enddatetime= | J21: =VLOOKUP(A21,'Dates to search'!A:C,3,FALSE) -> 43972 | K21: &mode=artlist&maxrecords=250&sort=datedesc&format=csv', | L21: =CONCATENATE(C21,D21,E21,F21,G21,TEXT(H21,"yyyymmddhhmmss"),I21,TEXT(J21,"yyyymmddhhmmss"),K21) -> 'https://api.gdeltproject.org/api/v2/doc/doc?query=("Donald Trump" OR "President Trump") domainis:apnews.com&startdatetime=20200520000000&enddatetime=20200521000000&mode=artlist&maxrecords=250&sort=datedesc&format=csv',
A22: ='Dates to search'!$A$22 -> 43972 | B22: AP | C22: 'https://api.gdeltproject.org/api/v2/doc/doc?query= | D22: ='Search terms'!$A$2 -> ("Donald Trump" OR "President Trump") | E22: domainis: | F22: =VLOOKUP(B22,'Sources to search'!A:B,2,FALSE) -> apnews.com | G22: &startdatetime= | H22: =VLOOKUP(A22,'Dates to search'!A:C,2,FALSE) -> 43972 | I22: &enddatetime= | J22: =VLOOKUP(A22,'Dates to search'!A:C,3,FALSE) -> 43973 | K22: &mode=artlist&maxrecords=250&sort=datedesc&format=csv', | L22: =CONCATENATE(C22,D22,E22,F22,G22,TEXT(H22,"yyyymmddhhmmss"),I22,TEXT(J22,"yyyymmddhhmmss"),K22) -> 'https://api.gdeltproject.org/api/v2/doc/doc?query=("Donald Trump" OR "President Trump") domainis:apnews.com&startdatetime=20200521000000&enddatetime=20200522000000&mode=artlist&maxrecords=250&sort=datedesc&format=csv',
A23: ='Dates to search'!$A$23 -> 43973 | B23: AP | C23: 'https://api.gdeltproject.org/api/v2/doc/doc?query= | D23: ='Search terms'!$A$2 -> ("Donald Trump" OR "President Trump") | E23: domainis: | F23: =VLOOKUP(B23,'Sources to search'!A:B,2,FALSE) -> apnews.com | G23: &startdatetime= | H23: =VLOOKUP(A23,'Dates to search'!A:C,2,FALSE) -> 43973 | I23: &enddatetime= | J23: =VLOOKUP(A23,'Dates to search'!A:C,3,FALSE) -> 43974 | K23: &mode=artlist&maxrecords=250&sort=datedesc&format=csv', | L23: =CONCATENATE(C23,D23,E23,F23,G23,TEXT(H23,"yyyymmddhhmmss"),I23,TEXT(J23,"yyyymmddhhmmss"),K23) -> 'https://api.gdeltproject.org/api/v2/doc/doc?query=("Donald Trump" OR "President Trump") domainis:apnews.com&startdatetime=20200522000000&enddatetime=20200523000000&mode=artlist&maxrecords=250&sort=datedesc&format=csv',
A24: ='Dates to search'!$A$24 -> 43974 | B24: AP | C24: 'https://api.gdeltproject.org/api/v2/doc/doc?query= | D24: ='Search terms'!$A$2 -> ("Donald Trump" OR "President Trump") | E24: domainis: | F24: =VLOOKUP(B24,'Sources to search'!A:B,2,FALSE) -> apnews.com | G24: &startdatetime= | H24: =VLOOKUP(A24,'Dates to search'!A:C,2,FALSE) -> 43974 | I24: &enddatetime= | J24: =VLOOKUP(A24,'Dates to search'!A:C,3,FALSE) -> 43975 | K24: &mode=artlist&maxrecords=250&sort=datedesc&format=csv', | L24: =CONCATENATE(C24,D24,E24,F24,G24,TEXT(H24,"yyyymmddhhmmss"),I24,TEXT(J24,"yyyymmddhhmmss"),K24) -> 'https://api.gdeltproject.org/api/v2/doc/doc?query=("Donald Trump" OR "President Trump") domainis:apnews.com&startdatetime=20200523000000&enddatetime=20200524000000&mode=artlist&maxrecords=250&sort=datedesc&format=csv',
A25: ='Dates to search'!$A$25 -> 43975 | B25: AP | C25: 'https://api.gdeltproject.org/api/v2/doc/doc?query= | D25: ='Search terms'!$A$2 -> ("Donald Trump" OR "President Trump") | E25: domainis: | F25: =VLOOKUP(B25,'Sources to search'!A:B,2,FALSE) -> apnews.com | G25: &startdatetime= | H25: =VLOOKUP(A25,'Dates to search'!A:C,2,FALSE) -> 43975 | I25: &enddatetime= | J25: =VLOOKUP(A25,'Dates to search'!A:C,3,FALSE) -> 43976 | K25: &mode=artlist&maxrecords=250&sort=datedesc&format=csv', | L25: =CONCATENATE(C25,D25,E25,F25,G25,TEXT(H25,"yyyymmddhhmmss"),I25,TEXT(J25,"yyyymmddhhmmss"),K25) -> 'https://api.gdeltproject.org/api/v2/doc/doc?query=("Donald Trump" OR "President Trump") domainis:apnews.com&startdatetime=20200524000000&enddatetime=20200525000000&mode=artlist&maxrecords=250&sort=datedesc&format=csv',
A26: ='Dates to search'!$A$26 -> 43976 | B26: AP | C26: 'https://api.gdeltproject.org/api/v2/doc/doc?query= | D26: ='Search terms'!$A$2 -> ("Donald Trump" OR "President Trump") | E26: domainis: | F26: =VLOOKUP(B26,'Sources to search'!A:B,2,FALSE) -> apnews.com | G26: &startdatetime= | H26: =VLOOKUP(A26,'Dates to search'!A:C,2,FALSE) -> 43976 | I26: &enddatetime= | J26: =VLOOKUP(A26,'Dates to search'!A:C,3,FALSE) -> 43977 | K26: &mode=artlist&maxrecords=250&sort=datedesc&format=csv', | L26: =CONCATENATE(C26,D26,E26,F26,G26,TEXT(H26,"yyyymmddhhmmss"),I26,TEXT(J26,"yyyymmddhhmmss"),K26) -> 'https://api.gdeltproject.org/api/v2/doc/doc?query=("Donald Trump" OR "President Trump") domainis:apnews.com&startdatetime=20200525000000&enddatetime=20200526000000&mode=artlist&maxrecords=250&sort=datedesc&format=csv',
A27: ='Dates to search'!$A$27 -> 43977 | B27: AP | C27: 'https://api.gdeltproject.org/api/v2/doc/doc?query= | D27: ='Search terms'!$A$2 -> ("Donald Trump" OR "President Trump") | E27: domainis: | F27: =VLOOKUP(B27,'Sources to search'!A:B,2,FALSE) -> apnews.com | G27: &startdatetime= | H27: =VLOOKUP(A27,'Dates to search'!A:C,2,FALSE) -> 43977 | I27: &enddatetime= | J27: =VLOOKUP(A27,'Dates to search'!A:C,3,FALSE) -> 43978 | K27: &mode=artlist&maxrecords=250&sort=datedesc&format=csv', | L27: =CONCATENATE(C27,D27,E27,F27,G27,TEXT(H27,"yyyymmddhhmmss"),I27,TEXT(J27,"yyyymmddhhmmss"),K27) -> 'https://api.gdeltproject.org/api/v2/doc/doc?query=("Donald Trump" OR "President Trump") domainis:apnews.com&startdatetime=20200526000000&enddatetime=20200527000000&mode=artlist&maxrecords=250&sort=datedesc&format=csv',
A28: ='Dates to search'!$A$28 -> 43978 | B28: AP | C28: 'https://api.gdeltproject.org/api/v2/doc/doc?query= | D28: ='Search terms'!$A$2 -> ("Donald Trump" OR "President Trump") | E28: domainis: | F28: =VLOOKUP(B28,'Sources to search'!A:B,2,FALSE) -> apnews.com | G28: &startdatetime= | H28: =VLOOKUP(A28,'Dates to search'!A:C,2,FALSE) -> 43978 | I28: &enddatetime= | J28: =VLOOKUP(A28,'Dates to search'!A:C,3,FALSE) -> 43979 | K28: &mode=artlist&maxrecords=250&sort=datedesc&format=csv', | L28: =CONCATENATE(C28,D28,E28,F28,G28,TEXT(H28,"yyyymmddhhmmss"),I28,TEXT(J28,"yyyymmddhhmmss"),K28) -> 'https://api.gdeltproject.org/api/v2/doc/doc?query=("Donald Trump" OR "President Trump") domainis:apnews.com&startdatetime=20200527000000&enddatetime=20200528000000&mode=artlist&maxrecords=250&sort=datedesc&format=csv',
A29: ='Dates to search'!$A$29 -> 43979 | B29: AP | C29: 'https://api.gdeltproject.org/api/v2/doc/doc?query= | D29: ='Search terms'!$A$2 -> ("Donald Trump" OR "President Trump") | E29: domainis: | F29: =VLOOKUP(B29,'Sources to search'!A:B,2,FALSE) -> apnews.com | G29: &startdatetime= | H29: =VLOOKUP(A29,'Dates to search'!A:C,2,FALSE) -> 43979 | I29: &enddatetime= | J29: =VLOOKUP(A29,'Dates to search'!A:C,3,FALSE) -> 43980 | K29: &mode=artlist&maxrecords=250&sort=datedesc&format=csv', | L29: =CONCATENATE(C29,D29,E29,F29,G29,TEXT(H29,"yyyymmddhhmmss"),I29,TEXT(J29,"yyyymmddhhmmss"),K29) -> 'https://api.gdeltproject.org/api/v2/doc/doc?query=("Donald Trump" OR "President Trump") domainis:apnews.com&startdatetime=20200528000000&enddatetime=20200529000000&mode=artlist&maxrecords=250&sort=datedesc&format=csv',
A30: ='Dates to search'!$A$30 -> 43980 | B30: AP | C30: 'https://api.gdeltproject.org/api/v2/doc/doc?query= | D30: ='Search terms'!$A$2 -> ("Donald Trump" OR "President Trump") | E30: domainis: | F30: =VLOOKUP(B30,'Sources to search'!A:B,2,FALSE) -> apnews.com | G30: &startdatetime= | H30: =VLOOKUP(A30,'Dates to search'!A:C,2,FALSE) -> 43980 | I30: &enddatetime= | J30: =VLOOKUP(A30,'Dates to search'!A:C,3,FALSE) -> 43981 | K30: &mode=artlist&maxrecords=250&sort=datedesc&format=csv', | L30: =CONCATENATE(C30,D30,E30,F30,G30,TEXT(H30,"yyyymmddhhmmss"),I30,TEXT(J30,"yyyymmddhhmmss"),K30) -> 'https://api.gdeltproject.org/api/v2/doc/doc?query=("Donald Trump" OR "President Trump") domainis:apnews.com&startdatetime=20200529000000&enddatetime=20200530000000&mode=artlist&maxrecords=250&sort=datedesc&format=csv',
A31: ='Dates to search'!$A$31 -> 43981 | B31: AP | C31: 'https://api.gdeltproject.org/api/v2/doc/doc?query= | D31: ='Search terms'!$A$2 -> ("Donald Trump" OR "President Trump") | E31: domainis: | F31: =VLOOKUP(B31,'Sources to search'!A:B,2,FALSE) -> apnews.com | G31: &startdatetime= | H31: =VLOOKUP(A31,'Dates to search'!A:C,2,FALSE) -> 43981 | I31: &enddatetime= | J31: =VLOOKUP(A31,'Dates to search'!A:C,3,FALSE) -> 43982 | K31: &mode=artlist&maxrecords=250&sort=datedesc&format=csv', | L31: =CONCATENATE(C31,D31,E31,F31,G31,TEXT(H31,"yyyymmddhhmmss"),I31,TEXT(J31,"yyyymmddhhmmss"),K31) -> 'https://api.gdeltproject.org/api/v2/doc/doc?query=("Donald Trump" OR "President Trump") domainis:apnews.com&startdatetime=20200530000000&enddatetime=20200531000000&mode=artlist&maxrecords=250&sort=datedesc&format=csv',
A32: ='Dates to search'!$A$2 -> 43952 | B32: CNN | C32: 'https://api.gdeltproject.org/api/v2/doc/doc?query= | D32: ='Search terms'!$A$2 -> ("Donald Trump" OR "President Trump") | E32: domainis: | F32: =VLOOKUP(B32,'Sources to search'!A:B,2,FALSE) -> CNN.com | G32: &startdatetime= | H32: =VLOOKUP(A32,'Dates to search'!A:C,2,FALSE) -> 43952 | I32: &enddatetime= | J32: =VLOOKUP(A32,'Dates to search'!A:C,3,FALSE) -> 43953 | K32: &mode=artlist&maxrecords=250&sort=datedesc&format=csv', | L32: =CONCATENATE(C32,D32,E32,F32,G32,TEXT(H32,"yyyymmddhhmmss"),I32,TEXT(J32,"yyyymmddhhmmss"),K32) -> 'https://api.gdeltproject.org/api/v2/doc/doc?query=("Donald Trump" OR "President Trump") domainis:CNN.com&startdatetime=20200501000000&enddatetime=20200502000000&mode=artlist&maxrecords=250&sort=datedesc&format=csv',
A33: ='Dates to search'!$A$3 -> 43953 | B33: CNN | C33: 'https://api.gdeltproject.org/api/v2/doc/doc?query= | D33: ='Search terms'!$A$2 -> ("Donald Trump" OR "President Trump") | E33: domainis: | F33: =VLOOKUP(B33,'Sources to search'!A:B,2,FALSE) -> CNN.com | G33: &startdatetime= | H33: =VLOOKUP(A33,'Dates to search'!A:C,2,FALSE) -> 43953 | I33: &enddatetime= | J33: =VLOOKUP(A33,'Dates to search'!A:C,3,FALSE) -> 43954 | K33: &mode=artlist&maxrecords=250&sort=datedesc&format=csv', | L33: =CONCATENATE(C33,D33,E33,F33,G33,TEXT(H33,"yyyymmddhhmmss"),I33,TEXT(J33,"yyyymmddhhmmss"),K33) -> 'https://api.gdeltproject.org/api/v2/doc/doc?query=("Donald Trump" OR "President Trump") domainis:CNN.com&startdatetime=20200502000000&enddatetime=20200503000000&mode=artlist&maxrecords=250&sort=datedesc&format=csv',
A34: ='Dates to search'!$A$4 -> 43954 | B34: CNN | C34: 'https://api.gdeltproject.org/api/v2/doc/doc?query= | D34: ='Search terms'!$A$2 -> ("Donald Trump" OR "President Trump") | E34: domainis: | F34: =VLOOKUP(B34,'Sources to search'!A:B,2,FALSE) -> CNN.com | G34: &startdatetime= | H34: =VLOOKUP(A34,'Dates to search'!A:C,2,FALSE) -> 43954 | I34: &enddatetime= | J34: =VLOOKUP(A34,'Dates to search'!A:C,3,FALSE) -> 43955 | K34: &mode=artlist&maxrecords=250&sort=datedesc&format=csv', | L34: =CONCATENATE(C34,D34,E34,F34,G34,TEXT(H34,"yyyymmddhhmmss"),I34,TEXT(J34,"yyyymmddhhmmss"),K34) -> 'https://api.gdeltproject.org/api/v2/doc/doc?query=("Donald Trump" OR "President Trump") domainis:CNN.com&startdatetime=20200503000000&enddatetime=20200504000000&mode=artlist&maxrecords=250&sort=datedesc&format=csv',
A35: ='Dates to search'!$A$5 -> 43955 | B35: CNN | C35: 'https://api.gdeltproject.org/api/v2/doc/doc?query= | D35: ='Search terms'!$A$2 -> ("Donald Trump" OR "President Trump") | E35: domainis: | F35: =VLOOKUP(B35,'Sources to search'!A:B,2,FALSE) -> CNN.com | G35: &startdatetime= | H35: =VLOOKUP(A35,'Dates to search'!A:C,2,FALSE) -> 43955 | I35: &enddatetime= | J35: =VLOOKUP(A35,'Dates to search'!A:C,3,FALSE) -> 43956 | K35: &mode=artlist&maxrecords=250&sort=datedesc&format=csv', | L35: =CONCATENATE(C35,D35,E35,F35,G35,TEXT(H35,"yyyymmddhhmmss"),I35,TEXT(J35,"yyyymmddhhmmss"),K35) -> 'https://api.gdeltproject.org/api/v2/doc/doc?query=("Donald Trump" OR "President Trump") domainis:CNN.com&startdatetime=20200504000000&enddatetime=20200505000000&mode=artlist&maxrecords=250&sort=datedesc&format=csv',
A36: ='Dates to search'!$A$6 -> 43956 | B36: CNN | C36: 'https://api.gdeltproject.org/api/v2/doc/doc?query= | D36: ='Search terms'!$A$2 -> ("Donald Trump" OR "President Trump") | E36: domainis: | F36: =VLOOKUP(B36,'Sources to search'!A:B,2,FALSE) -> CNN.com | G36: &startdatetime= | H36: =VLOOKUP(A36,'Dates to search'!A:C,2,FALSE) -> 43956 | I36: &enddatetime= | J36: =VLOOKUP(A36,'Dates to search'!A:C,3,FALSE) -> 43957 | K36: &mode=artlist&maxrecords=250&sort=datedesc&format=csv', | L36: =CONCATENATE(C36,D36,E36,F36,G36,TEXT(H36,"yyyymmddhhmmss"),I36,TEXT(J36,"yyyymmddhhmmss"),K36) -> 'https://api.gdeltproject.org/api/v2/doc/doc?query=("Donald Trump" OR "President Trump") domainis:CNN.com&startdatetime=20200505000000&enddatetime=20200506000000&mode=artlist&maxrecords=250&sort=datedesc&format=csv',
A37: ='Dates to search'!$A$7 -> 43957 | B37: CNN | C37: 'https://api.gdeltproject.org/api/v2/doc/doc?query= | D37: ='Search terms'!$A$2 -> ("Donald Trump" OR "President Trump") | E37: domainis: | F37: =VLOOKUP(B37,'Sources to search'!A:B,2,FALSE) -> CNN.com | G37: &startdatetime= | H37: =VLOOKUP(A37,'Dates to search'!A:C,2,FALSE) -> 43957 | I37: &enddatetime= | J37: =VLOOKUP(A37,'Dates to search'!A:C,3,FALSE) -> 43958 | K37: &mode=artlist&maxrecords=250&sort=datedesc&format=csv', | L37: =CONCATENATE(C37,D37,E37,F37,G37,TEXT(H37,"yyyymmddhhmmss"),I37,TEXT(J37,"yyyymmddhhmmss"),K37) -> 'https://api.gdeltproject.org/api/v2/doc/doc?query=("Donald Trump" OR "President Trump") domainis:CNN.com&startdatetime=20200506000000&enddatetime=20200507000000&mode=artlist&maxrecords=250&sort=datedesc&format=csv',
A38: ='Dates to search'!$A$8 -> 43958 | B38: CNN | C38: 'https://api.gdeltproject.org/api/v2/doc/doc?query= | D38: ='Search terms'!$A$2 -> ("Donald Trump" OR "President Trump") | E38: domainis: | F38: =VLOOKUP(B38,'Sources to search'!A:B,2,FALSE) -> CNN.com | G38: &startdatetime= | H38: =VLOOKUP(A38,'Dates to search'!A:C,2,FALSE) -> 43958 | I38: &enddatetime= | J38: =VLOOKUP(A38,'Dates to search'!A:C,3,FALSE) -> 43959 | K38: &mode=artlist&maxrecords=250&sort=datedesc&format=csv', | L38: =CONCATENATE(C38,D38,E38,F38,G38,TEXT(H38,"yyyymmddhhmmss"),I38,TEXT(J38,"yyyymmddhhmmss"),K38) -> 'https://api.gdeltproject.org/api/v2/doc/doc?query=("Donald Trump" OR "President Trump") domainis:CNN.com&startdatetime=20200507000000&enddatetime=20200508000000&mode=artlist&maxrecords=250&sort=datedesc&format=csv',
A39: ='Dates to search'!$A$9 -> 43959 | B39: CNN | C39: 'https://api.gdeltproject.org/api/v2/doc/doc?query= | D39: ='Search terms'!$A$2 -> ("Donald Trump" OR "President Trump") | E39: domainis: | F39: =VLOOKUP(B39,'Sources to search'!A:B,2,FALSE) -> CNN.com | G39: &startdatetime= | H39: =VLOOKUP(A39,'Dates to search'!A:C,2,FALSE) -> 43959 | I39: &enddatetime= | J39: =VLOOKUP(A39,'Dates to search'!A:C,3,FALSE) -> 43960 | K39: &mode=artlist&maxrecords=250&sort=datedesc&format=csv', | L39: =CONCATENATE(C39,D39,E39,F39,G39,TEXT(H39,"yyyymmddhhmmss"),I39,TEXT(J39,"yyyymmddhhmmss"),K39) -> 'https://api.gdeltproject.org/api/v2/doc/doc?query=("Donald Trump" OR "President Trump") domainis:CNN.com&startdatetime=20200508000000&enddatetime=20200509000000&mode=artlist&maxrecords=250&sort=datedesc&format=csv',
A40: ='Dates to search'!$A$10 -> 43960 | B40: CNN | C40: 'https://api.gdeltproject.org/api/v2/doc/doc?query= | D40: ='Search terms'!$A$2 -> ("Donald Trump" OR "President Trump") | E40: domainis: | F40: =VLOOKUP(B40,'Sources to search'!A:B,2,FALSE) -> CNN.com | G40: &startdatetime= | H40: =VLOOKUP(A40,'Dates to search'!A:C,2,FALSE) -> 43960 | I40: &enddatetime= | J40: =VLOOKUP(A40,'Dates to search'!A:C,3,FALSE) -> 43961 | K40: &mode=artlist&maxrecords=250&sort=datedesc&format=csv', | L40: =CONCATENATE(C40,D40,E40,F40,G40,TEXT(H40,"yyyymmddhhmmss"),I40,TEXT(J40,"yyyymmddhhmmss"),K40) -> 'https://api.gdeltproject.org/api/v2/doc/doc?query=("Donald Trump" OR "President Trump") domainis:CNN.com&startdatetime=20200509000000&enddatetime=20200510000000&mode=artlist&maxrecords=250&sort=datedesc&format=csv',
A41: ='Dates to search'!$A$11 -> 43961 | B41: CNN | C41: 'https://api.gdeltproject.org/api/v2/doc/doc?query= | D41: ='Search terms'!$A$2 -> ("Donald Trump" OR "President Trump") | E41: domainis: | F41: =VLOOKUP(B41,'Sources to search'!A:B,2,FALSE) -> CNN.com | G41: &startdatetime= | H41: =VLOOKUP(A41,'Dates to search'!A:C,2,FALSE) -> 43961 | I41: &enddatetime= | J41: =VLOOKUP(A41,'Dates to search'!A:C,3,FALSE) -> 43962 | K41: &mode=artlist&maxrecords=250&sort=datedesc&format=csv', | L41: =CONCATENATE(C41,D41,E41,F41,G41,TEXT(H41,"yyyymmddhhmmss"),I41,TEXT(J41,"yyyymmddhhmmss"),K41) -> 'https://api.gdeltproject.org/api/v2/doc/doc?query=("Donald Trump" OR "President Trump") domainis:CNN.com&startdatetime=20200510000000&enddatetime=20200511000000&mode=artlist&maxrecords=250&sort=datedesc&format=csv',
A42: ='Dates to search'!$A$12 -> 43962 | B42: CNN | C42: 'https://api.gdeltproject.org/api/v2/doc/doc?query= | D42: ='Search terms'!$A$2 -> ("Donald Trump" OR "President Trump") | E42: domainis: | F42: =VLOOKUP(B42,'Sources to search'!A:B,2,FALSE) -> CNN.com | G42: &startdatetime= | H42: =VLOOKUP(A42,'Dates to search'!A:C,2,FALSE) -> 43962 | I42: &enddatetime= | J42: =VLOOKUP(A42,'Dates to search'!A:C,3,FALSE) -> 43963 | K42: &mode=artlist&maxrecords=250&sort=datedesc&format=csv', | L42: =CONCATENATE(C42,D42,E42,F42,G42,TEXT(H42,"yyyymmddhhmmss"),I42,TEXT(J42,"yyyymmddhhmmss"),K42) -> 'https://api.gdeltproject.org/api/v2/doc/doc?query=("Donald Trump" OR "President Trump") domainis:CNN.com&startdatetime=20200511000000&enddatetime=20200512000000&mode=artlist&maxrecords=250&sort=datedesc&format=csv',
A43: ='Dates to search'!$A$13 -> 43963 | B43: CNN | C43: 'https://api.gdeltproject.org/api/v2/doc/doc?query= | D43: ='Search terms'!$A$2 -> ("Donald Trump" OR "President Trump") | E43: domainis: | F43: =VLOOKUP(B43,'Sources to search'!A:B,2,FALSE) -> CNN.com | G43: &startdatetime= | H43: =VLOOKUP(A43,'Dates to search'!A:C,2,FALSE) -> 43963 | I43: &enddatetime= | J43: =VLOOKUP(A43,'Dates to search'!A:C,3,FALSE) -> 43964 | K43: &mode=artlist&maxrecords=250&sort=datedesc&format=csv', | L43: =CONCATENATE(C43,D43,E43,F43,G43,TEXT(H43,"yyyymmddhhmmss"),I43,TEXT(J43,"yyyymmddhhmmss"),K43) -> 'https://api.gdeltproject.org/api/v2/doc/doc?query=("Donald Trump" OR "President Trump") domainis:CNN.com&startdatetime=20200512000000&enddatetime=20200513000000&mode=artlist&maxrecords=250&sort=datedesc&format=csv',
A44: ='Dates to search'!$A$14 -> 43964 | B44: CNN | C44: 'https://api.gdeltproject.org/api/v2/doc/doc?query= | D44: ='Search terms'!$A$2 -> ("Donald Trump" OR "President Trump") | E44: domainis: | F44: =VLOOKUP(B44,'Sources to search'!A:B,2,FALSE) -> CNN.com | G44: &startdatetime= | H44: =VLOOKUP(A44,'Dates to search'!A:C,2,FALSE) -> 43964 | I44: &enddatetime= | J44: =VLOOKUP(A44,'Dates to search'!A:C,3,FALSE) -> 43965 | K44: &mode=artlist&maxrecords=250&sort=datedesc&format=csv', | L44: =CONCATENATE(C44,D44,E44,F44,G44,TEXT(H44,"yyyymmddhhmmss"),I44,TEXT(J44,"yyyymmddhhmmss"),K44) -> 'https://api.gdeltproject.org/api/v2/doc/doc?query=("Donald Trump" OR "President Trump") domainis:CNN.com&startdatetime=20200513000000&enddatetime=20200514000000&mode=artlist&maxrecords=250&sort=datedesc&format=csv',
A45: ='Dates to search'!$A$15 -> 43965 | B45: CNN | C45: 'https://api.gdeltproject.org/api/v2/doc/doc?query= | D45: ='Search terms'!$A$2 -> ("Donald Trump" OR "President Trump") | E45: domainis: | F45: =VLOOKUP(B45,'Sources to search'!A:B,2,FALSE) -> CNN.com | G45: &startdatetime= | H45: =VLOOKUP(A45,'Dates to search'!A:C,2,FALSE) -> 43965 | I45: &enddatetime= | J45: =VLOOKUP(A45,'Dates to search'!A:C,3,FALSE) -> 43966 | K45: &mode=artlist&maxrecords=250&sort=datedesc&format=csv', | L45: =CONCATENATE(C45,D45,E45,F45,G45,TEXT(H45,"yyyymmddhhmmss"),I45,TEXT(J45,"yyyymmddhhmmss"),K45) -> 'https://api.gdeltproject.org/api/v2/doc/doc?query=("Donald Trump" OR "President Trump") domainis:CNN.com&startdatetime=20200514000000&enddatetime=20200515000000&mode=artlist&maxrecords=250&sort=datedesc&format=csv',
A46: ='Dates to search'!$A$16 -> 43966 | B46: CNN | C46: 'https://api.gdeltproject.org/api/v2/doc/doc?query= | D46: ='Search terms'!$A$2 -> ("Donald Trump" OR "President Trump") | E46: domainis: | F46: =VLOOKUP(B46,'Sources to search'!A:B,2,FALSE) -> CNN.com | G46: &startdatetime= | H46: =VLOOKUP(A46,'Dates to search'!A:C,2,FALSE) -> 43966 | I46: &enddatetime= | J46: =VLOOKUP(A46,'Dates to search'!A:C,3,FALSE) -> 43967 | K46: &mode=artlist&maxrecords=250&sort=datedesc&format=csv', | L46: =CONCATENATE(C46,D46,E46,F46,G46,TEXT(H46,"yyyymmddhhmmss"),I46,TEXT(J46,"yyyymmddhhmmss"),K46) -> 'https://api.gdeltproject.org/api/v2/doc/doc?query=("Donald Trump" OR "President Trump") domainis:CNN.com&startdatetime=20200515000000&enddatetime=20200516000000&mode=artlist&maxrecords=250&sort=datedesc&format=csv',
A47: ='Dates to search'!$A$17 -> 43967 | B47: CNN | C47: 'https://api.gdeltproject.org/api/v2/doc/doc?query= | D47: ='Search terms'!$A$2 -> ("Donald Trump" OR "President Trump") | E47: domainis: | F47: =VLOOKUP(B47,'Sources to search'!A:B,2,FALSE) -> CNN.com | G47: &startdatetime= | H47: =VLOOKUP(A47,'Dates to search'!A:C,2,FALSE) -> 43967 | I47: &enddatetime= | J47: =VLOOKUP(A47,'Dates to search'!A:C,3,FALSE) -> 43968 | K47: &mode=artlist&maxrecords=250&sort=datedesc&format=csv', | L47: =CONCATENATE(C47,D47,E47,F47,G47,TEXT(H47,"yyyymmddhhmmss"),I47,TEXT(J47,"yyyymmddhhmmss"),K47) -> 'https://api.gdeltproject.org/api/v2/doc/doc?query=("Donald Trump" OR "President Trump") domainis:CNN.com&startdatetime=20200516000000&enddatetime=20200517000000&mode=artlist&maxrecords=250&sort=datedesc&format=csv',
A48: ='Dates to search'!$A$18 -> 43968 | B48: CNN | C48: 'https://api.gdeltproject.org/api/v2/doc/doc?query= | D48: ='Search terms'!$A$2 -> ("Donald Trump" OR "President Trump") | E48: domainis: | F48: =VLOOKUP(B48,'Sources to search'!A:B,2,FALSE) -> CNN.com | G48: &startdatetime= | H48: =VLOOKUP(A48,'Dates to search'!A:C,2,FALSE) -> 43968 | I48: &enddatetime= | J48: =VLOOKUP(A48,'Dates to search'!A:C,3,FALSE) -> 43969 | K48: &mode=artlist&maxrecords=250&sort=datedesc&format=csv', | L48: =CONCATENATE(C48,D48,E48,F48,G48,TEXT(H48,"yyyymmddhhmmss"),I48,TEXT(J48,"yyyymmddhhmmss"),K48) -> 'https://api.gdeltproject.org/api/v2/doc/doc?query=("Donald Trump" OR "President Trump") domainis:CNN.com&startdatetime=20200517000000&enddatetime=20200518000000&mode=artlist&maxrecords=250&sort=datedesc&format=csv',
A49: ='Dates to search'!$A$19 -> 43969 | B49: CNN | C49: 'https://api.gdeltproject.org/api/v2/doc/doc?query= | D49: ='Search terms'!$A$2 -> ("Donald Trump" OR "President Trump") | E49: domainis: | F49: =VLOOKUP(B49,'Sources to search'!A:B,2,FALSE) -> CNN.com | G49: &startdatetime= | H49: =VLOOKUP(A49,'Dates to search'!A:C,2,FALSE) -> 43969 | I49: &enddatetime= | J49: =VLOOKUP(A49,'Dates to search'!A:C,3,FALSE) -> 43970 | K49: &mode=artlist&maxrecords=250&sort=datedesc&format=csv', | L49: =CONCATENATE(C49,D49,E49,F49,G49,TEXT(H49,"yyyymmddhhmmss"),I49,TEXT(J49,"yyyymmddhhmmss"),K49) -> 'https://api.gdeltproject.org/api/v2/doc/doc?query=("Donald Trump" OR "President Trump") domainis:CNN.com&startdatetime=20200518000000&enddatetime=20200519000000&mode=artlist&maxrecords=250&sort=datedesc&format=csv',
A50: ='Dates to search'!$A$20 -> 43970 | B50: CNN | C50: 'https://api.gdeltproject.org/api/v2/doc/doc?query= | D50: ='Search terms'!$A$2 -> ("Donald Trump" OR "President Trump") | E50: domainis: | F50: =VLOOKUP(B50,'Sources to search'!A:B,2,FALSE) -> CNN.com | G50: &startdatetime= | H50: =VLOOKUP(A50,'Dates to search'!A:C,2,FALSE) -> 43970 | I50: &enddatetime= | J50: =VLOOKUP(A50,'Dates to search'!A:C,3,FALSE) -> 43971 | K50: &mode=artlist&maxrecords=250&sort=datedesc&format=csv', | L50: =CONCATENATE(C50,D50,E50,F50,G50,TEXT(H50,"yyyymmddhhmmss"),I50,TEXT(J50,"yyyymmddhhmmss"),K50) -> 'https://api.gdeltproject.org/api/v2/doc/doc?query=("Donald Trump" OR "President Trump") domainis:CNN.com&startdatetime=20200519000000&enddatetime=20200520000000&mode=artlist&maxrecords=250&sort=datedesc&format=csv',
A51: ='Dates to search'!$A$21 -> 43971 | B51: CNN | C51: 'https://api.gdeltproject.org/api/v2/doc/doc?query= | D51: ='Search terms'!$A$2 -> ("Donald Trump" OR "President Trump") | E51: domainis: | F51: =VLOOKUP(B51,'Sources to search'!A:B,2,FALSE) -> CNN.com | G51: &startdatetime= | H51: =VLOOKUP(A51,'Dates to search'!A:C,2,FALSE) -> 43971 | I51: &enddatetime= | J51: =VLOOKUP(A51,'Dates to search'!A:C,3,FALSE) -> 43972 | K51: &mode=artlist&maxrecords=250&sort=datedesc&format=csv', | L51: =CONCATENATE(C51,D51,E51,F51,G51,TEXT(H51,"yyyymmddhhmmss"),I51,TEXT(J51,"yyyymmddhhmmss"),K51) -> 'https://api.gdeltproject.org/api/v2/doc/doc?query=("Donald Trump" OR "President Trump") domainis:CNN.com&startdatetime=20200520000000&enddatetime=20200521000000&mode=artlist&maxrecords=250&sort=datedesc&format=csv',
A52: ='Dates to search'!$A$22 -> 43972 | B52: CNN | C52: 'https://api.gdeltproject.org/api/v2/doc/doc?query= | D52: ='Search terms'!$A$2 -> ("Donald Trump" OR "President Trump") | E52: domainis: | F52: =VLOOKUP(B52,'Sources to search'!A:B,2,FALSE) -> CNN.com | G52: &startdatetime= | H52: =VLOOKUP(A52,'Dates to search'!A:C,2,FALSE) -> 43972 | I52: &enddatetime= | J52: =VLOOKUP(A52,'Dates to search'!A:C,3,FALSE) -> 43973 | K52: &mode=artlist&maxrecords=250&sort=datedesc&format=csv', | L52: =CONCATENATE(C52,D52,E52,F52,G52,TEXT(H52,"yyyymmddhhmmss"),I52,TEXT(J52,"yyyymmddhhmmss"),K52) -> 'https://api.gdeltproject.org/api/v2/doc/doc?query=("Donald Trump" OR "President Trump") domainis:CNN.com&startdatetime=20200521000000&enddatetime=20200522000000&mode=artlist&maxrecords=250&sort=datedesc&format=csv',
A53: ='Dates to search'!$A$23 -> 43973 | B53: CNN | C53: 'https://api.gdeltproject.org/api/v2/doc/doc?query= | D53: ='Search terms'!$A$2 -> ("Donald Trump" OR "President Trump") | E53: domainis: | F53: =VLOOKUP(B53,'Sources to search'!A:B,2,FALSE) -> CNN.com | G53: &startdatetime= | H53: =VLOOKUP(A53,'Dates to search'!A:C,2,FALSE) -> 43973 | I53: &enddatetime= | J53: =VLOOKUP(A53,'Dates to search'!A:C,3,FALSE) -> 43974 | K53: &mode=artlist&maxrecords=250&sort=datedesc&format=csv', | L53: =CONCATENATE(C53,D53,E53,F53,G53,TEXT(H53,"yyyymmddhhmmss"),I53,TEXT(J53,"yyyymmddhhmmss"),K53) -> 'https://api.gdeltproject.org/api/v2/doc/doc?query=("Donald Trump" OR "President Trump") domainis:CNN.com&startdatetime=20200522000000&enddatetime=20200523000000&mode=artlist&maxrecords=250&sort=datedesc&format=csv',
A54: ='Dates to search'!$A$24 -> 43974 | B54: CNN | C54: 'https://api.gdeltproject.org/api/v2/doc/doc?query= | D54: ='Search terms'!$A$2 -> ("Donald Trump" OR "President Trump") | E54: domainis: | F54: =VLOOKUP(B54,'Sources to search'!A:B,2,FALSE) -> CNN.com | G54: &startdatetime= | H54: =VLOOKUP(A54,'Dates to search'!A:C,2,FALSE) -> 43974 | I54: &enddatetime= | J54: =VLOOKUP(A54,'Dates to search'!A:C,3,FALSE) -> 43975 | K54: &mode=artlist&maxrecords=250&sort=datedesc&format=csv', | L54: =CONCATENATE(C54,D54,E54,F54,G54,TEXT(H54,"yyyymmddhhmmss"),I54,TEXT(J54,"yyyymmddhhmmss"),K54) -> 'https://api.gdeltproject.org/api/v2/doc/doc?query=("Donald Trump" OR "President Trump") domainis:CNN.com&startdatetime=20200523000000&enddatetime=20200524000000&mode=artlist&maxrecords=250&sort=datedesc&format=csv',
A55: ='Dates to search'!$A$25 -> 43975 | B55: CNN | C55: 'https://api.gdeltproject.org/api/v2/doc/doc?query= | D55: ='Search terms'!$A$2 -> ("Donald Trump" OR "President Trump") | E55: domainis: | F55: =VLOOKUP(B55,'Sources to search'!A:B,2,FALSE) -> CNN.com | G55: &startdatetime= | H55: =VLOOKUP(A55,'Dates to search'!A:C,2,FALSE) -> 43975 | I55: &enddatetime= | J55: =VLOOKUP(A55,'Dates to search'!A:C,3,FALSE) -> 43976 | K55: &mode=artlist&maxrecords=250&sort=datedesc&format=csv', | L55: =CONCATENATE(C55,D55,E55,F55,G55,TEXT(H55,"yyyymmddhhmmss"),I55,TEXT(J55,"yyyymmddhhmmss"),K55) -> 'https://api.gdeltproject.org/api/v2/doc/doc?query=("Donald Trump" OR "President Trump") domainis:CNN.com&startdatetime=20200524000000&enddatetime=20200525000000&mode=artlist&maxrecords=250&sort=datedesc&format=csv',
A56: ='Dates to search'!$A$26 -> 43976 | B56: CNN | C56: 'https://api.gdeltproject.org/api/v2/doc/doc?query= | D56: ='Search terms'!$A$2 -> ("Donald Trump" OR "President Trump") | E56: domainis: | F56: =VLOOKUP(B56,'Sources to search'!A:B,2,FALSE) -> CNN.com | G56: &startdatetime= | H56: =VLOOKUP(A56,'Dates to search'!A:C,2,FALSE) -> 43976 | I56: &enddatetime= | J56: =VLOOKUP(A56,'Dates to search'!A:C,3,FALSE) -> 43977 | K56: &mode=artlist&maxrecords=250&sort=datedesc&format=csv', | L56: =CONCATENATE(C56,D56,E56,F56,G56,TEXT(H56,"yyyymmddhhmmss"),I56,TEXT(J56,"yyyymmddhhmmss"),K56) -> 'https://api.gdeltproject.org/api/v2/doc/doc?query=("Donald Trump" OR "President Trump") domainis:CNN.com&startdatetime=20200525000000&enddatetime=20200526000000&mode=artlist&maxrecords=250&sort=datedesc&format=csv',
A57: ='Dates to search'!$A$27 -> 43977 | B57: CNN | C57: 'https://api.gdeltproject.org/api/v2/doc/doc?query= | D57: ='Search terms'!$A$2 -> ("Donald Trump" OR "President Trump") | E57: domainis: | F57: =VLOOKUP(B57,'Sources to search'!A:B,2,FALSE) -> CNN.com | G57: &startdatetime= | H57: =VLOOKUP(A57,'Dates to search'!A:C,2,FALSE) -> 43977 | I57: &enddatetime= | J57: =VLOOKUP(A57,'Dates to search'!A:C,3,FALSE) -> 43978 | K57: &mode=artlist&maxrecords=250&sort=datedesc&format=csv', | L57: =CONCATENATE(C57,D57,E57,F57,G57,TEXT(H57,"yyyymmddhhmmss"),I57,TEXT(J57,"yyyymmddhhmmss"),K57) -> 'https://api.gdeltproject.org/api/v2/doc/doc?query=("Donald Trump" OR "President Trump") domainis:CNN.com&startdatetime=20200526000000&enddatetime=20200527000000&mode=artlist&maxrecords=250&sort=datedesc&format=csv',
A58: ='Dates to search'!$A$28 -> 43978 | B58: CNN | C58: 'https://api.gdeltproject.org/api/v2/doc/doc?query= | D58: ='Search terms'!$A$2 -> ("Donald Trump" OR "President Trump") | E58: domainis: | F58: =VLOOKUP(B58,'Sources to search'!A:B,2,FALSE) -> CNN.com | G58: &startdatetime= | H58: =VLOOKUP(A58,'Dates to search'!A:C,2,FALSE) -> 43978 | I58: &enddatetime= | J58: =VLOOKUP(A58,'Dates to search'!A:C,3,FALSE) -> 43979 | K58: &mode=artlist&maxrecords=250&sort=datedesc&format=csv', | L58: =CONCATENATE(C58,D58,E58,F58,G58,TEXT(H58,"yyyymmddhhmmss"),I58,TEXT(J58,"yyyymmddhhmmss"),K58) -> 'https://api.gdeltproject.org/api/v2/doc/doc?query=("Donald Trump" OR "President Trump") domainis:CNN.com&startdatetime=20200527000000&enddatetime=20200528000000&mode=artlist&maxrecords=250&sort=datedesc&format=csv',
A59: ='Dates to search'!$A$29 -> 43979 | B59: CNN | C59: 'https://api.gdeltproject.org/api/v2/doc/doc?query= | D59: ='Search terms'!$A$2 -> ("Donald Trump" OR "President Trump") | E59: domainis: | F59: =VLOOKUP(B59,'Sources to search'!A:B,2,FALSE) -> CNN.com | G59: &startdatetime= | H59: =VLOOKUP(A59,'Dates to search'!A:C,2,FALSE) -> 43979 | I59: &enddatetime= | J59: =VLOOKUP(A59,'Dates to search'!A:C,3,FALSE) -> 43980 | K59: &mode=artlist&maxrecords=250&sort=datedesc&format=csv', | L59: =CONCATENATE(C59,D59,E59,F59,G59,TEXT(H59,"yyyymmddhhmmss"),I59,TEXT(J59,"yyyymmddhhmmss"),K59) -> 'https://api.gdeltproject.org/api/v2/doc/doc?query=("Donald Trump" OR "President Trump") domainis:CNN.com&startdatetime=20200528000000&enddatetime=20200529000000&mode=artlist&maxrecords=250&sort=datedesc&format=csv',
A60: ='Dates to search'!$A$30 -> 43980 | B60: CNN | C60: 'https://api.gdeltproject.org/api/v2/doc/doc?query= | D60: ='Search terms'!$A$2 -> ("Donald Trump" OR "President Trump") | E60: domainis: | F60: =VLOOKUP(B60,'Sources to search'!A:B,2,FALSE) -> CNN.com | G60: &startdatetime= | H60: =VLOOKUP(A60,'Dates to search'!A:C,2,FALSE) -> 43980 | I60: &enddatetime= | J60: =VLOOKUP(A60,'Dates to search'!A:C,3,FALSE) -> 43981 | K60: &mode=artlist&maxrecords=250&sort=datedesc&format=csv', | L60: =CONCATENATE(C60,D60,E60,F60,G60,TEXT(H60,"yyyymmddhhmmss"),I60,TEXT(J60,"yyyymmddhhmmss"),K60) -> 'https://api.gdeltproject.org/api/v2/doc/doc?query=("Donald Trump" OR "President Trump") domainis:CNN.com&startdatetime=20200529000000&enddatetime=20200530000000&mode=artlist&maxrecords=250&sort=datedesc&format=csv',
A61: ='Dates to search'!$A$31 -> 43981 | B61: CNN | C61: 'https://api.gdeltproject.org/api/v2/doc/doc?query= | D61: ='Search terms'!$A$2 -> ("Donald Trump" OR "President Trump") | E61: domainis: | F61: =VLOOKUP(B61,'Sources to search'!A:B,2,FALSE) -> CNN.com | G61: &startdatetime= | H61: =VLOOKUP(A61,'Dates to search'!A:C,2,FALSE) -> 43981 | I61: &enddatetime= | J61: =VLOOKUP(A61,'Dates to search'!A:C,3,FALSE) -> 43982 | K61: &mode=artlist&maxrecords=250&sort=datedesc&format=csv', | L61: =CONCATENATE(C61,D61,E61,F61,G61,TEXT(H61,"yyyymmddhhmmss"),I61,TEXT(J61,"yyyymmddhhmmss"),K61) -> 'https://api.gdeltproject.org/api/v2/doc/doc?query=("Donald Trump" OR "President Trump") domainis:CNN.com&startdatetime=20200530000000&enddatetime=20200531000000&mode=artlist&maxrecords=250&sort=datedesc&format=csv',
A62: ='Dates to search'!$A$2 -> 43952 | B62: FoxNews | C62: 'https://api.gdeltproject.org/api/v2/doc/doc?query= | D62: ='Search terms'!$A$2 -> ("Donald Trump" OR "President Trump") | E62: domainis: | F62: =VLOOKUP(B62,'Sources to search'!A:B,2,FALSE) -> foxnews.com | G62: &startdatetime= | H62: =VLOOKUP(A62,'Dates to search'!A:C,2,FALSE) -> 43952 | I62: &enddatetime= | J62: =VLOOKUP(A62,'Dates to search'!A:C,3,FALSE) -> 43953 | K62: &mode=artlist&maxrecords=250&sort=datedesc&format=csv', | L62: =CONCATENATE(C62,D62,E62,F62,G62,TEXT(H62,"yyyymmddhhmmss"),I62,TEXT(J62,"yyyymmddhhmmss"),K62) -> 'https://api.gdeltproject.org/api/v2/doc/doc?query=("Donald Trump" OR "President Trump") domainis:foxnews.com&startdatetime=20200501000000&enddatetime=20200502000000&mode=artlist&maxrecords=250&sort=datedesc&format=csv',
A63: ='Dates to search'!$A$3 -> 43953 | B63: FoxNews | C63: 'https://api.gdeltproject.org/api/v2/doc/doc?query= | D63: ='Search terms'!$A$2 -> ("Donald Trump" OR "President Trump") | E63: domainis: | F63: =VLOOKUP(B63,'Sources to search'!A:B,2,FALSE) -> foxnews.com | G63: &startdatetime= | H63: =VLOOKUP(A63,'Dates to search'!A:C,2,FALSE) -> 43953 | I63: &enddatetime= | J63: =VLOOKUP(A63,'Dates to search'!A:C,3,FALSE) -> 43954 | K63: &mode=artlist&maxrecords=250&sort=datedesc&format=csv', | L63: =CONCATENATE(C63,D63,E63,F63,G63,TEXT(H63,"yyyymmddhhmmss"),I63,TEXT(J63,"yyyymmddhhmmss"),K63) -> 'https://api.gdeltproject.org/api/v2/doc/doc?query=("Donald Trump" OR "President Trump") domainis:foxnews.com&startdatetime=20200502000000&enddatetime=20200503000000&mode=artlist&maxrecords=250&sort=datedesc&format=csv',
A64: ='Dates to search'!$A$4 -> 43954 | B64: FoxNews | C64: 'https://api.gdeltproject.org/api/v2/doc/doc?query= | D64: ='Search terms'!$A$2 -> ("Donald Trump" OR "President Trump") | E64: domainis: | F64: =VLOOKUP(B64,'Sources to search'!A:B,2,FALSE) -> foxnews.com | G64: &startdatetime= | H64: =VLOOKUP(A64,'Dates to search'!A:C,2,FALSE) -> 43954 | I64: &enddatetime= | J64: =VLOOKUP(A64,'Dates to search'!A:C,3,FALSE) -> 43955 | K64: &mode=artlist&maxrecords=250&sort=datedesc&format=csv', | L64: =CONCATENATE(C64,D64,E64,F64,G64,TEXT(H64,"yyyymmddhhmmss"),I64,TEXT(J64,"yyyymmddhhmmss"),K64) -> 'https://api.gdeltproject.org/api/v2/doc/doc?query=("Donald Trump" OR "President Trump") domainis:foxnews.com&startdatetime=20200503000000&enddatetime=20200504000000&mode=artlist&maxrecords=250&sort=datedesc&format=csv',
A65: ='Dates to search'!$A$5 -> 43955 | B65: FoxNews | C65: 'https://api.gdeltproject.org/api/v2/doc/doc?query= | D65: ='Search terms'!$A$2 -> ("Donald Trump" OR "President Trump") | E65: domainis: | F65: =VLOOKUP(B65,'Sources to search'!A:B,2,FALSE) -> foxnews.com | G65: &startdatetime= | H65: =VLOOKUP(A65,'Dates to search'!A:C,2,FALSE) -> 43955 | I65: &enddatetime= | J65: =VLOOKUP(A65,'Dates to search'!A:C,3,FALSE) -> 43956 | K65: &mode=artlist&maxrecords=250&sort=datedesc&format=csv', | L65: =CONCATENATE(C65,D65,E65,F65,G65,TEXT(H65,"yyyymmddhhmmss"),I65,TEXT(J65,"yyyymmddhhmmss"),K65) -> 'https://api.gdeltproject.org/api/v2/doc/doc?query=("Donald Trump" OR "President Trump") domainis:foxnews.com&startdatetime=20200504000000&enddatetime=20200505000000&mode=artlist&maxrecords=250&sort=datedesc&format=csv',
A66: ='Dates to search'!$A$6 -> 43956 | B66: FoxNews | C66: 'https://api.gdeltproject.org/api/v2/doc/doc?query= | D66: ='Search terms'!$A$2 -> ("Donald Trump" OR "President Trump") | E66: domainis: | F66: =VLOOKUP(B66,'Sources to search'!A:B,2,FALSE) -> foxnews.com | G66: &startdatetime= | H66: =VLOOKUP(A66,'Dates to search'!A:C,2,FALSE) -> 43956 | I66: &enddatetime= | J66: =VLOOKUP(A66,'Dates to search'!A:C,3,FALSE) -> 43957 | K66: &mode=artlist&maxrecords=250&sort=datedesc&format=csv', | L66: =CONCATENATE(C66,D66,E66,F66,G66,TEXT(H66,"yyyymmddhhmmss"),I66,TEXT(J66,"yyyymmddhhmmss"),K66) -> 'https://api.gdeltproject.org/api/v2/doc/doc?query=("Donald Trump" OR "President Trump") domainis:foxnews.com&startdatetime=20200505000000&enddatetime=20200506000000&mode=artlist&maxrecords=250&sort=datedesc&format=csv',
A67: ='Dates to search'!$A$7 -> 43957 | B67: FoxNews | C67: 'https://api.gdeltproject.org/api/v2/doc/doc?query= | D67: ='Search terms'!$A$2 -> ("Donald Trump" OR "President Trump") | E67: domainis: | F67: =VLOOKUP(B67,'Sources to search'!A:B,2,FALSE) -> foxnews.com | G67: &startdatetime= | H67: =VLOOKUP(A67,'Dates to search'!A:C,2,FALSE) -> 43957 | I67: &enddatetime= | J67: =VLOOKUP(A67,'Dates to search'!A:C,3,FALSE) -> 43958 | K67: &mode=artlist&maxrecords=250&sort=datedesc&format=csv', | L67: =CONCATENATE(C67,D67,E67,F67,G67,TEXT(H67,"yyyymmddhhmmss"),I67,TEXT(J67,"yyyymmddhhmmss"),K67) -> 'https://api.gdeltproject.org/api/v2/doc/doc?query=("Donald Trump" OR "President Trump") domainis:foxnews.com&startdatetime=20200506000000&enddatetime=20200507000000&mode=artlist&maxrecords=250&sort=datedesc&format=csv',
A68: ='Dates to search'!$A$8 -> 43958 | B68: FoxNews | C68: 'https://api.gdeltproject.org/api/v2/doc/doc?query= | D68: ='Search terms'!$A$2 -> ("Donald Trump" OR "President Trump") | E68: domainis: | F68: =VLOOKUP(B68,'Sources to search'!A:B,2,FALSE) -> foxnews.com | G68: &startdatetime= | H68: =VLOOKUP(A68,'Dates to search'!A:C,2,FALSE) -> 43958 | I68: &enddatetime= | J68: =VLOOKUP(A68,'Dates to search'!A:C,3,FALSE) -> 43959 | K68: &mode=artlist&maxrecords=250&sort=datedesc&format=csv', | L68: =CONCATENATE(C68,D68,E68,F68,G68,TEXT(H68,"yyyymmddhhmmss"),I68,TEXT(J68,"yyyymmddhhmmss"),K68) -> 'https://api.gdeltproject.org/api/v2/doc/doc?query=("Donald Trump" OR "President Trump") domainis:foxnews.com&startdatetime=20200507000000&enddatetime=20200508000000&mode=artlist&maxrecords=250&sort=datedesc&format=csv',
A69: ='Dates to search'!$A$9 -> 43959 | B69: FoxNews | C69: 'https://api.gdeltproject.org/api/v2/doc/doc?query= | D69: ='Search terms'!$A$2 -> ("Donald Trump" OR "President Trump") | E69: domainis: | F69: =VLOOKUP(B69,'Sources to search'!A:B,2,FALSE) -> foxnews.com | G69: &startdatetime= | H69: =VLOOKUP(A69,'Dates to search'!A:C,2,FALSE) -> 43959 | I69: &enddatetime= | J69: =VLOOKUP(A69,'Dates to search'!A:C,3,FALSE) -> 43960 | K69: &mode=artlist&maxrecords=250&sort=datedesc&format=csv', | L69: =CONCATENATE(C69,D69,E69,F69,G69,TEXT(H69,"yyyymmddhhmmss"),I69,TEXT(J69,"yyyymmddhhmmss"),K69) -> 'https://api.gdeltproject.org/api/v2/doc/doc?query=("Donald Trump" OR "President Trump") domainis:foxnews.com&startdatetime=20200508000000&enddatetime=20200509000000&mode=artlist&maxrecords=250&sort=datedesc&format=csv',
A70: ='Dates to search'!$A$10 -> 43960 | B70: FoxNews | C70: 'https://api.gdeltproject.org/api/v2/doc/doc?query= | D70: ='Search terms'!$A$2 -> ("Donald Trump" OR "President Trump") | E70: domainis: | F70: =VLOOKUP(B70,'Sources to search'!A:B,2,FALSE) -> foxnews.com | G70: &startdatetime= | H70: =VLOOKUP(A70,'Dates to search'!A:C,2,FALSE) -> 43960 | I70: &enddatetime= | J70: =VLOOKUP(A70,'Dates to search'!A:C,3,FALSE) -> 43961 | K70: &mode=artlist&maxrecords=250&sort=datedesc&format=csv', | L70: =CONCATENATE(C70,D70,E70,F70,G70,TEXT(H70,"yyyymmddhhmmss"),I70,TEXT(J70,"yyyymmddhhmmss"),K70) -> 'https://api.gdeltproject.org/api/v2/doc/doc?query=("Donald Trump" OR "President Trump") domainis:foxnews.com&startdatetime=20200509000000&enddatetime=20200510000000&mode=artlist&maxrecords=250&sort=datedesc&format=csv',
A71: ='Dates to search'!$A$11 -> 43961 | B71: FoxNews | C71: 'https://api.gdeltproject.org/api/v2/doc/doc?query= | D71: ='Search terms'!$A$2 -> ("Donald Trump" OR "President Trump") | E71: domainis: | F71: =VLOOKUP(B71,'Sources to search'!A:B,2,FALSE) -> foxnews.com | G71: &startdatetime= | H71: =VLOOKUP(A71,'Dates to search'!A:C,2,FALSE) -> 43961 | I71: &enddatetime= | J71: =VLOOKUP(A71,'Dates to search'!A:C,3,FALSE) -> 43962 | K71: &mode=artlist&maxrecords=250&sort=datedesc&format=csv', | L71: =CONCATENATE(C71,D71,E71,F71,G71,TEXT(H71,"yyyymmddhhmmss"),I71,TEXT(J71,"yyyymmddhhmmss"),K71) -> 'https://api.gdeltproject.org/api/v2/doc/doc?query=("Donald Trump" OR "President Trump") domainis:foxnews.com&startdatetime=20200510000000&enddatetime=20200511000000&mode=artlist&maxrecords=250&sort=datedesc&format=csv',
A72: ='Dates to search'!$A$12 -> 43962 | B72: FoxNews | C72: 'https://api.gdeltproject.org/api/v2/doc/doc?query= | D72: ='Search terms'!$A$2 -> ("Donald Trump" OR "President Trump") | E72: domainis: | F72: =VLOOKUP(B72,'Sources to search'!A:B,2,FALSE) -> foxnews.com | G72: &startdatetime= | H72: =VLOOKUP(A72,'Dates to search'!A:C,2,FALSE) -> 43962 | I72: &enddatetime= | J72: =VLOOKUP(A72,'Dates to search'!A:C,3,FALSE) -> 43963 | K72: &mode=artlist&maxrecords=250&sort=datedesc&format=csv', | L72: =CONCATENATE(C72,D72,E72,F72,G72,TEXT(H72,"yyyymmddhhmmss"),I72,TEXT(J72,"yyyymmddhhmmss"),K72) -> 'https://api.gdeltproject.org/api/v2/doc/doc?query=("Donald Trump" OR "President Trump") domainis:foxnews.com&startdatetime=20200511000000&enddatetime=20200512000000&mode=artlist&maxrecords=250&sort=datedesc&format=csv',
A73: ='Dates to search'!$A$13 -> 43963 | B73: FoxNews | C73: 'https://api.gdeltproject.org/api/v2/doc/doc?query= | D73: ='Search terms'!$A$2 -> ("Donald Trump" OR "President Trump") | E73: domainis: | F73: =VLOOKUP(B73,'Sources to search'!A:B,2,FALSE) -> foxnews.com | G73: &startdatetime= | H73: =VLOOKUP(A73,'Dates to search'!A:C,2,FALSE) -> 43963 | I73: &enddatetime= | J73: =VLOOKUP(A73,'Dates to search'!A:C,3,FALSE) -> 43964 | K73: &mode=artlist&maxrecords=250&sort=datedesc&format=csv', | L73: =CONCATENATE(C73,D73,E73,F73,G73,TEXT(H73,"yyyymmddhhmmss"),I73,TEXT(J73,"yyyymmddhhmmss"),K73) -> 'https://api.gdeltproject.org/api/v2/doc/doc?query=("Donald Trump" OR "President Trump") domainis:foxnews.com&startdatetime=20200512000000&enddatetime=20200513000000&mode=artlist&maxrecords=250&sort=datedesc&format=csv',
A74: ='Dates to search'!$A$14 -> 43964 | B74: FoxNews | C74: 'https://api.gdeltproject.org/api/v2/doc/doc?query= | D74: ='Search terms'!$A$2 -> ("Donald Trump" OR "President Trump") | E74: domainis: | F74: =VLOOKUP(B74,'Sources to search'!A:B,2,FALSE) -> foxnews.com | G74: &startdatetime= | H74: =VLOOKUP(A74,'Dates to search'!A:C,2,FALSE) -> 43964 | I74: &enddatetime= | J74: =VLOOKUP(A74,'Dates to search'!A:C,3,FALSE) -> 43965 | K74: &mode=artlist&maxrecords=250&sort=datedesc&format=csv', | L74: =CONCATENATE(C74,D74,E74,F74,G74,TEXT(H74,"yyyymmddhhmmss"),I74,TEXT(J74,"yyyymmddhhmmss"),K74) -> 'https://api.gdeltproject.org/api/v2/doc/doc?query=("Donald Trump" OR "President Trump") domainis:foxnews.com&startdatetime=20200513000000&enddatetime=20200514000000&mode=artlist&maxrecords=250&sort=datedesc&format=csv',
A75: ='Dates to search'!$A$15 -> 43965 | B75: FoxNews | C75: 'https://api.gdeltproject.org/api/v2/doc/doc?query= | D75: ='Search terms'!$A$2 -> ("Donald Trump" OR "President Trump") | E75: domainis: | F75: =VLOOKUP(B75,'Sources to search'!A:B,2,FALSE) -> foxnews.com | G75: &startdatetime= | H75: =VLOOKUP(A75,'Dates to search'!A:C,2,FALSE) -> 43965 | I75: &enddatetime= | J75: =VLOOKUP(A75,'Dates to search'!A:C,3,FALSE) -> 43966 | K75: &mode=artlist&maxrecords=250&sort=datedesc&format=csv', | L75: =CONCATENATE(C75,D75,E75,F75,G75,TEXT(H75,"yyyymmddhhmmss"),I75,TEXT(J75,"yyyymmddhhmmss"),K75) -> 'https://api.gdeltproject.org/api/v2/doc/doc?query=("Donald Trump" OR "President Trump") domainis:foxnews.com&startdatetime=20200514000000&enddatetime=20200515000000&mode=artlist&maxrecords=250&sort=datedesc&format=csv',
A76: ='Dates to search'!$A$16 -> 43966 | B76: FoxNews | C76: 'https://api.gdeltproject.org/api/v2/doc/doc?query= | D76: ='Search terms'!$A$2 -> ("Donald Trump" OR "President Trump") | E76: domainis: | F76: =VLOOKUP(B76,'Sources to search'!A:B,2,FALSE) -> foxnews.com | G76: &startdatetime= | H76: =VLOOKUP(A76,'Dates to search'!A:C,2,FALSE) -> 43966 | I76: &enddatetime= | J76: =VLOOKUP(A76,'Dates to search'!A:C,3,FALSE) -> 43967 | K76: &mode=artlist&maxrecords=250&sort=datedesc&format=csv', | L76: =CONCATENATE(C76,D76,E76,F76,G76,TEXT(H76,"yyyymmddhhmmss"),I76,TEXT(J76,"yyyymmddhhmmss"),K76) -> 'https://api.gdeltproject.org/api/v2/doc/doc?query=("Donald Trump" OR "President Trump") domainis:foxnews.com&startdatetime=20200515000000&enddatetime=20200516000000&mode=artlist&maxrecords=250&sort=datedesc&format=csv',
A77: ='Dates to search'!$A$17 -> 43967 | B77: FoxNews | C77: 'https://api.gdeltproject.org/api/v2/doc/doc?query= | D77: ='Search terms'!$A$2 -> ("Donald Trump" OR "President Trump") | E77: domainis: | F77: =VLOOKUP(B77,'Sources to search'!A:B,2,FALSE) -> foxnews.com | G77: &startdatetime= | H77: =VLOOKUP(A77,'Dates to search'!A:C,2,FALSE) -> 43967 | I77: &enddatetime= | J77: =VLOOKUP(A77,'Dates to search'!A:C,3,FALSE) -> 43968 | K77: &mode=artlist&maxrecords=250&sort=datedesc&format=csv', | L77: =CONCATENATE(C77,D77,E77,F77,G77,TEXT(H77,"yyyymmddhhmmss"),I77,TEXT(J77,"yyyymmddhhmmss"),K77) -> 'https://api.gdeltproject.org/api/v2/doc/doc?query=("Donald Trump" OR "President Trump") domainis:foxnews.com&startdatetime=20200516000000&enddatetime=20200517000000&mode=artlist&maxrecords=250&sort=datedesc&format=csv',
A78: ='Dates to search'!$A$18 -> 43968 | B78: FoxNews | C78: 'https://api.gdeltproject.org/api/v2/doc/doc?query= | D78: ='Search terms'!$A$2 -> ("Donald Trump" OR "President Trump") | E78: domainis: | F78: =VLOOKUP(B78,'Sources to search'!A:B,2,FALSE) -> foxnews.com | G78: &startdatetime= | H78: =VLOOKUP(A78,'Dates to search'!A:C,2,FALSE) -> 43968 | I78: &enddatetime= | J78: =VLOOKUP(A78,'Dates to search'!A:C,3,FALSE) -> 43969 | K78: &mode=artlist&maxrecords=250&sort=datedesc&format=csv', | L78: =CONCATENATE(C78,D78,E78,F78,G78,TEXT(H78,"yyyymmddhhmmss"),I78,TEXT(J78,"yyyymmddhhmmss"),K78) -> 'https://api.gdeltproject.org/api/v2/doc/doc?query=("Donald Trump" OR "President Trump") domainis:foxnews.com&startdatetime=20200517000000&enddatetime=20200518000000&mode=artlist&maxrecords=250&sort=datedesc&format=csv',
A79: ='Dates to search'!$A$19 -> 43969 | B79: FoxNews | C79: 'https://api.gdeltproject.org/api/v2/doc/doc?query= | D79: ='Search terms'!$A$2 -> ("Donald Trump" OR "President Trump") | E79: domainis: | F79: =VLOOKUP(B79,'Sources to search'!A:B,2,FALSE) -> foxnews.com | G79: &startdatetime= | H79: =VLOOKUP(A79,'Dates to search'!A:C,2,FALSE) -> 43969 | I79: &enddatetime= | J79: =VLOOKUP(A79,'Dates to search'!A:C,3,FALSE) -> 43970 | K79: &mode=artlist&maxrecords=250&sort=datedesc&format=csv', | L79: =CONCATENATE(C79,D79,E79,F79,G79,TEXT(H79,"yyyymmddhhmmss"),I79,TEXT(J79,"yyyymmddhhmmss"),K79) -> 'https://api.gdeltproject.org/api/v2/doc/doc?query=("Donald Trump" OR "President Trump") domainis:foxnews.com&startdatetime=20200518000000&enddatetime=20200519000000&mode=artlist&maxrecords=250&sort=datedesc&format=csv',
A80: ='Dates to search'!$A$20 -> 43970 | B80: FoxNews | C80: 'https://api.gdeltproject.org/api/v2/doc/doc?query= | D80: ='Search terms'!$A$2 -> ("Donald Trump" OR "President Trump") | E80: domainis: | F80: =VLOOKUP(B80,'Sources to search'!A:B,2,FALSE) -> foxnews.com | G80: &startdatetime= | H80: =VLOOKUP(A80,'Dates to search'!A:C,2,FALSE) -> 43970 | I80: &enddatetime= | J80: =VLOOKUP(A80,'Dates to search'!A:C,3,FALSE) -> 43971 | K80: &mode=artlist&maxrecords=250&sort=datedesc&format=csv', | L80: =CONCATENATE(C80,D80,E80,F80,G80,TEXT(H80,"yyyymmddhhmmss"),I80,TEXT(J80,"yyyymmddhhmmss"),K80) -> 'https://api.gdeltproject.org/api/v2/doc/doc?query=("Donald Trump" OR "President Trump") domainis:foxnews.com&startdatetime=20200519000000&enddatetime=20200520000000&mode=artlist&maxrecords=250&sort=datedesc&format=csv',
A81: ='Dates to search'!$A$21 -> 43971 | B81: FoxNews | C81: 'https://api.gdeltproject.org/api/v2/doc/doc?query= | D81: ='Search terms'!$A$2 -> ("Donald Trump" OR "President Trump") | E81: domainis: | F81: =VLOOKUP(B81,'Sources to search'!A:B,2,FALSE) -> foxnews.com | G81: &startdatetime= | H81: =VLOOKUP(A81,'Dates to search'!A:C,2,FALSE) -> 43971 | I81: &enddatetime= | J81: =VLOOKUP(A81,'Dates to search'!A:C,3,FALSE) -> 43972 | K81: &mode=artlist&maxrecords=250&sort=datedesc&format=csv', | L81: =CONCATENATE(C81,D81,E81,F81,G81,TEXT(H81,"yyyymmddhhmmss"),I81,TEXT(J81,"yyyymmddhhmmss"),K81) -> 'https://api.gdeltproject.org/api/v2/doc/doc?query=("Donald Trump" OR "President Trump") domainis:foxnews.com&startdatetime=20200520000000&enddatetime=20200521000000&mode=artlist&maxrecords=250&sort=datedesc&format=csv',
A82: ='Dates to search'!$A$22 -> 43972 | B82: FoxNews | C82: 'https://api.gdeltproject.org/api/v2/doc/doc?query= | D82: ='Search terms'!$A$2 -> ("Donald Trump" OR "President Trump") | E82: domainis: | F82: =VLOOKUP(B82,'Sources to search'!A:B,2,FALSE) -> foxnews.com | G82: &startdatetime= | H82: =VLOOKUP(A82,'Dates to search'!A:C,2,FALSE) -> 43972 | I82: &enddatetime= | J82: =VLOOKUP(A82,'Dates to search'!A:C,3,FALSE) -> 43973 | K82: &mode=artlist&maxrecords=250&sort=datedesc&format=csv', | L82: =CONCATENATE(C82,D82,E82,F82,G82,TEXT(H82,"yyyymmddhhmmss"),I82,TEXT(J82,"yyyymmddhhmmss"),K82) -> 'https://api.gdeltproject.org/api/v2/doc/doc?query=("Donald Trump" OR "President Trump") domainis:foxnews.com&startdatetime=20200521000000&enddatetime=20200522000000&mode=artlist&maxrecords=250&sort=datedesc&format=csv',
A83: ='Dates to search'!$A$23 -> 43973 | B83: FoxNews | C83: 'https://api.gdeltproject.org/api/v2/doc/doc?query= | D83: ='Search terms'!$A$2 -> ("Donald Trump" OR "President Trump") | E83: domainis: | F83: =VLOOKUP(B83,'Sources to search'!A:B,2,FALSE) -> foxnews.com | G83: &startdatetime= | H83: =VLOOKUP(A83,'Dates to search'!A:C,2,FALSE) -> 43973 | I83: &enddatetime= | J83: =VLOOKUP(A83,'Dates to search'!A:C,3,FALSE) -> 43974 | K83: &mode=artlist&maxrecords=250&sort=datedesc&format=csv', | L83: =CONCATENATE(C83,D83,E83,F83,G83,TEXT(H83,"yyyymmddhhmmss"),I83,TEXT(J83,"yyyymmddhhmmss"),K83) -> 'https://api.gdeltproject.org/api/v2/doc/doc?query=("Donald Trump" OR "President Trump") domainis:foxnews.com&startdatetime=20200522000000&enddatetime=20200523000000&mode=artlist&maxrecords=250&sort=datedesc&format=csv',
A84: ='Dates to search'!$A$24 -> 43974 | B84: FoxNews | C84: 'https://api.gdeltproject.org/api/v2/doc/doc?query= | D84: ='Search terms'!$A$2 -> ("Donald Trump" OR "President Trump") | E84: domainis: | F84: =VLOOKUP(B84,'Sources to search'!A:B,2,FALSE) -> foxnews.com | G84: &startdatetime= | H84: =VLOOKUP(A84,'Dates to search'!A:C,2,FALSE) -> 43974 | I84: &enddatetime= | J84: =VLOOKUP(A84,'Dates to search'!A:C,3,FALSE) -> 43975 | K84: &mode=artlist&maxrecords=250&sort=datedesc&format=csv', | L84: =CONCATENATE(C84,D84,E84,F84,G84,TEXT(H84,"yyyymmddhhmmss"),I84,TEXT(J84,"yyyymmddhhmmss"),K84) -> 'https://api.gdeltproject.org/api/v2/doc/doc?query=("Donald Trump" OR "President Trump") domainis:foxnews.com&startdatetime=20200523000000&enddatetime=20200524000000&mode=artlist&maxrecords=250&sort=datedesc&format=csv',
A85: ='Dates to search'!$A$25 -> 43975 | B85: FoxNews | C85: 'https://api.gdeltproject.org/api/v2/doc/doc?query= | D85: ='Search terms'!$A$2 -> ("Donald Trump" OR "President Trump") | E85: domainis: | F85: =VLOOKUP(B85,'Sources to search'!A:B,2,FALSE) -> foxnews.com | G85: &startdatetime= | H85: =VLOOKUP(A85,'Dates to search'!A:C,2,FALSE) -> 43975 | I85: &enddatetime= | J85: =VLOOKUP(A85,'Dates to search'!A:C,3,FALSE) -> 43976 | K85: &mode=artlist&maxrecords=250&sort=datedesc&format=csv', | L85: =CONCATENATE(C85,D85,E85,F85,G85,TEXT(H85,"yyyymmddhhmmss"),I85,TEXT(J85,"yyyymmddhhmmss"),K85) -> 'https://api.gdeltproject.org/api/v2/doc/doc?query=("Donald Trump" OR "President Trump") domainis:foxnews.com&startdatetime=20200524000000&enddatetime=20200525000000&mode=artlist&maxrecords=250&sort=datedesc&format=csv',
A86: ='Dates to search'!$A$26 -> 43976 | B86: FoxNews | C86: 'https://api.gdeltproject.org/api/v2/doc/doc?query= | D86: ='Search terms'!$A$2 -> ("Donald Trump" OR "President Trump") | E86: domainis: | F86: =VLOOKUP(B86,'Sources to search'!A:B,2,FALSE) -> foxnews.com | G86: &startdatetime= | H86: =VLOOKUP(A86,'Dates to search'!A:C,2,FALSE) -> 43976 | I86: &enddatetime= | J86: =VLOOKUP(A86,'Dates to search'!A:C,3,FALSE) -> 43977 | K86: &mode=artlist&maxrecords=250&sort=datedesc&format=csv', | L86: =CONCATENATE(C86,D86,E86,F86,G86,TEXT(H86,"yyyymmddhhmmss"),I86,TEXT(J86,"yyyymmddhhmmss"),K86) -> 'https://api.gdeltproject.org/api/v2/doc/doc?query=("Donald Trump" OR "President Trump") domainis:foxnews.com&startdatetime=20200525000000&enddatetime=20200526000000&mode=artlist&maxrecords=250&sort=datedesc&format=csv',
A87: ='Dates to search'!$A$27 -> 43977 | B87: FoxNews | C87: 'https://api.gdeltproject.org/api/v2/doc/doc?query= | D87: ='Search terms'!$A$2 -> ("Donald Trump" OR "President Trump") | E87: domainis: | F87: =VLOOKUP(B87,'Sources to search'!A:B,2,FALSE) -> foxnews.com | G87: &startdatetime= | H87: =VLOOKUP(A87,'Dates to search'!A:C,2,FALSE) -> 43977 | I87: &enddatetime= | J87: =VLOOKUP(A87,'Dates to search'!A:C,3,FALSE) -> 43978 | K87: &mode=artlist&maxrecords=250&sort=datedesc&format=csv', | L87: =CONCATENATE(C87,D87,E87,F87,G87,TEXT(H87,"yyyymmddhhmmss"),I87,TEXT(J87,"yyyymmddhhmmss"),K87) -> 'https://api.gdeltproject.org/api/v2/doc/doc?query=("Donald Trump" OR "President Trump") domainis:foxnews.com&startdatetime=20200526000000&enddatetime=20200527000000&mode=artlist&maxrecords=250&sort=datedesc&format=csv',
A88: ='Dates to search'!$A$28 -> 43978 | B88: FoxNews | C88: 'https://api.gdeltproject.org/api/v2/doc/doc?query= | D88: ='Search terms'!$A$2 -> ("Donald Trump" OR "President Trump") | E88: domainis: | F88: =VLOOKUP(B88,'Sources to search'!A:B,2,FALSE) -> foxnews.com | G88: &startdatetime= | H88: =VLOOKUP(A88,'Dates to search'!A:C,2,FALSE) -> 43978 | I88: &enddatetime= | J88: =VLOOKUP(A88,'Dates to search'!A:C,3,FALSE) -> 43979 | K88: &mode=artlist&maxrecords=250&sort=datedesc&format=csv', | L88: =CONCATENATE(C88,D88,E88,F88,G88,TEXT(H88,"yyyymmddhhmmss"),I88,TEXT(J88,"yyyymmddhhmmss"),K88) -> 'https://api.gdeltproject.org/api/v2/doc/doc?query=("Donald Trump" OR "President Trump") domainis:foxnews.com&startdatetime=20200527000000&enddatetime=20200528000000&mode=artlist&maxrecords=250&sort=datedesc&format=csv',
A89: ='Dates to search'!$A$29 -> 43979 | B89: FoxNews | C89: 'https://api.gdeltproject.org/api/v2/doc/doc?query= | D89: ='Search terms'!$A$2 -> ("Donald Trump" OR "President Trump") | E89: domainis: | F89: =VLOOKUP(B89,'Sources to search'!A:B,2,FALSE) -> foxnews.com | G89: &startdatetime= | H89: =VLOOKUP(A89,'Dates to search'!A:C,2,FALSE) -> 43979 | I89: &enddatetime= | J89: =VLOOKUP(A89,'Dates to search'!A:C,3,FALSE) -> 43980 | K89: &mode=artlist&maxrecords=250&sort=datedesc&format=csv', | L89: =CONCATENATE(C89,D89,E89,F89,G89,TEXT(H89,"yyyymmddhhmmss"),I89,TEXT(J89,"yyyymmddhhmmss"),K89) -> 'https://api.gdeltproject.org/api/v2/doc/doc?query=("Donald Trump" OR "President Trump") domainis:foxnews.com&startdatetime=20200528000000&enddatetime=20200529000000&mode=artlist&maxrecords=250&sort=datedesc&format=csv',
A90: ='Dates to search'!$A$30 -> 43980 | B90: FoxNews | C90: 'https://api.gdeltproject.org/api/v2/doc/doc?query= | D90: ='Search terms'!$A$2 -> ("Donald Trump" OR "President Trump") | E90: domainis: | F90: =VLOOKUP(B90,'Sources to search'!A:B,2,FALSE) -> foxnews.com | G90: &startdatetime= | H90: =VLOOKUP(A90,'Dates to search'!A:C,2,FALSE) -> 43980 | I90: &enddatetime= | J90: =VLOOKUP(A90,'Dates to search'!A:C,3,FALSE) -> 43981 | K90: &mode=artlist&maxrecords=250&sort=datedesc&format=csv', | L90: =CONCATENATE(C90,D90,E90,F90,G90,TEXT(H90,"yyyymmddhhmmss"),I90,TEXT(J90,"yyyymmddhhmmss"),K90) -> 'https://api.gdeltproject.org/api/v2/doc/doc?query=("Donald Trump" OR "President Trump") domainis:foxnews.com&startdatetime=20200529000000&enddatetime=20200530000000&mode=artlist&maxrecords=250&sort=datedesc&format=csv',
A91: ='Dates to search'!$A$31 -> 43981 | B91: FoxNews | C91: 'https://api.gdeltproject.org/api/v2/doc/doc?query= | D91: ='Search terms'!$A$2 -> ("Donald Trump" OR "President Trump") | E91: domainis: | F91: =VLOOKUP(B91,'Sources to search'!A:B,2,FALSE) -> foxnews.com | G91: &startdatetime= | H91: =VLOOKUP(A91,'Dates to search'!A:C,2,FALSE) -> 43981 | I91: &enddatetime= | J91: =VLOOKUP(A91,'Dates to search'!A:C,3,FALSE) -> 43982 | K91: &mode=artlist&maxrecords=250&sort=datedesc&format=csv', | L91: =CONCATENATE(C91,D91,E91,F91,G91,TEXT(H91,"yyyymmddhhmmss"),I91,TEXT(J91,"yyyymmddhhmmss"),K91) -> 'https://api.gdeltproject.org/api/v2/doc/doc?query=("Donald Trump" OR "President Trump") domainis:foxnews.com&startdatetime=20200530000000&enddatetime=20200531000000&mode=artlist&maxrecords=250&sort=datedesc&format=csv',
A92: ='Dates to search'!$A$2 -> 43952 | B92: MSNBC | C92: 'https://api.gdeltproject.org/api/v2/doc/doc?query= | D92: ='Search terms'!$A$2 -> ("Donald Trump" OR "President Trump") | E92: domainis: | F92: =VLOOKUP(B92,'Sources to search'!A:B,2,FALSE) -> msnbc.com | G92: &startdatetime= | H92: =VLOOKUP(A92,'Dates to search'!A:C,2,FALSE) -> 43952 | I92: &enddatetime= | J92: =VLOOKUP(A92,'Dates to search'!A:C,3,FALSE) -> 43953 | K92: &mode=artlist&maxrecords=250&sort=datedesc&format=csv', | L92: =CONCATENATE(C92,D92,E92,F92,G92,TEXT(H92,"yyyymmddhhmmss"),I92,TEXT(J92,"yyyymmddhhmmss"),K92) -> 'https://api.gdeltproject.org/api/v2/doc/doc?query=("Donald Trump" OR "President Trump") domainis:msnbc.com&startdatetime=20200501000000&enddatetime=20200502000000&mode=artlist&maxrecords=250&sort=datedesc&format=csv',
A93: ='Dates to search'!$A$3 -> 43953 | B93: MSNBC | C93: 'https://api.gdeltproject.org/api/v2/doc/doc?query= | D93: ='Search terms'!$A$2 -> ("Donald Trump" OR "President Trump") | E93: domainis: | F93: =VLOOKUP(B93,'Sources to search'!A:B,2,FALSE) -> msnbc.com | G93: &startdatetime= | H93: =VLOOKUP(A93,'Dates to search'!A:C,2,FALSE) -> 43953 | I93: &enddatetime= | J93: =VLOOKUP(A93,'Dates to search'!A:C,3,FALSE) -> 43954 | K93: &mode=artlist&maxrecords=250&sort=datedesc&format=csv', | L93: =CONCATENATE(C93,D93,E93,F93,G93,TEXT(H93,"yyyymmddhhmmss"),I93,TEXT(J93,"yyyymmddhhmmss"),K93) -> 'https://api.gdeltproject.org/api/v2/doc/doc?query=("Donald Trump" OR "President Trump") domainis:msnbc.com&startdatetime=20200502000000&enddatetime=20200503000000&mode=artlist&maxrecords=250&sort=datedesc&format=csv',
A94: ='Dates to search'!$A$4 -> 43954 | B94: MSNBC | C94: 'https://api.gdeltproject.org/api/v2/doc/doc?query= | D94: ='Search terms'!$A$2 -> ("Donald Trump" OR "President Trump") | E94: domainis: | F94: =VLOOKUP(B94,'Sources to search'!A:B,2,FALSE) -> msnbc.com | G94: &startdatetime= | H94: =VLOOKUP(A94,'Dates to search'!A:C,2,FALSE) -> 43954 | I94: &enddatetime= | J94: =VLOOKUP(A94,'Dates to search'!A:C,3,FALSE) -> 43955 | K94: &mode=artlist&maxrecords=250&sort=datedesc&format=csv', | L94: =CONCATENATE(C94,D94,E94,F94,G94,TEXT(H94,"yyyymmddhhmmss"),I94,TEXT(J94,"yyyymmddhhmmss"),K94) -> 'https://api.gdeltproject.org/api/v2/doc/doc?query=("Donald Trump" OR "President Trump") domainis:msnbc.com&startdatetime=20200503000000&enddatetime=20200504000000&mode=artlist&maxrecords=250&sort=datedesc&format=csv',
A95: ='Dates to search'!$A$5 -> 43955 | B95: MSNBC | C95: 'https://api.gdeltproject.org/api/v2/doc/doc?query= | D95: ='Search terms'!$A$2 -> ("Donald Trump" OR "President Trump") | E95: domainis: | F95: =VLOOKUP(B95,'Sources to search'!A:B,2,FALSE) -> msnbc.com | G95: &startdatetime= | H95: =VLOOKUP(A95,'Dates to search'!A:C,2,FALSE) -> 43955 | I95: &enddatetime= | J95: =VLOOKUP(A95,'Dates to search'!A:C,3,FALSE) -> 43956 | K95: &mode=artlist&maxrecords=250&sort=datedesc&format=csv', | L95: =CONCATENATE(C95,D95,E95,F95,G95,TEXT(H95,"yyyymmddhhmmss"),I95,TEXT(J95,"yyyymmddhhmmss"),K95) -> 'https://api.gdeltproject.org/api/v2/doc/doc?query=("Donald Trump" OR "President Trump") domainis:msnbc.com&startdatetime=20200504000000&enddatetime=20200505000000&mode=artlist&maxrecords=250&sort=datedesc&format=csv',
A96: ='Dates to search'!$A$6 -> 43956 | B96: MSNBC | C96: 'https://api.gdeltproject.org/api/v2/doc/doc?query= | D96: ='Search terms'!$A$2 -> ("Donald Trump" OR "President Trump") | E96: domainis: | F96: =VLOOKUP(B96,'Sources to search'!A:B,2,FALSE) -> msnbc.com | G96: &startdatetime= | H96: =VLOOKUP(A96,'Dates to search'!A:C,2,FALSE) -> 43956 | I96: &enddatetime= | J96: =VLOOKUP(A96,'Dates to search'!A:C,3,FALSE) -> 43957 | K96: &mode=artlist&maxrecords=250&sort=datedesc&format=csv', | L96: =CONCATENATE(C96,D96,E96,F96,G96,TEXT(H96,"yyyymmddhhmmss"),I96,TEXT(J96,"yyyymmddhhmmss"),K96) -> 'https://api.gdeltproject.org/api/v2/doc/doc?query=("Donald Trump" OR "President Trump") domainis:msnbc.com&startdatetime=20200505000000&enddatetime=20200506000000&mode=artlist&maxrecords=250&sort=datedesc&format=csv',
A97: ='Dates to search'!$A$7 -> 43957 | B97: MSNBC | C97: 'https://api.gdeltproject.org/api/v2/doc/doc?query= | D97: ='Search terms'!$A$2 -> ("Donald Trump" OR "President Trump") | E97: domainis: | F97: =VLOOKUP(B97,'Sources to search'!A:B,2,FALSE) -> msnbc.com | G97: &startdatetime= | H97: =VLOOKUP(A97,'Dates to search'!A:C,2,FALSE) -> 43957 | I97: &enddatetime= | J97: =VLOOKUP(A97,'Dates to search'!A:C,3,FALSE) -> 43958 | K97: &mode=artlist&maxrecords=250&sort=datedesc&format=csv', | L97: =CONCATENATE(C97,D97,E97,F97,G97,TEXT(H97,"yyyymmddhhmmss"),I97,TEXT(J97,"yyyymmddhhmmss"),K97) -> 'https://api.gdeltproject.org/api/v2/doc/doc?query=("Donald Trump" OR "President Trump") domainis:msnbc.com&startdatetime=20200506000000&enddatetime=20200507000000&mode=artlist&maxrecords=250&sort=datedesc&format=csv',
A98: ='Dates to search'!$A$8 -> 43958 | B98: MSNBC | C98: 'https://api.gdeltproject.org/api/v2/doc/doc?query= | D98: ='Search terms'!$A$2 -> ("Donald Trump" OR "President Trump") | E98: domainis: | F98: =VLOOKUP(B98,'Sources to search'!A:B,2,FALSE) -> msnbc.com | G98: &startdatetime= | H98: =VLOOKUP(A98,'Dates to search'!A:C,2,FALSE) -> 43958 | I98: &enddatetime= | J98: =VLOOKUP(A98,'Dates to search'!A:C,3,FALSE) -> 43959 | K98: &mode=artlist&maxrecords=250&sort=datedesc&format=csv', | L98: =CONCATENATE(C98,D98,E98,F98,G98,TEXT(H98,"yyyymmddhhmmss"),I98,TEXT(J98,"yyyymmddhhmmss"),K98) -> 'https://api.gdeltproject.org/api/v2/doc/doc?query=("Donald Trump" OR "President Trump") domainis:msnbc.com&startdatetime=20200507000000&enddatetime=20200508000000&mode=artlist&maxrecords=250&sort=datedesc&format=csv',
A99: ='Dates to search'!$A$9 -> 43959 | B99: MSNBC | C99: 'https://api.gdeltproject.org/api/v2/doc/doc?query= | D99: ='Search terms'!$A$2 -> ("Donald Trump" OR "President Trump") | E99: domainis: | F99: =VLOOKUP(B99,'Sources to search'!A:B,2,FALSE) -> msnbc.com | G99: &startdatetime= | H99: =VLOOKUP(A99,'Dates to search'!A:C,2,FALSE) -> 43959 | I99: &enddatetime= | J99: =VLOOKUP(A99,'Dates to search'!A:C,3,FALSE) -> 43960 | K99: &mode=artlist&maxrecords=250&sort=datedesc&format=csv', | L99: =CONCATENATE(C99,D99,E99,F99,G99,TEXT(H99,"yyyymmddhhmmss"),I99,TEXT(J99,"yyyymmddhhmmss"),K99) -> 'https://api.gdeltproject.org/api/v2/doc/doc?query=("Donald Trump" OR "President Trump") domainis:msnbc.com&startdatetime=20200508000000&enddatetime=20200509000000&mode=artlist&maxrecords=250&sort=datedesc&format=csv',
A100: ='Dates to search'!$A$10 -> 43960 | B100: MSNBC | C100: 'https://api.gdeltproject.org/api/v2/doc/doc?query= | D100: ='Search terms'!$A$2 -> ("Donald Trump" OR "President Trump") | E100: domainis: | F100: =VLOOKUP(B100,'Sources to search'!A:B,2,FALSE) -> msnbc.com | G100: &startdatetime= | H100: =VLOOKUP(A100,'Dates to search'!A:C,2,FALSE) -> 43960 | I100: &enddatetime= | J100: =VLOOKUP(A100,'Dates to search'!A:C,3,FALSE) -> 43961 | K100: &mode=artlist&maxrecords=250&sort=datedesc&format=csv', | L100: =CONCATENATE(C100,D100,E100,F100,G100,TEXT(H100,"yyyymmddhhmmss"),I100,TEXT(J100,"yyyymmddhhmmss"),K100) -> 'https://api.gdeltproject.org/api/v2/doc/doc?query=("Donald Trump" OR "President Trump") domainis:msnbc.com&startdatetime=20200509000000&enddatetime=20200510000000&mode=artlist&maxrecords=250&sort=datedesc&format=csv',
...

Sheet URLs31Days
A1: Date | B1: Source | C1: Part 1 | D1: Part 2 | E1: Part 3 | F1: Part 4 | G1: Part 5 | H1: Part 6 | I1: Part 7 | J1: Part 8 | K1: Part 9 | L1: FullURL
A2: ='Dates to search'!$A$2 -> 43952 | B2: AP | C2: 'https://api.gdeltproject.org/api/v2/doc/doc?query= | D2: ='Search terms'!$A$2 -> ("Donald Trump" OR "President Trump") | E2: domainis: | F2: =VLOOKUP(B2,'Sources to search'!A:B,2,FALSE) -> apnews.com | G2: &startdatetime= | H2: =VLOOKUP(A2,'Dates to search'!A:C,2,FALSE) -> 43952 | I2: &enddatetime= | J2: =VLOOKUP(A2,'Dates to search'!A:C,3,FALSE) -> 43953 | K2: &mode=artlist&maxrecords=250&sort=datedesc&format=csv', | L2: =CONCATENATE(C2,D2,E2,F2,G2,TEXT(H2,"yyyymmddhhmmss"),I2,TEXT(J2,"yyyymmddhhmmss"),K2) -> 'https://api.gdeltproject.org/api/v2/doc/doc?query=("Donald Trump" OR "President Trump") domainis:apnews.com&startdatetime=20200501000000&enddatetime=20200502000000&mode=artlist&maxrecords=250&sort=datedesc&format=csv',
A3: ='Dates to search'!$A$3 -> 43953 | B3: AP | C3: 'https://api.gdeltproject.org/api/v2/doc/doc?query= | D3: ='Search terms'!$A$2 -> ("Donald Trump" OR "President Trump") | E3: domainis: | F3: =VLOOKUP(B3,'Sources to search'!A:B,2,FALSE) -> apnews.com | G3: &startdatetime= | H3: =VLOOKUP(A3,'Dates to search'!A:C,2,FALSE) -> 43953 | I3: &enddatetime= | J3: =VLOOKUP(A3,'Dates to search'!A:C,3,FALSE) -> 43954 | K3: &mode=artlist&maxrecords=250&sort=datedesc&format=csv', | L3: =CONCATENATE(C3,D3,E3,F3,G3,TEXT(H3,"yyyymmddhhmmss"),I3,TEXT(J3,"yyyymmddhhmmss"),K3) -> 'https://api.gdeltproject.org/api/v2/doc/doc?query=("Donald Trump" OR "President Trump") domainis:apnews.com&startdatetime=20200502000000&enddatetime=20200503000000&mode=artlist&maxrecords=250&sort=datedesc&format=csv',
A4: ='Dates to search'!$A$4 -> 43954 | B4: AP | C4: 'https://api.gdeltproject.org/api/v2/doc/doc?query= | D4: ='Search terms'!$A$2 -> ("Donald Trump" OR "President Trump") | E4: domainis: | F4: =VLOOKUP(B4,'Sources to search'!A:B,2,FALSE) -> apnews.com | G4: &startdatetime= | H4: =VLOOKUP(A4,'Dates to search'!A:C,2,FALSE) -> 43954 | I4: &enddatetime= | J4: =VLOOKUP(A4,'Dates to search'!A:C,3,FALSE) -> 43955 | K4: &mode=artlist&maxrecords=250&sort=datedesc&format=csv', | L4: =CONCATENATE(C4,D4,E4,F4,G4,TEXT(H4,"yyyymmddhhmmss"),I4,TEXT(J4,"yyyymmddhhmmss"),K4) -> 'https://api.gdeltproject.org/api/v2/doc/doc?query=("Donald Trump" OR "President Trump") domainis:apnews.com&startdatetime=20200503000000&enddatetime=20200504000000&mode=artlist&maxrecords=250&sort=datedesc&format=csv',
A5: ='Dates to search'!$A$5 -> 43955 | B5: AP | C5: 'https://api.gdeltproject.org/api/v2/doc/doc?query= | D5: ='Search terms'!$A$2 -> ("Donald Trump" OR "President Trump") | E5: domainis: | F5: =VLOOKUP(B5,'Sources to search'!A:B,2,FALSE) -> apnews.com | G5: &startdatetime= | H5: =VLOOKUP(A5,'Dates to search'!A:C,2,FALSE) -> 43955 | I5: &enddatetime= | J5: =VLOOKUP(A5,'Dates to search'!A:C,3,FALSE) -> 43956 | K5: &mode=artlist&maxrecords=250&sort=datedesc&format=csv', | L5: =CONCATENATE(C5,D5,E5,F5,G5,TEXT(H5,"yyyymmddhhmmss"),I5,TEXT(J5,"yyyymmddhhmmss"),K5) -> 'https://api.gdeltproject.org/api/v2/doc/doc?query=("Donald Trump" OR "President Trump") domainis:apnews.com&startdatetime=20200504000000&enddatetime=20200505000000&mode=artlist&maxrecords=250&sort=datedesc&format=csv',
A6: ='Dates to search'!$A$6 -> 43956 | B6: AP | C6: 'https://api.gdeltproject.org/api/v2/doc/doc?query= | D6: ='Search terms'!$A$2 -> ("Donald Trump" OR "President Trump") | E6: domainis: | F6: =VLOOKUP(B6,'Sources to search'!A:B,2,FALSE) -> apnews.com | G6: &startdatetime= | H6: =VLOOKUP(A6,'Dates to search'!A:C,2,FALSE) -> 43956 | I6: &enddatetime= | J6: =VLOOKUP(A6,'Dates to search'!A:C,3,FALSE) -> 43957 | K6: &mode=artlist&maxrecords=250&sort=datedesc&format=csv', | L6: =CONCATENATE(C6,D6,E6,F6,G6,TEXT(H6,"yyyymmddhhmmss"),I6,TEXT(J6,"yyyymmddhhmmss"),K6) -> 'https://api.gdeltproject.org/api/v2/doc/doc?query=("Donald Trump" OR "President Trump") domainis:apnews.com&startdatetime=20200505000000&enddatetime=20200506000000&mode=artlist&maxrecords=250&sort=datedesc&format=csv',
A7: ='Dates to search'!$A$7 -> 43957 | B7: AP | C7: 'https://api.gdeltproject.org/api/v2/doc/doc?query= | D7: ='Search terms'!$A$2 -> ("Donald Trump" OR "President Trump") | E7: domainis: | F7: =VLOOKUP(B7,'Sources to search'!A:B,2,FALSE) -> apnews.com | G7: &startdatetime= | H7: =VLOOKUP(A7,'Dates to search'!A:C,2,FALSE) -> 43957 | I7: &enddatetime= | J7: =VLOOKUP(A7,'Dates to search'!A:C,3,FALSE) -> 43958 | K7: &mode=artlist&maxrecords=250&sort=datedesc&format=csv', | L7: =CONCATENATE(C7,D7,E7,F7,G7,TEXT(H7,"yyyymmddhhmmss"),I7,TEXT(J7,"yyyymmddhhmmss"),K7) -> 'https://api.gdeltproject.org/api/v2/doc/doc?query=("Donald Trump" OR "President Trump") domainis:apnews.com&startdatetime=20200506000000&enddatetime=20200507000000&mode=artlist&maxrecords=250&sort=datedesc&format=csv',
A8: ='Dates to search'!$A$8 -> 43958 | B8: AP | C8: 'https://api.gdeltproject.org/api/v2/doc/doc?query= | D8: ='Search terms'!$A$2 -> ("Donald Trump" OR "President Trump") | E8: domainis: | F8: =VLOOKUP(B8,'Sources to search'!A:B,2,FALSE) -> apnews.com | G8: &startdatetime= | H8: =VLOOKUP(A8,'Dates to search'!A:C,2,FALSE) -> 43958 | I8: &enddatetime= | J8: =VLOOKUP(A8,'Dates to search'!A:C,3,FALSE) -> 43959 | K8: &mode=artlist&maxrecords=250&sort=datedesc&format=csv', | L8: =CONCATENATE(C8,D8,E8,F8,G8,TEXT(H8,"yyyymmddhhmmss"),I8,TEXT(J8,"yyyymmddhhmmss"),K8) -> 'https://api.gdeltproject.org/api/v2/doc/doc?query=("Donald Trump" OR "President Trump") domainis:apnews.com&startdatetime=20200507000000&enddatetime=20200508000000&mode=artlist&maxrecords=250&sort=datedesc&format=csv',
A9: ='Dates to search'!$A$9 -> 43959 | B9: AP | C9: 'https://api.gdeltproject.org/api/v2/doc/doc?query= | D9: ='Search terms'!$A$2 -> ("Donald Trump" OR "President Trump") | E9: domainis: | F9: =VLOOKUP(B9,'Sources to search'!A:B,2,FALSE) -> apnews.com | G9: &startdatetime= | H9: =VLOOKUP(A9,'Dates to search'!A:C,2,FALSE) -> 43959 | I9: &enddatetime= | J9: =VLOOKUP(A9,'Dates to search'!A:C,3,FALSE) -> 43960 | K9: &mode=artlist&maxrecords=250&sort=datedesc&format=csv', | L9: =CONCATENATE(C9,D9,E9,F9,G9,TEXT(H9,"yyyymmddhhmmss"),I9,TEXT(J9,"yyyymmddhhmmss"),K9) -> 'https://api.gdeltproject.org/api/v2/doc/doc?query=("Donald Trump" OR "President Trump") domainis:apnews.com&startdatetime=20200508000000&enddatetime=20200509000000&mode=artlist&maxrecords=250&sort=datedesc&format=csv',
A10: ='Dates to search'!$A$10 -> 43960 | B10: AP | C10: 'https://api.gdeltproject.org/api/v2/doc/doc?query= | D10: ='Search terms'!$A$2 -> ("Donald Trump" OR "President Trump") | E10: domainis: | F10: =VLOOKUP(B10,'Sources to search'!A:B,2,FALSE) -> apnews.com | G10: &startdatetime= | H10: =VLOOKUP(A10,'Dates to search'!A:C,2,FALSE) -> 43960 | I10: &enddatetime= | J10: =VLOOKUP(A10,'Dates to search'!A:C,3,FALSE) -> 43961 | K10: &mode=artlist&maxrecords=250&sort=datedesc&format=csv', | L10: =CONCATENATE(C10,D10,E10,F10,G10,TEXT(H10,"yyyymmddhhmmss"),I10,TEXT(J10,"yyyymmddhhmmss"),K10) -> 'https://api.gdeltproject.org/api/v2/doc/doc?query=("Donald Trump" OR "President Trump") domainis:apnews.com&startdatetime=20200509000000&enddatetime=20200510000000&mode=artlist&maxrecords=250&sort=datedesc&format=csv',
A11: ='Dates to search'!$A$11 -> 43961 | B11: AP | C11: 'https://api.gdeltproject.org/api/v2/doc/doc?query= | D11: ='Search terms'!$A$2 -> ("Donald Trump" OR "President Trump") | E11: domainis: | F11: =VLOOKUP(B11,'Sources to search'!A:B,2,FALSE) -> apnews.com | G11: &startdatetime= | H11: =VLOOKUP(A11,'Dates to search'!A:C,2,FALSE) -> 43961 | I11: &enddatetime= | J11: =VLOOKUP(A11,'Dates to search'!A:C,3,FALSE) -> 43962 | K11: &mode=artlist&maxrecords=250&sort=datedesc&format=csv', | L11: =CONCATENATE(C11,D11,E11,F11,G11,TEXT(H11,"yyyymmddhhmmss"),I11,TEXT(J11,"yyyymmddhhmmss"),K11) -> 'https://api.gdeltproject.org/api/v2/doc/doc?query=("Donald Trump" OR "President Trump") domainis:apnews.com&startdatetime=20200510000000&enddatetime=20200511000000&mode=artlist&maxrecords=250&sort=datedesc&format=csv',
A12: ='Dates to search'!$A$12 -> 43962 | B12: AP | C12: 'https://api.gdeltproject.org/api/v2/doc/doc?query= | D12: ='Search terms'!$A$2 -> ("Donald Trump" OR "President Trump") | E12: domainis: | F12: =VLOOKUP(B12,'Sources to search'!A:B,2,FALSE) -> apnews.com | G12: &startdatetime= | H12: =VLOOKUP(A12,'Dates to search'!A:C,2,FALSE) -> 43962 | I12: &enddatetime= | J12: =VLOOKUP(A12,'Dates to search'!A:C,3,FALSE) -> 43963 | K12: &mode=artlist&maxrecords=250&sort=datedesc&format=csv', | L12: =CONCATENATE(C12,D12,E12,F12,G12,TEXT(H12,"yyyymmddhhmmss"),I12,TEXT(J12,"yyyymmddhhmmss"),K12) -> 'https://api.gdeltproject.org/api/v2/doc/doc?query=("Donald Trump" OR "President Trump") domainis:apnews.com&startdatetime=20200511000000&enddatetime=20200512000000&mode=artlist&maxrecords=250&sort=datedesc&format=csv',
A13: ='Dates to search'!$A$13 -> 43963 | B13: AP | C13: 'https://api.gdeltproject.org/api/v2/doc/doc?query= | D13: ='Search terms'!$A$2 -> ("Donald Trump" OR "President Trump") | E13: domainis: | F13: =VLOOKUP(B13,'Sources to search'!A:B,2,FALSE) -> apnews.com | G13: &startdatetime= | H13: =VLOOKUP(A13,'Dates to search'!A:C,2,FALSE) -> 43963 | I13: &enddatetime= | J13: =VLOOKUP(A13,'Dates to search'!A:C,3,FALSE) -> 43964 | K13: &mode=artlist&maxrecords=250&sort=datedesc&format=csv', | L13: =CONCATENATE(C13,D13,E13,F13,G13,TEXT(H13,"yyyymmddhhmmss"),I13,TEXT(J13,"yyyymmddhhmmss"),K13) -> 'https://api.gdeltproject.org/api/v2/doc/doc?query=("Donald Trump" OR "President Trump") domainis:apnews.com&startdatetime=20200512000000&enddatetime=20200513000000&mode=artlist&maxrecords=250&sort=datedesc&format=csv',
A14: ='Dates to search'!$A$14 -> 43964 | B14: AP | C14: 'https://api.gdeltproject.org/api/v2/doc/doc?query= | D14: ='Search terms'!$A$2 -> ("Donald Trump" OR "President Trump") | E14: domainis: | F14: =VLOOKUP(B14,'Sources to search'!A:B,2,FALSE) -> apnews.com | G14: &startdatetime= | H14: =VLOOKUP(A14,'Dates to search'!A:C,2,FALSE) -> 43964 | I14: &enddatetime= | J14: =VLOOKUP(A14,'Dates to search'!A:C,3,FALSE) -> 43965 | K14: &mode=artlist&maxrecords=250&sort=datedesc&format=csv', | L14: =CONCATENATE(C14,D14,E14,F14,G14,TEXT(H14,"yyyymmddhhmmss"),I14,TEXT(J14,"yyyymmddhhmmss"),K14) -> 'https://api.gdeltproject.org/api/v2/doc/doc?query=("Donald Trump" OR "President Trump") domainis:apnews.com&startdatetime=20200513000000&enddatetime=20200514000000&mode=artlist&maxrecords=250&sort=datedesc&format=csv',
A15: ='Dates to search'!$A$15 -> 43965 | B15: AP | C15: 'https://api.gdeltproject.org/api/v2/doc/doc?query= | D15: ='Search terms'!$A$2 -> ("Donald Trump" OR "President Trump") | E15: domainis: | F15: =VLOOKUP(B15,'Sources to search'!A:B,2,FALSE) -> apnews.com | G15: &startdatetime= | H15: =VLOOKUP(A15,'Dates to search'!A:C,2,FALSE) -> 43965 | I15: &enddatetime= | J15: =VLOOKUP(A15,'Dates to search'!A:C,3,FALSE) -> 43966 | K15: &mode=artlist&maxrecords=250&sort=datedesc&format=csv', | L15: =CONCATENATE(C15,D15,E15,F15,G15,TEXT(H15,"yyyymmddhhmmss"),I15,TEXT(J15,"yyyymmddhhmmss"),K15) -> 'https://api.gdeltproject.org/api/v2/doc/doc?query=("Donald Trump" OR "President Trump") domainis:apnews.com&startdatetime=20200514000000&enddatetime=20200515000000&mode=artlist&maxrecords=250&sort=datedesc&format=csv',
A16: ='Dates to search'!$A$16 -> 43966 | B16: AP | C16: 'https://api.gdeltproject.org/api/v2/doc/doc?query= | D16: ='Search terms'!$A$2 -> ("Donald Trump" OR "President Trump") | E16: domainis: | F16: =VLOOKUP(B16,'Sources to search'!A:B,2,FALSE) -> apnews.com | G16: &startdatetime= | H16: =VLOOKUP(A16,'Dates to search'!A:C,2,FALSE) -> 43966 | I16: &enddatetime= | J16: =VLOOKUP(A16,'Dates to search'!A:C,3,FALSE) -> 43967 | K16: &mode=artlist&maxrecords=250&sort=datedesc&format=csv', | L16: =CONCATENATE(C16,D16,E16,F16,G16,TEXT(H16,"yyyymmddhhmmss"),I16,TEXT(J16,"yyyymmddhhmmss"),K16) -> 'https://api.gdeltproject.org/api/v2/doc/doc?query=("Donald Trump" OR "President Trump") domainis:apnews.com&startdatetime=20200515000000&enddatetime=20200516000000&mode=artlist&maxrecords=250&sort=datedesc&format=csv',
A17: ='Dates to search'!$A$17 -> 43967 | B17: AP | C17: 'https://api.gdeltproject.org/api/v2/doc/doc?query= | D17: ='Search terms'!$A$2 -> ("Donald Trump" OR "President Trump") | E17: domainis: | F17: =VLOOKUP(B17,'Sources to search'!A:B,2,FALSE) -> apnews.com | G17: &startdatetime= | H17: =VLOOKUP(A17,'Dates to search'!A:C,2,FALSE) -> 43967 | I17: &enddatetime= | J17: =VLOOKUP(A17,'Dates to search'!A:C,3,FALSE) -> 43968 | K17: &mode=artlist&maxrecords=250&sort=datedesc&format=csv', | L17: =CONCATENATE(C17,D17,E17,F17,G17,TEXT(H17,"yyyymmddhhmmss"),I17,TEXT(J17,"yyyymmddhhmmss"),K17) -> 'https://api.gdeltproject.org/api/v2/doc/doc?query=("Donald Trump" OR "President Trump") domainis:apnews.com&startdatetime=20200516000000&enddatetime=20200517000000&mode=artlist&maxrecords=250&sort=datedesc&format=csv',
A18: ='Dates to search'!$A$18 -> 43968 | B18: AP | C18: 'https://api.gdeltproject.org/api/v2/doc/doc?query= | D18: ='Search terms'!$A$2 -> ("Donald Trump" OR "President Trump") | E18: domainis: | F18: =VLOOKUP(B18,'Sources to search'!A:B,2,FALSE) -> apnews.com | G18: &startdatetime= | H18: =VLOOKUP(A18,'Dates to search'!A:C,2,FALSE) -> 43968 | I18: &enddatetime= | J18: =VLOOKUP(A18,'Dates to search'!A:C,3,FALSE) -> 43969 | K18: &mode=artlist&maxrecords=250&sort=datedesc&format=csv', | L18: =CONCATENATE(C18,D18,E18,F18,G18,TEXT(H18,"yyyymmddhhmmss"),I18,TEXT(J18,"yyyymmddhhmmss"),K18) -> 'https://api.gdeltproject.org/api/v2/doc/doc?query=("Donald Trump" OR "President Trump") domainis:apnews.com&startdatetime=20200517000000&enddatetime=20200518000000&mode=artlist&maxrecords=250&sort=datedesc&format=csv',
A19: ='Dates to search'!$A$19 -> 43969 | B19: AP | C19: 'https://api.gdeltproject.org/api/v2/doc/doc?query= | D19: ='Search terms'!$A$2 -> ("Donald Trump" OR "President Trump") | E19: domainis: | F19: =VLOOKUP(B19,'Sources to search'!A:B,2,FALSE) -> apnews.com | G19: &startdatetime= | H19: =VLOOKUP(A19,'Dates to search'!A:C,2,FALSE) -> 43969 | I19: &enddatetime= | J19: =VLOOKUP(A19,'Dates to search'!A:C,3,FALSE) -> 43970 | K19: &mode=artlist&maxrecords=250&sort=datedesc&format=csv', | L19: =CONCATENATE(C19,D19,E19,F19,G19,TEXT(H19,"yyyymmddhhmmss"),I19,TEXT(J19,"yyyymmddhhmmss"),K19) -> 'https://api.gdeltproject.org/api/v2/doc/doc?query=("Donald Trump" OR "President Trump") domainis:apnews.com&startdatetime=20200518000000&enddatetime=20200519000000&mode=artlist&maxrecords=250&sort=datedesc&format=csv',
A20: ='Dates to search'!$A$20 -> 43970 | B20: AP | C20: 'https://api.gdeltproject.org/api/v2/doc/doc?query= | D20: ='Search terms'!$A$2 -> ("Donald Trump" OR "President Trump") | E20: domainis: | F20: =VLOOKUP(B20,'Sources to search'!A:B,2,FALSE) -> apnews.com | G20: &startdatetime= | H20: =VLOOKUP(A20,'Dates to search'!A:C,2,FALSE) -> 43970 | I20: &enddatetime= | J20: =VLOOKUP(A20,'Dates to search'!A:C,3,FALSE) -> 43971 | K20: &mode=artlist&maxrecords=250&sort=datedesc&format=csv', | L20: =CONCATENATE(C20,D20,E20,F20,G20,TEXT(H20,"yyyymmddhhmmss"),I20,TEXT(J20,"yyyymmddhhmmss"),K20) -> 'https://api.gdeltproject.org/api/v2/doc/doc?query=("Donald Trump" OR "President Trump") domainis:apnews.com&startdatetime=20200519000000&enddatetime=20200520000000&mode=artlist&maxrecords=250&sort=datedesc&format=csv',
A21: ='Dates to search'!$A$21 -> 43971 | B21: AP | C21: 'https://api.gdeltproject.org/api/v2/doc/doc?query= | D21: ='Search terms'!$A$2 -> ("Donald Trump" OR "President Trump") | E21: domainis: | F21: =VLOOKUP(B21,'Sources to search'!A:B,2,FALSE) -> apnews.com | G21: &startdatetime= | H21: =VLOOKUP(A21,'Dates to search'!A:C,2,FALSE) -> 43971 | I21: &enddatetime= | J21: =VLOOKUP(A21,'Dates to search'!A:C,3,FALSE) -> 43972 | K21: &mode=artlist&maxrecords=250&sort=datedesc&format=csv', | L21: =CONCATENATE(C21,D21,E21,F21,G21,TEXT(H21,"yyyymmddhhmmss"),I21,TEXT(J21,"yyyymmddhhmmss"),K21) -> 'https://api.gdeltproject.org/api/v2/doc/doc?query=("Donald Trump" OR "President Trump") domainis:apnews.com&startdatetime=20200520000000&enddatetime=20200521000000&mode=artlist&maxrecords=250&sort=datedesc&format=csv',
A22: ='Dates to search'!$A$22 -> 43972 | B22: AP | C22: 'https://api.gdeltproject.org/api/v2/doc/doc?query= | D22: ='Search terms'!$A$2 -> ("Donald Trump" OR "President Trump") | E22: domainis: | F22: =VLOOKUP(B22,'Sources to search'!A:B,2,FALSE) -> apnews.com | G22: &startdatetime= | H22: =VLOOKUP(A22,'Dates to search'!A:C,2,FALSE) -> 43972 | I22: &enddatetime= | J22: =VLOOKUP(A22,'Dates to search'!A:C,3,FALSE) -> 43973 | K22: &mode=artlist&maxrecords=250&sort=datedesc&format=csv', | L22: =CONCATENATE(C22,D22,E22,F22,G22,TEXT(H22,"yyyymmddhhmmss"),I22,TEXT(J22,"yyyymmddhhmmss"),K22) -> 'https://api.gdeltproject.org/api/v2/doc/doc?query=("Donald Trump" OR "President Trump") domainis:apnews.com&startdatetime=20200521000000&enddatetime=20200522000000&mode=artlist&maxrecords=250&sort=datedesc&format=csv',
A23: ='Dates to search'!$A$23 -> 43973 | B23: AP | C23: 'https://api.gdeltproject.org/api/v2/doc/doc?query= | D23: ='Search terms'!$A$2 -> ("Donald Trump" OR "President Trump") | E23: domainis: | F23: =VLOOKUP(B23,'Sources to search'!A:B,2,FALSE) -> apnews.com | G23: &startdatetime= | H23: =VLOOKUP(A23,'Dates to search'!A:C,2,FALSE) -> 43973 | I23: &enddatetime= | J23: =VLOOKUP(A23,'Dates to search'!A:C,3,FALSE) -> 43974 | K23: &mode=artlist&maxrecords=250&sort=datedesc&format=csv', | L23: =CONCATENATE(C23,D23,E23,F23,G23,TEXT(H23,"yyyymmddhhmmss"),I23,TEXT(J23,"yyyymmddhhmmss"),K23) -> 'https://api.gdeltproject.org/api/v2/doc/doc?query=("Donald Trump" OR "President Trump") domainis:apnews.com&startdatetime=20200522000000&enddatetime=20200523000000&mode=artlist&maxrecords=250&sort=datedesc&format=csv',
A24: ='Dates to search'!$A$24 -> 43974 | B24: AP | C24: 'https://api.gdeltproject.org/api/v2/doc/doc?query= | D24: ='Search terms'!$A$2 -> ("Donald Trump" OR "President Trump") | E24: domainis: | F24: =VLOOKUP(B24,'Sources to search'!A:B,2,FALSE) -> apnews.com | G24: &startdatetime= | H24: =VLOOKUP(A24,'Dates to search'!A:C,2,FALSE) -> 43974 | I24: &enddatetime= | J24: =VLOOKUP(A24,'Dates to search'!A:C,3,FALSE) -> 43975 | K24: &mode=artlist&maxrecords=250&sort=datedesc&format=csv', | L24: =CONCATENATE(C24,D24,E24,F24,G24,TEXT(H24,"yyyymmddhhmmss"),I24,TEXT(J24,"yyyymmddhhmmss"),K24) -> 'https://api.gdeltproject.org/api/v2/doc/doc?query=("Donald Trump" OR "President Trump") domainis:apnews.com&startdatetime=20200523000000&enddatetime=20200524000000&mode=artlist&maxrecords=250&sort=datedesc&format=csv',
A25: ='Dates to search'!$A$25 -> 43975 | B25: AP | C25: 'https://api.gdeltproject.org/api/v2/doc/doc?query= | D25: ='Search terms'!$A$2 -> ("Donald Trump" OR "President Trump") | E25: domainis: | F25: =VLOOKUP(B25,'Sources to search'!A:B,2,FALSE) -> apnews.com | G25: &startdatetime= | H25: =VLOOKUP(A25,'Dates to search'!A:C,2,FALSE) -> 43975 | I25: &enddatetime= | J25: =VLOOKUP(A25,'Dates to search'!A:C,3,FALSE) -> 43976 | K25: &mode=artlist&maxrecords=250&sort=datedesc&format=csv', | L25: =CONCATENATE(C25,D25,E25,F25,G25,TEXT(H25,"yyyymmddhhmmss"),I25,TEXT(J25,"yyyymmddhhmmss"),K25) -> 'https://api.gdeltproject.org/api/v2/doc/doc?query=("Donald Trump" OR "President Trump") domainis:apnews.com&startdatetime=20200524000000&enddatetime=20200525000000&mode=artlist&maxrecords=250&sort=datedesc&format=csv',
A26: ='Dates to search'!$A$26 -> 43976 | B26: AP | C26: 'https://api.gdeltproject.org/api/v2/doc/doc?query= | D26: ='Search terms'!$A$2 -> ("Donald Trump" OR "President Trump") | E26: domainis: | F26: =VLOOKUP(B26,'Sources to search'!A:B,2,FALSE) -> apnews.com | G26: &startdatetime= | H26: =VLOOKUP(A26,'Dates to search'!A:C,2,FALSE) -> 43976 | I26: &enddatetime= | J26: =VLOOKUP(A26,'Dates to search'!A:C,3,FALSE) -> 43977 | K26: &mode=artlist&maxrecords=250&sort=datedesc&format=csv', | L26: =CONCATENATE(C26,D26,E26,F26,G26,TEXT(H26,"yyyymmddhhmmss"),I26,TEXT(J26,"yyyymmddhhmmss"),K26) -> 'https://api.gdeltproject.org/api/v2/doc/doc?query=("Donald Trump" OR "President Trump") domainis:apnews.com&startdatetime=20200525000000&enddatetime=20200526000000&mode=artlist&maxrecords=250&sort=datedesc&format=csv',
A27: ='Dates to search'!$A$27 -> 43977 | B27: AP | C27: 'https://api.gdeltproject.org/api/v2/doc/doc?query= | D27: ='Search terms'!$A$2 -> ("Donald Trump" OR "President Trump") | E27: domainis: | F27: =VLOOKUP(B27,'Sources to search'!A:B,2,FALSE) -> apnews.com | G27: &startdatetime= | H27: =VLOOKUP(A27,'Dates to search'!A:C,2,FALSE) -> 43977 | I27: &enddatetime= | J27: =VLOOKUP(A27,'Dates to search'!A:C,3,FALSE) -> 43978 | K27: &mode=artlist&maxrecords=250&sort=datedesc&format=csv', | L27: =CONCATENATE(C27,D27,E27,F27,G27,TEXT(H27,"yyyymmddhhmmss"),I27,TEXT(J27,"yyyymmddhhmmss"),K27) -> 'https://api.gdeltproject.org/api/v2/doc/doc?query=("Donald Trump" OR "President Trump") domainis:apnews.com&startdatetime=20200526000000&enddatetime=20200527000000&mode=artlist&maxrecords=250&sort=datedesc&format=csv',
A28: ='Dates to search'!$A$28 -> 43978 | B28: AP | C28: 'https://api.gdeltproject.org/api/v2/doc/doc?query= | D28: ='Search terms'!$A$2 -> ("Donald Trump" OR "President Trump") | E28: domainis: | F28: =VLOOKUP(B28,'Sources to search'!A:B,2,FALSE) -> apnews.com | G28: &startdatetime= | H28: =VLOOKUP(A28,'Dates to search'!A:C,2,FALSE) -> 43978 | I28: &enddatetime= | J28: =VLOOKUP(A28,'Dates to search'!A:C,3,FALSE) -> 43979 | K28: &mode=artlist&maxrecords=250&sort=datedesc&format=csv', | L28: =CONCATENATE(C28,D28,E28,F28,G28,TEXT(H28,"yyyymmddhhmmss"),I28,TEXT(J28,"yyyymmddhhmmss"),K28) -> 'https://api.gdeltproject.org/api/v2/doc/doc?query=("Donald Trump" OR "President Trump") domainis:apnews.com&startdatetime=20200527000000&enddatetime=20200528000000&mode=artlist&maxrecords=250&sort=datedesc&format=csv',
A29: ='Dates to search'!$A$29 -> 43979 | B29: AP | C29: 'https://api.gdeltproject.org/api/v2/doc/doc?query= | D29: ='Search terms'!$A$2 -> ("Donald Trump" OR "President Trump") | E29: domainis: | F29: =VLOOKUP(B29,'Sources to search'!A:B,2,FALSE) -> apnews.com | G29: &startdatetime= | H29: =VLOOKUP(A29,'Dates to search'!A:C,2,FALSE) -> 43979 | I29: &enddatetime= | J29: =VLOOKUP(A29,'Dates to search'!A:C,3,FALSE) -> 43980 | K29: &mode=artlist&maxrecords=250&sort=datedesc&format=csv', | L29: =CONCATENATE(C29,D29,E29,F29,G29,TEXT(H29,"yyyymmddhhmmss"),I29,TEXT(J29,"yyyymmddhhmmss"),K29) -> 'https://api.gdeltproject.org/api/v2/doc/doc?query=("Donald Trump" OR "President Trump") domainis:apnews.com&startdatetime=20200528000000&enddatetime=20200529000000&mode=artlist&maxrecords=250&sort=datedesc&format=csv',
A30: ='Dates to search'!$A$30 -> 43980 | B30: AP | C30: 'https://api.gdeltproject.org/api/v2/doc/doc?query= | D30: ='Search terms'!$A$2 -> ("Donald Trump" OR "President Trump") | E30: domainis: | F30: =VLOOKUP(B30,'Sources to search'!A:B,2,FALSE) -> apnews.com | G30: &startdatetime= | H30: =VLOOKUP(A30,'Dates to search'!A:C,2,FALSE) -> 43980 | I30: &enddatetime= | J30: =VLOOKUP(A30,'Dates to search'!A:C,3,FALSE) -> 43981 | K30: &mode=artlist&maxrecords=250&sort=datedesc&format=csv', | L30: =CONCATENATE(C30,D30,E30,F30,G30,TEXT(H30,"yyyymmddhhmmss"),I30,TEXT(J30,"yyyymmddhhmmss"),K30) -> 'https://api.gdeltproject.org/api/v2/doc/doc?query=("Donald Trump" OR "President Trump") domainis:apnews.com&startdatetime=20200529000000&enddatetime=20200530000000&mode=artlist&maxrecords=250&sort=datedesc&format=csv',
A31: ='Dates to search'!$A$31 -> 43981 | B31: AP | C31: 'https://api.gdeltproject.org/api/v2/doc/doc?query= | D31: ='Search terms'!$A$2 -> ("Donald Trump" OR "President Trump") | E31: domainis: | F31: =VLOOKUP(B31,'Sources to search'!A:B,2,FALSE) -> apnews.com | G31: &startdatetime= | H31: =VLOOKUP(A31,'Dates to search'!A:C,2,FALSE) -> 43981 | I31: &enddatetime= | J31: =VLOOKUP(A31,'Dates to search'!A:C,3,FALSE) -> 43982 | K31: &mode=artlist&maxrecords=250&sort=datedesc&format=csv', | L31: =CONCATENATE(C31,D31,E31,F31,G31,TEXT(H31,"yyyymmddhhmmss"),I31,TEXT(J31,"yyyymmddhhmmss"),K31) -> 'https://api.gdeltproject.org/api/v2/doc/doc?query=("Donald Trump" OR "President Trump") domainis:apnews.com&startdatetime=20200530000000&enddatetime=20200531000000&mode=artlist&maxrecords=250&sort=datedesc&format=csv',
A32: ='Dates to search'!$A$32 -> 43982 | B32: AP | C32: 'https://api.gdeltproject.org/api/v2/doc/doc?query= | D32: ='Search terms'!$A$2 -> ("Donald Trump" OR "President Trump") | E32: domainis: | F32: =VLOOKUP(B32,'Sources to search'!A:B,2,FALSE) -> apnews.com | G32: &startdatetime= | H32: =VLOOKUP(A32,'Dates to search'!A:C,2,FALSE) -> 43982 | I32: &enddatetime= | J32: =VLOOKUP(A32,'Dates to search'!A:C,3,FALSE) -> 43983 | K32: &mode=artlist&maxrecords=250&sort=datedesc&format=csv', | L32: =CONCATENATE(C32,D32,E32,F32,G32,TEXT(H32,"yyyymmddhhmmss"),I32,TEXT(J32,"yyyymmddhhmmss"),K32) -> 'https://api.gdeltproject.org/api/v2/doc/doc?query=("Donald Trump" OR "President Trump") domainis:apnews.com&startdatetime=20200531000000&enddatetime=20200601000000&mode=artlist&maxrecords=250&sort=datedesc&format=csv',
A33: ='Dates to search'!$A$2 -> 43952 | B33: CNN | C33: 'https://api.gdeltproject.org/api/v2/doc/doc?query= | D33: ='Search terms'!$A$2 -> ("Donald Trump" OR "President Trump") | E33: domainis: | F33: =VLOOKUP(B33,'Sources to search'!A:B,2,FALSE) -> CNN.com | G33: &startdatetime= | H33: =VLOOKUP(A33,'Dates to search'!A:C,2,FALSE) -> 43952 | I33: &enddatetime= | J33: =VLOOKUP(A33,'Dates to search'!A:C,3,FALSE) -> 43953 | K33: &mode=artlist&maxrecords=250&sort=datedesc&format=csv', | L33: =CONCATENATE(C33,D33,E33,F33,G33,TEXT(H33,"yyyymmddhhmmss"),I33,TEXT(J33,"yyyymmddhhmmss"),K33) -> 'https://api.gdeltproject.org/api/v2/doc/doc?query=("Donald Trump" OR "President Trump") domainis:CNN.com&startdatetime=20200501000000&enddatetime=20200502000000&mode=artlist&maxrecords=250&sort=datedesc&format=csv',
A34: ='Dates to search'!$A$3 -> 43953 | B34: CNN | C34: 'https://api.gdeltproject.org/api/v2/doc/doc?query= | D34: ='Search terms'!$A$2 -> ("Donald Trump" OR "President Trump") | E34: domainis: | F34: =VLOOKUP(B34,'Sources to search'!A:B,2,FALSE) -> CNN.com | G34: &startdatetime= | H34: =VLOOKUP(A34,'Dates to search'!A:C,2,FALSE) -> 43953 | I34: &enddatetime= | J34: =VLOOKUP(A34,'Dates to search'!A:C,3,FALSE) -> 43954 | K34: &mode=artlist&maxrecords=250&sort=datedesc&format=csv', | L34: =CONCATENATE(C34,D34,E34,F34,G34,TEXT(H34,"yyyymmddhhmmss"),I34,TEXT(J34,"yyyymmddhhmmss"),K34) -> 'https://api.gdeltproject.org/api/v2/doc/doc?query=("Donald Trump" OR "President Trump") domainis:CNN.com&startdatetime=20200502000000&enddatetime=20200503000000&mode=artlist&maxrecords=250&sort=datedesc&format=csv',
A35: ='Dates to search'!$A$4 -> 43954 | B35: CNN | C35: 'https://api.gdeltproject.org/api/v2/doc/doc?query= | D35: ='Search terms'!$A$2 -> ("Donald Trump" OR "President Trump") | E35: domainis: | F35: =VLOOKUP(B35,'Sources to search'!A:B,2,FALSE) -> CNN.com | G35: &startdatetime= | H35: =VLOOKUP(A35,'Dates to search'!A:C,2,FALSE) -> 43954 | I35: &enddatetime= | J35: =VLOOKUP(A35,'Dates to search'!A:C,3,FALSE) -> 43955 | K35: &mode=artlist&maxrecords=250&sort=datedesc&format=csv', | L35: =CONCATENATE(C35,D35,E35,F35,G35,TEXT(H35,"yyyymmddhhmmss"),I35,TEXT(J35,"yyyymmddhhmmss"),K35) -> 'https://api.gdeltproject.org/api/v2/doc/doc?query=("Donald Trump" OR "President Trump") domainis:CNN.com&startdatetime=20200503000000&enddatetime=20200504000000&mode=artlist&maxrecords=250&sort=datedesc&format=csv',
A36: ='Dates to search'!$A$5 -> 43955 | B36: CNN | C36: 'https://api.gdeltproject.org/api/v2/doc/doc?query= | D36: ='Search terms'!$A$2 -> ("Donald Trump" OR "President Trump") | E36: domainis: | F36: =VLOOKUP(B36,'Sources to search'!A:B,2,FALSE) -> CNN.com | G36: &startdatetime= | H36: =VLOOKUP(A36,'Dates to search'!A:C,2,FALSE) -> 43955 | I36: &enddatetime= | J36: =VLOOKUP(A36,'Dates to search'!A:C,3,FALSE) -> 43956 | K36: &mode=artlist&maxrecords=250&sort=datedesc&format=csv', | L36: =CONCATENATE(C36,D36,E36,F36,G36,TEXT(H36,"yyyymmddhhmmss"),I36,TEXT(J36,"yyyymmddhhmmss"),K36) -> 'https://api.gdeltproject.org/api/v2/doc/doc?query=("Donald Trump" OR "President Trump") domainis:CNN.com&startdatetime=20200504000000&enddatetime=20200505000000&mode=artlist&maxrecords=250&sort=datedesc&format=csv',
A37: ='Dates to search'!$A$6 -> 43956 | B37: CNN | C37: 'https://api.gdeltproject.org/api/v2/doc/doc?query= | D37: ='Search terms'!$A$2 -> ("Donald Trump" OR "President Trump") | E37: domainis: | F37: =VLOOKUP(B37,'Sources to search'!A:B,2,FALSE) -> CNN.com | G37: &startdatetime= | H37: =VLOOKUP(A37,'Dates to search'!A:C,2,FALSE) -> 43956 | I37: &enddatetime= | J37: =VLOOKUP(A37,'Dates to search'!A:C,3,FALSE) -> 43957 | K37: &mode=artlist&maxrecords=250&sort=datedesc&format=csv', | L37: =CONCATENATE(C37,D37,E37,F37,G37,TEXT(H37,"yyyymmddhhmmss"),I37,TEXT(J37,"yyyymmddhhmmss"),K37) -> 'https://api.gdeltproject.org/api/v2/doc/doc?query=("Donald Trump" OR "President Trump") domainis:CNN.com&startdatetime=20200505000000&enddatetime=20200506000000&mode=artlist&maxrecords=250&sort=datedesc&format=csv',
A38: ='Dates to search'!$A$7 -> 43957 | B38: CNN | C38: 'https://api.gdeltproject.org/api/v2/doc/doc?query= | D38: ='Search terms'!$A$2 -> ("Donald Trump" OR "President Trump") | E38: domainis: | F38: =VLOOKUP(B38,'Sources to search'!A:B,2,FALSE) -> CNN.com | G38: &startdatetime= | H38: =VLOOKUP(A38,'Dates to search'!A:C,2,FALSE) -> 43957 | I38: &enddatetime= | J38: =VLOOKUP(A38,'Dates to search'!A:C,3,FALSE) -> 43958 | K38: &mode=artlist&maxrecords=250&sort=datedesc&format=csv', | L38: =CONCATENATE(C38,D38,E38,F38,G38,TEXT(H38,"yyyymmddhhmmss"),I38,TEXT(J38,"yyyymmddhhmmss"),K38) -> 'https://api.gdeltproject.org/api/v2/doc/doc?query=("Donald Trump" OR "President Trump") domainis:CNN.com&startdatetime=20200506000000&enddatetime=20200507000000&mode=artlist&maxrecords=250&sort=datedesc&format=csv',
A39: ='Dates to search'!$A$8 -> 43958 | B39: CNN | C39: 'https://api.gdeltproject.org/api/v2/doc/doc?query= | D39: ='Search terms'!$A$2 -> ("Donald Trump" OR "President Trump") | E39: domainis: | F39: =VLOOKUP(B39,'Sources to search'!A:B,2,FALSE) -> CNN.com | G39: &startdatetime= | H39: =VLOOKUP(A39,'Dates to search'!A:C,2,FALSE) -> 43958 | I39: &enddatetime= | J39: =VLOOKUP(A39,'Dates to search'!A:C,3,FALSE) -> 43959 | K39: &mode=artlist&maxrecords=250&sort=datedesc&format=csv', | L39: =CONCATENATE(C39,D39,E39,F39,G39,TEXT(H39,"yyyymmddhhmmss"),I39,TEXT(J39,"yyyymmddhhmmss"),K39) -> 'https://api.gdeltproject.org/api/v2/doc/doc?query=("Donald Trump" OR "President Trump") domainis:CNN.com&startdatetime=20200507000000&enddatetime=20200508000000&mode=artlist&maxrecords=250&sort=datedesc&format=csv',
A40: ='Dates to search'!$A$9 -> 43959 | B40: CNN | C40: 'https://api.gdeltproject.org/api/v2/doc/doc?query= | D40: ='Search terms'!$A$2 -> ("Donald Trump" OR "President Trump") | E40: domainis: | F40: =VLOOKUP(B40,'Sources to search'!A:B,2,FALSE) -> CNN.com | G40: &startdatetime= | H40: =VLOOKUP(A40,'Dates to search'!A:C,2,FALSE) -> 43959 | I40: &enddatetime= | J40: =VLOOKUP(A40,'Dates to search'!A:C,3,FALSE) -> 43960 | K40: &mode=artlist&maxrecords=250&sort=datedesc&format=csv', | L40: =CONCATENATE(C40,D40,E40,F40,G40,TEXT(H40,"yyyymmddhhmmss"),I40,TEXT(J40,"yyyymmddhhmmss"),K40) -> 'https://api.gdeltproject.org/api/v2/doc/doc?query=("Donald Trump" OR "President Trump") domainis:CNN.com&startdatetime=20200508000000&enddatetime=20200509000000&mode=artlist&maxrecords=250&sort=datedesc&format=csv',
A41: ='Dates to search'!$A$10 -> 43960 | B41: CNN | C41: 'https://api.gdeltproject.org/api/v2/doc/doc?query= | D41: ='Search terms'!$A$2 -> ("Donald Trump" OR "President Trump") | E41: domainis: | F41: =VLOOKUP(B41,'Sources to search'!A:B,2,FALSE) -> CNN.com | G41: &startdatetime= | H41: =VLOOKUP(A41,'Dates to search'!A:C,2,FALSE) -> 43960 | I41: &enddatetime= | J41: =VLOOKUP(A41,'Dates to search'!A:C,3,FALSE) -> 43961 | K41: &mode=artlist&maxrecords=250&sort=datedesc&format=csv', | L41: =CONCATENATE(C41,D41,E41,F41,G41,TEXT(H41,"yyyymmddhhmmss"),I41,TEXT(J41,"yyyymmddhhmmss"),K41) -> 'https://api.gdeltproject.org/api/v2/doc/doc?query=("Donald Trump" OR "President Trump") domainis:CNN.com&startdatetime=20200509000000&enddatetime=20200510000000&mode=artlist&maxrecords=250&sort=datedesc&format=csv',
A42: ='Dates to search'!$A$11 -> 43961 | B42: CNN | C42: 'https://api.gdeltproject.org/api/v2/doc/doc?query= | D42: ='Search terms'!$A$2 -> ("Donald Trump" OR "President Trump") | E42: domainis: | F42: =VLOOKUP(B42,'Sources to search'!A:B,2,FALSE) -> CNN.com | G42: &startdatetime= | H42: =VLOOKUP(A42,'Dates to search'!A:C,2,FALSE) -> 43961 | I42: &enddatetime= | J42: =VLOOKUP(A42,'Dates to search'!A:C,3,FALSE) -> 43962 | K42: &mode=artlist&maxrecords=250&sort=datedesc&format=csv', | L42: =CONCATENATE(C42,D42,E42,F42,G42,TEXT(H42,"yyyymmddhhmmss"),I42,TEXT(J42,"yyyymmddhhmmss"),K42) -> 'https://api.gdeltproject.org/api/v2/doc/doc?query=("Donald Trump" OR "President Trump") domainis:CNN.com&startdatetime=20200510000000&enddatetime=20200511000000&mode=artlist&maxrecords=250&sort=datedesc&format=csv',
A43: ='Dates to search'!$A$12 -> 43962 | B43: CNN | C43: 'https://api.gdeltproject.org/api/v2/doc/doc?query= | D43: ='Search terms'!$A$2 -> ("Donald Trump" OR "President Trump") | E43: domainis: | F43: =VLOOKUP(B43,'Sources to search'!A:B,2,FALSE) -> CNN.com | G43: &startdatetime= | H43: =VLOOKUP(A43,'Dates to search'!A:C,2,FALSE) -> 43962 | I43: &enddatetime= | J43: =VLOOKUP(A43,'Dates to search'!A:C,3,FALSE) -> 43963 | K43: &mode=artlist&maxrecords=250&sort=datedesc&format=csv', | L43: =CONCATENATE(C43,D43,E43,F43,G43,TEXT(H43,"yyyymmddhhmmss"),I43,TEXT(J43,"yyyymmddhhmmss"),K43) -> 'https://api.gdeltproject.org/api/v2/doc/doc?query=("Donald Trump" OR "President Trump") domainis:CNN.com&startdatetime=20200511000000&enddatetime=20200512000000&mode=artlist&maxrecords=250&sort=datedesc&format=csv',
A44: ='Dates to search'!$A$13 -> 43963 | B44: CNN | C44: 'https://api.gdeltproject.org/api/v2/doc/doc?query= | D44: ='Search terms'!$A$2 -> ("Donald Trump" OR "President Trump") | E44: domainis: | F44: =VLOOKUP(B44,'Sources to search'!A:B,2,FALSE) -> CNN.com | G44: &startdatetime= | H44: =VLOOKUP(A44,'Dates to search'!A:C,2,FALSE) -> 43963 | I44: &enddatetime= | J44: =VLOOKUP(A44,'Dates to search'!A:C,3,FALSE) -> 43964 | K44: &mode=artlist&maxrecords=250&sort=datedesc&format=csv', | L44: =CONCATENATE(C44,D44,E44,F44,G44,TEXT(H44,"yyyymmddhhmmss"),I44,TEXT(J44,"yyyymmddhhmmss"),K44) -> 'https://api.gdeltproject.org/api/v2/doc/doc?query=("Donald Trump" OR "President Trump") domainis:CNN.com&startdatetime=20200512000000&enddatetime=20200513000000&mode=artlist&maxrecords=250&sort=datedesc&format=csv',
A45: ='Dates to search'!$A$14 -> 43964 | B45: CNN | C45: 'https://api.gdeltproject.org/api/v2/doc/doc?query= | D45: ='Search terms'!$A$2 -> ("Donald Trump" OR "President Trump") | E45: domainis: | F45: =VLOOKUP(B45,'Sources to search'!A:B,2,FALSE) -> CNN.com | G45: &startdatetime= | H45: =VLOOKUP(A45,'Dates to search'!A:C,2,FALSE) -> 43964 | I45: &enddatetime= | J45: =VLOOKUP(A45,'Dates to search'!A:C,3,FALSE) -> 43965 | K45: &mode=artlist&maxrecords=250&sort=datedesc&format=csv', | L45: =CONCATENATE(C45,D45,E45,F45,G45,TEXT(H45,"yyyymmddhhmmss"),I45,TEXT(J45,"yyyymmddhhmmss"),K45) -> 'https://api.gdeltproject.org/api/v2/doc/doc?query=("Donald Trump" OR "President Trump") domainis:CNN.com&startdatetime=20200513000000&enddatetime=20200514000000&mode=artlist&maxrecords=250&sort=datedesc&format=csv',
A46: ='Dates to search'!$A$15 -> 43965 | B46: CNN | C46: 'https://api.gdeltproject.org/api/v2/doc/doc?query= | D46: ='Search terms'!$A$2 -> ("Donald Trump" OR "President Trump") | E46: domainis: | F46: =VLOOKUP(B46,'Sources to search'!A:B,2,FALSE) -> CNN.com | G46: &startdatetime= | H46: =VLOOKUP(A46,'Dates to search'!A:C,2,FALSE) -> 43965 | I46: &enddatetime= | J46: =VLOOKUP(A46,'Dates to search'!A:C,3,FALSE) -> 43966 | K46: &mode=artlist&maxrecords=250&sort=datedesc&format=csv', | L46: =CONCATENATE(C46,D46,E46,F46,G46,TEXT(H46,"yyyymmddhhmmss"),I46,TEXT(J46,"yyyymmddhhmmss"),K46) -> 'https://api.gdeltproject.org/api/v2/doc/doc?query=("Donald Trump" OR "President Trump") domainis:CNN.com&startdatetime=20200514000000&enddatetime=20200515000000&mode=artlist&maxrecords=250&sort=datedesc&format=csv',
A47: ='Dates to search'!$A$16 -> 43966 | B47: CNN | C47: 'https://api.gdeltproject.org/api/v2/doc/doc?query= | D47: ='Search terms'!$A$2 -> ("Donald Trump" OR "President Trump") | E47: domainis: | F47: =VLOOKUP(B47,'Sources to search'!A:B,2,FALSE) -> CNN.com | G47: &startdatetime= | H47: =VLOOKUP(A47,'Dates to search'!A:C,2,FALSE) -> 43966 | I47: &enddatetime= | J47: =VLOOKUP(A47,'Dates to search'!A:C,3,FALSE) -> 43967 | K47: &mode=artlist&maxrecords=250&sort=datedesc&format=csv', | L47: =CONCATENATE(C47,D47,E47,F47,G47,TEXT(H47,"yyyymmddhhmmss"),I47,TEXT(J47,"yyyymmddhhmmss"),K47) -> 'https://api.gdeltproject.org/api/v2/doc/doc?query=("Donald Trump" OR "President Trump") domainis:CNN.com&startdatetime=20200515000000&enddatetime=20200516000000&mode=artlist&maxrecords=250&sort=datedesc&format=csv',
A48: ='Dates to search'!$A$17 -> 43967 | B48: CNN | C48: 'https://api.gdeltproject.org/api/v2/doc/doc?query= | D48: ='Search terms'!$A$2 -> ("Donald Trump" OR "President Trump") | E48: domainis: | F48: =VLOOKUP(B48,'Sources to search'!A:B,2,FALSE) -> CNN.com | G48: &startdatetime= | H48: =VLOOKUP(A48,'Dates to search'!A:C,2,FALSE) -> 43967 | I48: &enddatetime= | J48: =VLOOKUP(A48,'Dates to search'!A:C,3,FALSE) -> 43968 | K48: &mode=artlist&maxrecords=250&sort=datedesc&format=csv', | L48: =CONCATENATE(C48,D48,E48,F48,G48,TEXT(H48,"yyyymmddhhmmss"),I48,TEXT(J48,"yyyymmddhhmmss"),K48) -> 'https://api.gdeltproject.org/api/v2/doc/doc?query=("Donald Trump" OR "President Trump") domainis:CNN.com&startdatetime=20200516000000&enddatetime=20200517000000&mode=artlist&maxrecords=250&sort=datedesc&format=csv',
A49: ='Dates to search'!$A$18 -> 43968 | B49: CNN | C49: 'https://api.gdeltproject.org/api/v2/doc/doc?query= | D49: ='Search terms'!$A$2 -> ("Donald Trump" OR "President Trump") | E49: domainis: | F49: =VLOOKUP(B49,'Sources to search'!A:B,2,FALSE) -> CNN.com | G49: &startdatetime= | H49: =VLOOKUP(A49,'Dates to search'!A:C,2,FALSE) -> 43968 | I49: &enddatetime= | J49: =VLOOKUP(A49,'Dates to search'!A:C,3,FALSE) -> 43969 | K49: &mode=artlist&maxrecords=250&sort=datedesc&format=csv', | L49: =CONCATENATE(C49,D49,E49,F49,G49,TEXT(H49,"yyyymmddhhmmss"),I49,TEXT(J49,"yyyymmddhhmmss"),K49) -> 'https://api.gdeltproject.org/api/v2/doc/doc?query=("Donald Trump" OR "President Trump") domainis:CNN.com&startdatetime=20200517000000&enddatetime=20200518000000&mode=artlist&maxrecords=250&sort=datedesc&format=csv',
A50: ='Dates to search'!$A$19 -> 43969 | B50: CNN | C50: 'https://api.gdeltproject.org/api/v2/doc/doc?query= | D50: ='Search terms'!$A$2 -> ("Donald Trump" OR "President Trump") | E50: domainis: | F50: =VLOOKUP(B50,'Sources to search'!A:B,2,FALSE) -> CNN.com | G50: &startdatetime= | H50: =VLOOKUP(A50,'Dates to search'!A:C,2,FALSE) -> 43969 | I50: &enddatetime= | J50: =VLOOKUP(A50,'Dates to search'!A:C,3,FALSE) -> 43970 | K50: &mode=artlist&maxrecords=250&sort=datedesc&format=csv', | L50: =CONCATENATE(C50,D50,E50,F50,G50,TEXT(H50,"yyyymmddhhmmss"),I50,TEXT(J50,"yyyymmddhhmmss"),K50) -> 'https://api.gdeltproject.org/api/v2/doc/doc?query=("Donald Trump" OR "President Trump") domainis:CNN.com&startdatetime=20200518000000&enddatetime=20200519000000&mode=artlist&maxrecords=250&sort=datedesc&format=csv',
A51: ='Dates to search'!$A$20 -> 43970 | B51: CNN | C51: 'https://api.gdeltproject.org/api/v2/doc/doc?query= | D51: ='Search terms'!$A$2 -> ("Donald Trump" OR "President Trump") | E51: domainis: | F51: =VLOOKUP(B51,'Sources to search'!A:B,2,FALSE) -> CNN.com | G51: &startdatetime= | H51: =VLOOKUP(A51,'Dates to search'!A:C,2,FALSE) -> 43970 | I51: &enddatetime= | J51: =VLOOKUP(A51,'Dates to search'!A:C,3,FALSE) -> 43971 | K51: &mode=artlist&maxrecords=250&sort=datedesc&format=csv', | L51: =CONCATENATE(C51,D51,E51,F51,G51,TEXT(H51,"yyyymmddhhmmss"),I51,TEXT(J51,"yyyymmddhhmmss"),K51) -> 'https://api.gdeltproject.org/api/v2/doc/doc?query=("Donald Trump" OR "President Trump") domainis:CNN.com&startdatetime=20200519000000&enddatetime=20200520000000&mode=artlist&maxrecords=250&sort=datedesc&format=csv',
A52: ='Dates to search'!$A$21 -> 43971 | B52: CNN | C52: 'https://api.gdeltproject.org/api/v2/doc/doc?query= | D52: ='Search terms'!$A$2 -> ("Donald Trump" OR "President Trump") | E52: domainis: | F52: =VLOOKUP(B52,'Sources to search'!A:B,2,FALSE) -> CNN.com | G52: &startdatetime= | H52: =VLOOKUP(A52,'Dates to search'!A:C,2,FALSE) -> 43971 | I52: &enddatetime= | J52: =VLOOKUP(A52,'Dates to search'!A:C,3,FALSE) -> 43972 | K52: &mode=artlist&maxrecords=250&sort=datedesc&format=csv', | L52: =CONCATENATE(C52,D52,E52,F52,G52,TEXT(H52,"yyyymmddhhmmss"),I52,TEXT(J52,"yyyymmddhhmmss"),K52) -> 'https://api.gdeltproject.org/api/v2/doc/doc?query=("Donald Trump" OR "President Trump") domainis:CNN.com&startdatetime=20200520000000&enddatetime=20200521000000&mode=artlist&maxrecords=250&sort=datedesc&format=csv',
A53: ='Dates to search'!$A$22 -> 43972 | B53: CNN | C53: 'https://api.gdeltproject.org/api/v2/doc/doc?query= | D53: ='Search terms'!$A$2 -> ("Donald Trump" OR "President Trump") | E53: domainis: | F53: =VLOOKUP(B53,'Sources to search'!A:B,2,FALSE) -> CNN.com | G53: &startdatetime= | H53: =VLOOKUP(A53,'Dates to search'!A:C,2,FALSE) -> 43972 | I53: &enddatetime= | J53: =VLOOKUP(A53,'Dates to search'!A:C,3,FALSE) -> 43973 | K53: &mode=artlist&maxrecords=250&sort=datedesc&format=csv', | L53: =CONCATENATE(C53,D53,E53,F53,G53,TEXT(H53,"yyyymmddhhmmss"),I53,TEXT(J53,"yyyymmddhhmmss"),K53) -> 'https://api.gdeltproject.org/api/v2/doc/doc?query=("Donald Trump" OR "President Trump") domainis:CNN.com&startdatetime=20200521000000&enddatetime=20200522000000&mode=artlist&maxrecords=250&sort=datedesc&format=csv',
A54: ='Dates to search'!$A$23 -> 43973 | B54: CNN | C54: 'https://api.gdeltproject.org/api/v2/doc/doc?query= | D54: ='Search terms'!$A$2 -> ("Donald Trump" OR "President Trump") | E54: domainis: | F54: =VLOOKUP(B54,'Sources to search'!A:B,2,FALSE) -> CNN.com | G54: &startdatetime= | H54: =VLOOKUP(A54,'Dates to search'!A:C,2,FALSE) -> 43973 | I54: &enddatetime= | J54: =VLOOKUP(A54,'Dates to search'!A:C,3,FALSE) -> 43974 | K54: &mode=artlist&maxrecords=250&sort=datedesc&format=csv', | L54: =CONCATENATE(C54,D54,E54,F54,G54,TEXT(H54,"yyyymmddhhmmss"),I54,TEXT(J54,"yyyymmddhhmmss"),K54) -> 'https://api.gdeltproject.org/api/v2/doc/doc?query=("Donald Trump" OR "President Trump") domainis:CNN.com&startdatetime=20200522000000&enddatetime=20200523000000&mode=artlist&maxrecords=250&sort=datedesc&format=csv',
A55: ='Dates to search'!$A$24 -> 43974 | B55: CNN | C55: 'https://api.gdeltproject.org/api/v2/doc/doc?query= | D55: ='Search terms'!$A$2 -> ("Donald Trump" OR "President Trump") | E55: domainis: | F55: =VLOOKUP(B55,'Sources to search'!A:B,2,FALSE) -> CNN.com | G55: &startdatetime= | H55: =VLOOKUP(A55,'Dates to search'!A:C,2,FALSE) -> 43974 | I55: &enddatetime= | J55: =VLOOKUP(A55,'Dates to search'!A:C,3,FALSE) -> 43975 | K55: &mode=artlist&maxrecords=250&sort=datedesc&format=csv', | L55: =CONCATENATE(C55,D55,E55,F55,G55,TEXT(H55,"yyyymmddhhmmss"),I55,TEXT(J55,"yyyymmddhhmmss"),K55) -> 'https://api.gdeltproject.org/api/v2/doc/doc?query=("Donald Trump" OR "President Trump") domainis:CNN.com&startdatetime=20200523000000&enddatetime=20200524000000&mode=artlist&maxrecords=250&sort=datedesc&format=csv',
A56: ='Dates to search'!$A$25 -> 43975 | B56: CNN | C56: 'https://api.gdeltproject.org/api/v2/doc/doc?query= | D56: ='Search terms'!$A$2 -> ("Donald Trump" OR "President Trump") | E56: domainis: | F56: =VLOOKUP(B56,'Sources to search'!A:B,2,FALSE) -> CNN.com | G56: &startdatetime= | H56: =VLOOKUP(A56,'Dates to search'!A:C,2,FALSE) -> 43975 | I56: &enddatetime= | J56: =VLOOKUP(A56,'Dates to search'!A:C,3,FALSE) -> 43976 | K56: &mode=artlist&maxrecords=250&sort=datedesc&format=csv', | L56: =CONCATENATE(C56,D56,E56,F56,G56,TEXT(H56,"yyyymmddhhmmss"),I56,TEXT(J56,"yyyymmddhhmmss"),K56) -> 'https://api.gdeltproject.org/api/v2/doc/doc?query=("Donald Trump" OR "President Trump") domainis:CNN.com&startdatetime=20200524000000&enddatetime=20200525000000&mode=artlist&maxrecords=250&sort=datedesc&format=csv',
A57: ='Dates to search'!$A$26 -> 43976 | B57: CNN | C57: 'https://api.gdeltproject.org/api/v2/doc/doc?query= | D57: ='Search terms'!$A$2 -> ("Donald Trump" OR "President Trump") | E57: domainis: | F57: =VLOOKUP(B57,'Sources to search'!A:B,2,FALSE) -> CNN.com | G57: &startdatetime= | H57: =VLOOKUP(A57,'Dates to search'!A:C,2,FALSE) -> 43976 | I57: &enddatetime= | J57: =VLOOKUP(A57,'Dates to search'!A:C,3,FALSE) -> 43977 | K57: &mode=artlist&maxrecords=250&sort=datedesc&format=csv', | L57: =CONCATENATE(C57,D57,E57,F57,G57,TEXT(H57,"yyyymmddhhmmss"),I57,TEXT(J57,"yyyymmddhhmmss"),K57) -> 'https://api.gdeltproject.org/api/v2/doc/doc?query=("Donald Trump" OR "President Trump") domainis:CNN.com&startdatetime=20200525000000&enddatetime=20200526000000&mode=artlist&maxrecords=250&sort=datedesc&format=csv',
A58: ='Dates to search'!$A$27 -> 43977 | B58: CNN | C58: 'https://api.gdeltproject.org/api/v2/doc/doc?query= | D58: ='Search terms'!$A$2 -> ("Donald Trump" OR "President Trump") | E58: domainis: | F58: =VLOOKUP(B58,'Sources to search'!A:B,2,FALSE) -> CNN.com | G58: &startdatetime= | H58: =VLOOKUP(A58,'Dates to search'!A:C,2,FALSE) -> 43977 | I58: &enddatetime= | J58: =VLOOKUP(A58,'Dates to search'!A:C,3,FALSE) -> 43978 | K58: &mode=artlist&maxrecords=250&sort=datedesc&format=csv', | L58: =CONCATENATE(C58,D58,E58,F58,G58,TEXT(H58,"yyyymmddhhmmss"),I58,TEXT(J58,"yyyymmddhhmmss"),K58) -> 'https://api.gdeltproject.org/api/v2/doc/doc?query=("Donald Trump" OR "President Trump") domainis:CNN.com&startdatetime=20200526000000&enddatetime=20200527000000&mode=artlist&maxrecords=250&sort=datedesc&format=csv',
A59: ='Dates to search'!$A$28 -> 43978 | B59: CNN | C59: 'https://api.gdeltproject.org/api/v2/doc/doc?query= | D59: ='Search terms'!$A$2 -> ("Donald Trump" OR "President Trump") | E59: domainis: | F59: =VLOOKUP(B59,'Sources to search'!A:B,2,FALSE) -> CNN.com | G59: &startdatetime= | H59: =VLOOKUP(A59,'Dates to search'!A:C,2,FALSE) -> 43978 | I59: &enddatetime= | J59: =VLOOKUP(A59,'Dates to search'!A:C,3,FALSE) -> 43979 | K59: &mode=artlist&maxrecords=250&sort=datedesc&format=csv', | L59: =CONCATENATE(C59,D59,E59,F59,G59,TEXT(H59,"yyyymmddhhmmss"),I59,TEXT(J59,"yyyymmddhhmmss"),K59) -> 'https://api.gdeltproject.org/api/v2/doc/doc?query=("Donald Trump" OR "President Trump") domainis:CNN.com&startdatetime=20200527000000&enddatetime=20200528000000&mode=artlist&maxrecords=250&sort=datedesc&format=csv',
A60: ='Dates to search'!$A$29 -> 43979 | B60: CNN | C60: 'https://api.gdeltproject.org/api/v2/doc/doc?query= | D60: ='Search terms'!$A$2 -> ("Donald Trump" OR "President Trump") | E60: domainis: | F60: =VLOOKUP(B60,'Sources to search'!A:B,2,FALSE) -> CNN.com | G60: &startdatetime= | H60: =VLOOKUP(A60,'Dates to search'!A:C,2,FALSE) -> 43979 | I60: &enddatetime= | J60: =VLOOKUP(A60,'Dates to search'!A:C,3,FALSE) -> 43980 | K60: &mode=artlist&maxrecords=250&sort=datedesc&format=csv', | L60: =CONCATENATE(C60,D60,E60,F60,G60,TEXT(H60,"yyyymmddhhmmss"),I60,TEXT(J60,"yyyymmddhhmmss"),K60) -> 'https://api.gdeltproject.org/api/v2/doc/doc?query=("Donald Trump" OR "President Trump") domainis:CNN.com&startdatetime=20200528000000&enddatetime=20200529000000&mode=artlist&maxrecords=250&sort=datedesc&format=csv',
A61: ='Dates to search'!$A$30 -> 43980 | B61: CNN | C61: 'https://api.gdeltproject.org/api/v2/doc/doc?query= | D61: ='Search terms'!$A$2 -> ("Donald Trump" OR "President Trump") | E61: domainis: | F61: =VLOOKUP(B61,'Sources to search'!A:B,2,FALSE) -> CNN.com | G61: &startdatetime= | H61: =VLOOKUP(A61,'Dates to search'!A:C,2,FALSE) -> 43980 | I61: &enddatetime= | J61: =VLOOKUP(A61,'Dates to search'!A:C,3,FALSE) -> 43981 | K61: &mode=artlist&maxrecords=250&sort=datedesc&format=csv', | L61: =CONCATENATE(C61,D61,E61,F61,G61,TEXT(H61,"yyyymmddhhmmss"),I61,TEXT(J61,"yyyymmddhhmmss"),K61) -> 'https://api.gdeltproject.org/api/v2/doc/doc?query=("Donald Trump" OR "President Trump") domainis:CNN.com&startdatetime=20200529000000&enddatetime=20200530000000&mode=artlist&maxrecords=250&sort=datedesc&format=csv',
A62: ='Dates to search'!$A$31 -> 43981 | B62: CNN | C62: 'https://api.gdeltproject.org/api/v2/doc/doc?query= | D62: ='Search terms'!$A$2 -> ("Donald Trump" OR "President Trump") | E62: domainis: | F62: =VLOOKUP(B62,'Sources to search'!A:B,2,FALSE) -> CNN.com | G62: &startdatetime= | H62: =VLOOKUP(A62,'Dates to search'!A:C,2,FALSE) -> 43981 | I62: &enddatetime= | J62: =VLOOKUP(A62,'Dates to search'!A:C,3,FALSE) -> 43982 | K62: &mode=artlist&maxrecords=250&sort=datedesc&format=csv', | L62: =CONCATENATE(C62,D62,E62,F62,G62,TEXT(H62,"yyyymmddhhmmss"),I62,TEXT(J62,"yyyymmddhhmmss"),K62) -> 'https://api.gdeltproject.org/api/v2/doc/doc?query=("Donald Trump" OR "President Trump") domainis:CNN.com&startdatetime=20200530000000&enddatetime=20200531000000&mode=artlist&maxrecords=250&sort=datedesc&format=csv',
A63: ='Dates to search'!$A$32 -> 43982 | B63: CNN | C63: 'https://api.gdeltproject.org/api/v2/doc/doc?query= | D63: ='Search terms'!$A$2 -> ("Donald Trump" OR "President Trump") | E63: domainis: | F63: =VLOOKUP(B63,'Sources to search'!A:B,2,FALSE) -> CNN.com | G63: &startdatetime= | H63: =VLOOKUP(A63,'Dates to search'!A:C,2,FALSE) -> 43982 | I63: &enddatetime= | J63: =VLOOKUP(A63,'Dates to search'!A:C,3,FALSE) -> 43983 | K63: &mode=artlist&maxrecords=250&sort=datedesc&format=csv', | L63: =CONCATENATE(C63,D63,E63,F63,G63,TEXT(H63,"yyyymmddhhmmss"),I63,TEXT(J63,"yyyymmddhhmmss"),K63) -> 'https://api.gdeltproject.org/api/v2/doc/doc?query=("Donald Trump" OR "President Trump") domainis:CNN.com&startdatetime=20200531000000&enddatetime=20200601000000&mode=artlist&maxrecords=250&sort=datedesc&format=csv',
A64: ='Dates to search'!$A$2 -> 43952 | B64: FoxNews | C64: 'https://api.gdeltproject.org/api/v2/doc/doc?query= | D64: ='Search terms'!$A$2 -> ("Donald Trump" OR "President Trump") | E64: domainis: | F64: =VLOOKUP(B64,'Sources to search'!A:B,2,FALSE) -> foxnews.com | G64: &startdatetime= | H64: =VLOOKUP(A64,'Dates to search'!A:C,2,FALSE) -> 43952 | I64: &enddatetime= | J64: =VLOOKUP(A64,'Dates to search'!A:C,3,FALSE) -> 43953 | K64: &mode=artlist&maxrecords=250&sort=datedesc&format=csv', | L64: =CONCATENATE(C64,D64,E64,F64,G64,TEXT(H64,"yyyymmddhhmmss"),I64,TEXT(J64,"yyyymmddhhmmss"),K64) -> 'https://api.gdeltproject.org/api/v2/doc/doc?query=("Donald Trump" OR "President Trump") domainis:foxnews.com&startdatetime=20200501000000&enddatetime=20200502000000&mode=artlist&maxrecords=250&sort=datedesc&format=csv',
A65: ='Dates to search'!$A$3 -> 43953 | B65: FoxNews | C65: 'https://api.gdeltproject.org/api/v2/doc/doc?query= | D65: ='Search terms'!$A$2 -> ("Donald Trump" OR "President Trump") | E65: domainis: | F65: =VLOOKUP(B65,'Sources to search'!A:B,2,FALSE) -> foxnews.com | G65: &startdatetime= | H65: =VLOOKUP(A65,'Dates to search'!A:C,2,FALSE) -> 43953 | I65: &enddatetime= | J65: =VLOOKUP(A65,'Dates to search'!A:C,3,FALSE) -> 43954 | K65: &mode=artlist&maxrecords=250&sort=datedesc&format=csv', | L65: =CONCATENATE(C65,D65,E65,F65,G65,TEXT(H65,"yyyymmddhhmmss"),I65,TEXT(J65,"yyyymmddhhmmss"),K65) -> 'https://api.gdeltproject.org/api/v2/doc/doc?query=("Donald Trump" OR "President Trump") domainis:foxnews.com&startdatetime=20200502000000&enddatetime=20200503000000&mode=artlist&maxrecords=250&sort=datedesc&format=csv',
A66: ='Dates to search'!$A$4 -> 43954 | B66: FoxNews | C66: 'https://api.gdeltproject.org/api/v2/doc/doc?query= | D66: ='Search terms'!$A$2 -> ("Donald Trump" OR "President Trump") | E66: domainis: | F66: =VLOOKUP(B66,'Sources to search'!A:B,2,FALSE) -> foxnews.com | G66: &startdatetime= | H66: =VLOOKUP(A66,'Dates to search'!A:C,2,FALSE) -> 43954 | I66: &enddatetime= | J66: =VLOOKUP(A66,'Dates to search'!A:C,3,FALSE) -> 43955 | K66: &mode=artlist&maxrecords=250&sort=datedesc&format=csv', | L66: =CONCATENATE(C66,D66,E66,F66,G66,TEXT(H66,"yyyymmddhhmmss"),I66,TEXT(J66,"yyyymmddhhmmss"),K66) -> 'https://api.gdeltproject.org/api/v2/doc/doc?query=("Donald Trump" OR "President Trump") domainis:foxnews.com&startdatetime=20200503000000&enddatetime=20200504000000&mode=artlist&maxrecords=250&sort=datedesc&format=csv',
A67: ='Dates to search'!$A$5 -> 43955 | B67: FoxNews | C67: 'https://api.gdeltproject.org/api/v2/doc/doc?query= | D67: ='Search terms'!$A$2 -> ("Donald Trump" OR "President Trump") | E67: domainis: | F67: =VLOOKUP(B67,'Sources to search'!A:B,2,FALSE) -> foxnews.com | G67: &startdatetime= | H67: =VLOOKUP(A67,'Dates to search'!A:C,2,FALSE) -> 43955 | I67: &enddatetime= | J67: =VLOOKUP(A67,'Dates to search'!A:C,3,FALSE) -> 43956 | K67: &mode=artlist&maxrecords=250&sort=datedesc&format=csv', | L67: =CONCATENATE(C67,D67,E67,F67,G67,TEXT(H67,"yyyymmddhhmmss"),I67,TEXT(J67,"yyyymmddhhmmss"),K67) -> 'https://api.gdeltproject.org/api/v2/doc/doc?query=("Donald Trump" OR "President Trump") domainis:foxnews.com&startdatetime=20200504000000&enddatetime=20200505000000&mode=artlist&maxrecords=250&sort=datedesc&format=csv',
A68: ='Dates to search'!$A$6 -> 43956 | B68: FoxNews | C68: 'https://api.gdeltproject.org/api/v2/doc/doc?query= | D68: ='Search terms'!$A$2 -> ("Donald Trump" OR "President Trump") | E68: domainis: | F68: =VLOOKUP(B68,'Sources to search'!A:B,2,FALSE) -> foxnews.com | G68: &startdatetime= | H68: =VLOOKUP(A68,'Dates to search'!A:C,2,FALSE) -> 43956 | I68: &enddatetime= | J68: =VLOOKUP(A68,'Dates to search'!A:C,3,FALSE) -> 43957 | K68: &mode=artlist&maxrecords=250&sort=datedesc&format=csv', | L68: =CONCATENATE(C68,D68,E68,F68,G68,TEXT(H68,"yyyymmddhhmmss"),I68,TEXT(J68,"yyyymmddhhmmss"),K68) -> 'https://api.gdeltproject.org/api/v2/doc/doc?query=("Donald Trump" OR "President Trump") domainis:foxnews.com&startdatetime=20200505000000&enddatetime=20200506000000&mode=artlist&maxrecords=250&sort=datedesc&format=csv',
A69: ='Dates to search'!$A$7 -> 43957 | B69: FoxNews | C69: 'https://api.gdeltproject.org/api/v2/doc/doc?query= | D69: ='Search terms'!$A$2 -> ("Donald Trump" OR "President Trump") | E69: domainis: | F69: =VLOOKUP(B69,'Sources to search'!A:B,2,FALSE) -> foxnews.com | G69: &startdatetime= | H69: =VLOOKUP(A69,'Dates to search'!A:C,2,FALSE) -> 43957 | I69: &enddatetime= | J69: =VLOOKUP(A69,'Dates to search'!A:C,3,FALSE) -> 43958 | K69: &mode=artlist&maxrecords=250&sort=datedesc&format=csv', | L69: =CONCATENATE(C69,D69,E69,F69,G69,TEXT(H69,"yyyymmddhhmmss"),I69,TEXT(J69,"yyyymmddhhmmss"),K69) -> 'https://api.gdeltproject.org/api/v2/doc/doc?query=("Donald Trump" OR "President Trump") domainis:foxnews.com&startdatetime=20200506000000&enddatetime=20200507000000&mode=artlist&maxrecords=250&sort=datedesc&format=csv',
A70: ='Dates to search'!$A$8 -> 43958 | B70: FoxNews | C70: 'https://api.gdeltproject.org/api/v2/doc/doc?query= | D70: ='Search terms'!$A$2 -> ("Donald Trump" OR "President Trump") | E70: domainis: | F70: =VLOOKUP(B70,'Sources to search'!A:B,2,FALSE) -> foxnews.com | G70: &startdatetime= | H70: =VLOOKUP(A70,'Dates to search'!A:C,2,FALSE) -> 43958 | I70: &enddatetime= | J70: =VLOOKUP(A70,'Dates to search'!A:C,3,FALSE) -> 43959 | K70: &mode=artlist&maxrecords=250&sort=datedesc&format=csv', | L70: =CONCATENATE(C70,D70,E70,F70,G70,TEXT(H70,"yyyymmddhhmmss"),I70,TEXT(J70,"yyyymmddhhmmss"),K70) -> 'https://api.gdeltproject.org/api/v2/doc/doc?query=("Donald Trump" OR "President Trump") domainis:foxnews.com&startdatetime=20200507000000&enddatetime=20200508000000&mode=artlist&maxrecords=250&sort=datedesc&format=csv',
A71: ='Dates to search'!$A$9 -> 43959 | B71: FoxNews | C71: 'https://api.gdeltproject.org/api/v2/doc/doc?query= | D71: ='Search terms'!$A$2 -> ("Donald Trump" OR "President Trump") | E71: domainis: | F71: =VLOOKUP(B71,'Sources to search'!A:B,2,FALSE) -> foxnews.com | G71: &startdatetime= | H71: =VLOOKUP(A71,'Dates to search'!A:C,2,FALSE) -> 43959 | I71: &enddatetime= | J71: =VLOOKUP(A71,'Dates to search'!A:C,3,FALSE) -> 43960 | K71: &mode=artlist&maxrecords=250&sort=datedesc&format=csv', | L71: =CONCATENATE(C71,D71,E71,F71,G71,TEXT(H71,"yyyymmddhhmmss"),I71,TEXT(J71,"yyyymmddhhmmss"),K71) -> 'https://api.gdeltproject.org/api/v2/doc/doc?query=("Donald Trump" OR "President Trump") domainis:foxnews.com&startdatetime=20200508000000&enddatetime=20200509000000&mode=artlist&maxrecords=250&sort=datedesc&format=csv',
A72: ='Dates to search'!$A$10 -> 43960 | B72: FoxNews | C72: 'https://api.gdeltproject.org/api/v2/doc/doc?query= | D72: ='Search terms'!$A$2 -> ("Donald Trump" OR "President Trump") | E72: domainis: | F72: =VLOOKUP(B72,'Sources to search'!A:B,2,FALSE) -> foxnews.com | G72: &startdatetime= | H72: =VLOOKUP(A72,'Dates to search'!A:C,2,FALSE) -> 43960 | I72: &enddatetime= | J72: =VLOOKUP(A72,'Dates to search'!A:C,3,FALSE) -> 43961 | K72: &mode=artlist&maxrecords=250&sort=datedesc&format=csv', | L72: =CONCATENATE(C72,D72,E72,F72,G72,TEXT(H72,"yyyymmddhhmmss"),I72,TEXT(J72,"yyyymmddhhmmss"),K72) -> 'https://api.gdeltproject.org/api/v2/doc/doc?query=("Donald Trump" OR "President Trump") domainis:foxnews.com&startdatetime=20200509000000&enddatetime=20200510000000&mode=artlist&maxrecords=250&sort=datedesc&format=csv',
A73: ='Dates to search'!$A$11 -> 43961 | B73: FoxNews | C73: 'https://api.gdeltproject.org/api/v2/doc/doc?query= | D73: ='Search terms'!$A$2 -> ("Donald Trump" OR "President Trump") | E73: domainis: | F73: =VLOOKUP(B73,'Sources to search'!A:B,2,FALSE) -> foxnews.com | G73: &startdatetime= | H73: =VLOOKUP(A73,'Dates to search'!A:C,2,FALSE) -> 43961 | I73: &enddatetime= | J73: =VLOOKUP(A73,'Dates to search'!A:C,3,FALSE) -> 43962 | K73: &mode=artlist&maxrecords=250&sort=datedesc&format=csv', | L73: =CONCATENATE(C73,D73,E73,F73,G73,TEXT(H73,"yyyymmddhhmmss"),I73,TEXT(J73,"yyyymmddhhmmss"),K73) -> 'https://api.gdeltproject.org/api/v2/doc/doc?query=("Donald Trump" OR "President Trump") domainis:foxnews.com&startdatetime=20200510000000&enddatetime=20200511000000&mode=artlist&maxrecords=250&sort=datedesc&format=csv',
A74: ='Dates to search'!$A$12 -> 43962 | B74: FoxNews | C74: 'https://api.gdeltproject.org/api/v2/doc/doc?query= | D74: ='Search terms'!$A$2 -> ("Donald Trump" OR "President Trump") | E74: domainis: | F74: =VLOOKUP(B74,'Sources to search'!A:B,2,FALSE) -> foxnews.com | G74: &startdatetime= | H74: =VLOOKUP(A74,'Dates to search'!A:C,2,FALSE) -> 43962 | I74: &enddatetime= | J74: =VLOOKUP(A74,'Dates to search'!A:C,3,FALSE) -> 43963 | K74: &mode=artlist&maxrecords=250&sort=datedesc&format=csv', | L74: =CONCATENATE(C74,D74,E74,F74,G74,TEXT(H74,"yyyymmddhhmmss"),I74,TEXT(J74,"yyyymmddhhmmss"),K74) -> 'https://api.gdeltproject.org/api/v2/doc/doc?query=("Donald Trump" OR "President Trump") domainis:foxnews.com&startdatetime=20200511000000&enddatetime=20200512000000&mode=artlist&maxrecords=250&sort=datedesc&format=csv',
A75: ='Dates to search'!$A$13 -> 43963 | B75: FoxNews | C75: 'https://api.gdeltproject.org/api/v2/doc/doc?query= | D75: ='Search terms'!$A$2 -> ("Donald Trump" OR "President Trump") | E75: domainis: | F75: =VLOOKUP(B75,'Sources to search'!A:B,2,FALSE) -> foxnews.com | G75: &startdatetime= | H75: =VLOOKUP(A75,'Dates to search'!A:C,2,FALSE) -> 43963 | I75: &enddatetime= | J75: =VLOOKUP(A75,'Dates to search'!A:C,3,FALSE) -> 43964 | K75: &mode=artlist&maxrecords=250&sort=datedesc&format=csv', | L75: =CONCATENATE(C75,D75,E75,F75,G75,TEXT(H75,"yyyymmddhhmmss"),I75,TEXT(J75,"yyyymmddhhmmss"),K75) -> 'https://api.gdeltproject.org/api/v2/doc/doc?query=("Donald Trump" OR "President Trump") domainis:foxnews.com&startdatetime=20200512000000&enddatetime=20200513000000&mode=artlist&maxrecords=250&sort=datedesc&format=csv',
A76: ='Dates to search'!$A$14 -> 43964 | B76: FoxNews | C76: 'https://api.gdeltproject.org/api/v2/doc/doc?query= | D76: ='Search terms'!$A$2 -> ("Donald Trump" OR "President Trump") | E76: domainis: | F76: =VLOOKUP(B76,'Sources to search'!A:B,2,FALSE) -> foxnews.com | G76: &startdatetime= | H76: =VLOOKUP(A76,'Dates to search'!A:C,2,FALSE) -> 43964 | I76: &enddatetime= | J76: =VLOOKUP(A76,'Dates to search'!A:C,3,FALSE) -> 43965 | K76: &mode=artlist&maxrecords=250&sort=datedesc&format=csv', | L76: =CONCATENATE(C76,D76,E76,F76,G76,TEXT(H76,"yyyymmddhhmmss"),I76,TEXT(J76,"yyyymmddhhmmss"),K76) -> 'https://api.gdeltproject.org/api/v2/doc/doc?query=("Donald Trump" OR "President Trump") domainis:foxnews.com&startdatetime=20200513000000&enddatetime=20200514000000&mode=artlist&maxrecords=250&sort=datedesc&format=csv',
A77: ='Dates to search'!$A$15 -> 43965 | B77: FoxNews | C77: 'https://api.gdeltproject.org/api/v2/doc/doc?query= | D77: ='Search terms'!$A$2 -> ("Donald Trump" OR "President Trump") | E77: domainis: | F77: =VLOOKUP(B77,'Sources to search'!A:B,2,FALSE) -> foxnews.com | G77: &startdatetime= | H77: =VLOOKUP(A77,'Dates to search'!A:C,2,FALSE) -> 43965 | I77: &enddatetime= | J77: =VLOOKUP(A77,'Dates to search'!A:C,3,FALSE) -> 43966 | K77: &mode=artlist&maxrecords=250&sort=datedesc&format=csv', | L77: =CONCATENATE(C77,D77,E77,F77,G77,TEXT(H77,"yyyymmddhhmmss"),I77,TEXT(J77,"yyyymmddhhmmss"),K77) -> 'https://api.gdeltproject.org/api/v2/doc/doc?query=("Donald Trump" OR "President Trump") domainis:foxnews.com&startdatetime=20200514000000&enddatetime=20200515000000&mode=artlist&maxrecords=250&sort=datedesc&format=csv',
A78: ='Dates to search'!$A$16 -> 43966 | B78: FoxNews | C78: 'https://api.gdeltproject.org/api/v2/doc/doc?query= | D78: ='Search terms'!$A$2 -> ("Donald Trump" OR "President Trump") | E78: domainis: | F78: =VLOOKUP(B78,'Sources to search'!A:B,2,FALSE) -> foxnews.com | G78: &startdatetime= | H78: =VLOOKUP(A78,'Dates to search'!A:C,2,FALSE) -> 43966 | I78: &enddatetime= | J78: =VLOOKUP(A78,'Dates to search'!A:C,3,FALSE) -> 43967 | K78: &mode=artlist&maxrecords=250&sort=datedesc&format=csv', | L78: =CONCATENATE(C78,D78,E78,F78,G78,TEXT(H78,"yyyymmddhhmmss"),I78,TEXT(J78,"yyyymmddhhmmss"),K78) -> 'https://api.gdeltproject.org/api/v2/doc/doc?query=("Donald Trump" OR "President Trump") domainis:foxnews.com&startdatetime=20200515000000&enddatetime=20200516000000&mode=artlist&maxrecords=250&sort=datedesc&format=csv',
A79: ='Dates to search'!$A$17 -> 43967 | B79: FoxNews | C79: 'https://api.gdeltproject.org/api/v2/doc/doc?query= | D79: ='Search terms'!$A$2 -> ("Donald Trump" OR "President Trump") | E79: domainis: | F79: =VLOOKUP(B79,'Sources to search'!A:B,2,FALSE) -> foxnews.com | G79: &startdatetime= | H79: =VLOOKUP(A79,'Dates to search'!A:C,2,FALSE) -> 43967 | I79: &enddatetime= | J79: =VLOOKUP(A79,'Dates to search'!A:C,3,FALSE) -> 43968 | K79: &mode=artlist&maxrecords=250&sort=datedesc&format=csv', | L79: =CONCATENATE(C79,D79,E79,F79,G79,TEXT(H79,"yyyymmddhhmmss"),I79,TEXT(J79,"yyyymmddhhmmss"),K79) -> 'https://api.gdeltproject.org/api/v2/doc/doc?query=("Donald Trump" OR "President Trump") domainis:foxnews.com&startdatetime=20200516000000&enddatetime=20200517000000&mode=artlist&maxrecords=250&sort=datedesc&format=csv',
A80: ='Dates to search'!$A$18 -> 43968 | B80: FoxNews | C80: 'https://api.gdeltproject.org/api/v2/doc/doc?query= | D80: ='Search terms'!$A$2 -> ("Donald Trump" OR "President Trump") | E80: domainis: | F80: =VLOOKUP(B80,'Sources to search'!A:B,2,FALSE) -> foxnews.com | G80: &startdatetime= | H80: =VLOOKUP(A80,'Dates to search'!A:C,2,FALSE) -> 43968 | I80: &enddatetime= | J80: =VLOOKUP(A80,'Dates to search'!A:C,3,FALSE) -> 43969 | K80: &mode=artlist&maxrecords=250&sort=datedesc&format=csv', | L80: =CONCATENATE(C80,D80,E80,F80,G80,TEXT(H80,"yyyymmddhhmmss"),I80,TEXT(J80,"yyyymmddhhmmss"),K80) -> 'https://api.gdeltproject.org/api/v2/doc/doc?query=("Donald Trump" OR "President Trump") domainis:foxnews.com&startdatetime=20200517000000&enddatetime=20200518000000&mode=artlist&maxrecords=250&sort=datedesc&format=csv',
A81: ='Dates to search'!$A$19 -> 43969 | B81: FoxNews | C81: 'https://api.gdeltproject.org/api/v2/doc/doc?query= | D81: ='Search terms'!$A$2 -> ("Donald Trump" OR "President Trump") | E81: domainis: | F81: =VLOOKUP(B81,'Sources to search'!A:B,2,FALSE) -> foxnews.com | G81: &startdatetime= | H81: =VLOOKUP(A81,'Dates to search'!A:C,2,FALSE) -> 43969 | I81: &enddatetime= | J81: =VLOOKUP(A81,'Dates to search'!A:C,3,FALSE) -> 43970 | K81: &mode=artlist&maxrecords=250&sort=datedesc&format=csv', | L81: =CONCATENATE(C81,D81,E81,F81,G81,TEXT(H81,"yyyymmddhhmmss"),I81,TEXT(J81,"yyyymmddhhmmss"),K81) -> 'https://api.gdeltproject.org/api/v2/doc/doc?query=("Donald Trump" OR "President Trump") domainis:foxnews.com&startdatetime=20200518000000&enddatetime=20200519000000&mode=artlist&maxrecords=250&sort=datedesc&format=csv',
A82: ='Dates to search'!$A$20 -> 43970 | B82: FoxNews | C82: 'https://api.gdeltproject.org/api/v2/doc/doc?query= | D82: ='Search terms'!$A$2 -> ("Donald Trump" OR "President Trump") | E82: domainis: | F82: =VLOOKUP(B82,'Sources to search'!A:B,2,FALSE) -> foxnews.com | G82: &startdatetime= | H82: =VLOOKUP(A82,'Dates to search'!A:C,2,FALSE) -> 43970 | I82: &enddatetime= | J82: =VLOOKUP(A82,'Dates to search'!A:C,3,FALSE) -> 43971 | K82: &mode=artlist&maxrecords=250&sort=datedesc&format=csv', | L82: =CONCATENATE(C82,D82,E82,F82,G82,TEXT(H82,"yyyymmddhhmmss"),I82,TEXT(J82,"yyyymmddhhmmss"),K82) -> 'https://api.gdeltproject.org/api/v2/doc/doc?query=("Donald Trump" OR "President Trump") domainis:foxnews.com&startdatetime=20200519000000&enddatetime=20200520000000&mode=artlist&maxrecords=250&sort=datedesc&format=csv',
A83: ='Dates to search'!$A$21 -> 43971 | B83: FoxNews | C83: 'https://api.gdeltproject.org/api/v2/doc/doc?query= | D83: ='Search terms'!$A$2 -> ("Donald Trump" OR "President Trump") | E83: domainis: | F83: =VLOOKUP(B83,'Sources to search'!A:B,2,FALSE) -> foxnews.com | G83: &startdatetime= | H83: =VLOOKUP(A83,'Dates to search'!A:C,2,FALSE) -> 43971 | I83: &enddatetime= | J83: =VLOOKUP(A83,'Dates to search'!A:C,3,FALSE) -> 43972 | K83: &mode=artlist&maxrecords=250&sort=datedesc&format=csv', | L83: =CONCATENATE(C83,D83,E83,F83,G83,TEXT(H83,"yyyymmddhhmmss"),I83,TEXT(J83,"yyyymmddhhmmss"),K83) -> 'https://api.gdeltproject.org/api/v2/doc/doc?query=("Donald Trump" OR "President Trump") domainis:foxnews.com&startdatetime=20200520000000&enddatetime=20200521000000&mode=artlist&maxrecords=250&sort=datedesc&format=csv',
A84: ='Dates to search'!$A$22 -> 43972 | B84: FoxNews | C84: 'https://api.gdeltproject.org/api/v2/doc/doc?query= | D84: ='Search terms'!$A$2 -> ("Donald Trump" OR "President Trump") | E84: domainis: | F84: =VLOOKUP(B84,'Sources to search'!A:B,2,FALSE) -> foxnews.com | G84: &startdatetime= | H84: =VLOOKUP(A84,'Dates to search'!A:C,2,FALSE) -> 43972 | I84: &enddatetime= | J84: =VLOOKUP(A84,'Dates to search'!A:C,3,FALSE) -> 43973 | K84: &mode=artlist&maxrecords=250&sort=datedesc&format=csv', | L84: =CONCATENATE(C84,D84,E84,F84,G84,TEXT(H84,"yyyymmddhhmmss"),I84,TEXT(J84,"yyyymmddhhmmss"),K84) -> 'https://api.gdeltproject.org/api/v2/doc/doc?query=("Donald Trump" OR "President Trump") domainis:foxnews.com&startdatetime=20200521000000&enddatetime=20200522000000&mode=artlist&maxrecords=250&sort=datedesc&format=csv',
A85: ='Dates to search'!$A$23 -> 43973 | B85: FoxNews | C85: 'https://api.gdeltproject.org/api/v2/doc/doc?query= | D85: ='Search terms'!$A$2 -> ("Donald Trump" OR "President Trump") | E85: domainis: | F85: =VLOOKUP(B85,'Sources to search'!A:B,2,FALSE) -> foxnews.com | G85: &startdatetime= | H85: =VLOOKUP(A85,'Dates to search'!A:C,2,FALSE) -> 43973 | I85: &enddatetime= | J85: =VLOOKUP(A85,'Dates to search'!A:C,3,FALSE) -> 43974 | K85: &mode=artlist&maxrecords=250&sort=datedesc&format=csv', | L85: =CONCATENATE(C85,D85,E85,F85,G85,TEXT(H85,"yyyymmddhhmmss"),I85,TEXT(J85,"yyyymmddhhmmss"),K85) -> 'https://api.gdeltproject.org/api/v2/doc/doc?query=("Donald Trump" OR "President Trump") domainis:foxnews.com&startdatetime=20200522000000&enddatetime=20200523000000&mode=artlist&maxrecords=250&sort=datedesc&format=csv',
A86: ='Dates to search'!$A$24 -> 43974 | B86: FoxNews | C86: 'https://api.gdeltproject.org/api/v2/doc/doc?query= | D86: ='Search terms'!$A$2 -> ("Donald Trump" OR "President Trump") | E86: domainis: | F86: =VLOOKUP(B86,'Sources to search'!A:B,2,FALSE) -> foxnews.com | G86: &startdatetime= | H86: =VLOOKUP(A86,'Dates to search'!A:C,2,FALSE) -> 43974 | I86: &enddatetime= | J86: =VLOOKUP(A86,'Dates to search'!A:C,3,FALSE) -> 43975 | K86: &mode=artlist&maxrecords=250&sort=datedesc&format=csv', | L86: =CONCATENATE(C86,D86,E86,F86,G86,TEXT(H86,"yyyymmddhhmmss"),I86,TEXT(J86,"yyyymmddhhmmss"),K86) -> 'https://api.gdeltproject.org/api/v2/doc/doc?query=("Donald Trump" OR "President Trump") domainis:foxnews.com&startdatetime=20200523000000&enddatetime=20200524000000&mode=artlist&maxrecords=250&sort=datedesc&format=csv',
A87: ='Dates to search'!$A$25 -> 43975 | B87: FoxNews | C87: 'https://api.gdeltproject.org/api/v2/doc/doc?query= | D87: ='Search terms'!$A$2 -> ("Donald Trump" OR "President Trump") | E87: domainis: | F87: =VLOOKUP(B87,'Sources to search'!A:B,2,FALSE) -> foxnews.com | G87: &startdatetime= | H87: =VLOOKUP(A87,'Dates to search'!A:C,2,FALSE) -> 43975 | I87: &enddatetime= | J87: =VLOOKUP(A87,'Dates to search'!A:C,3,FALSE) -> 43976 | K87: &mode=artlist&maxrecords=250&sort=datedesc&format=csv', | L87: =CONCATENATE(C87,D87,E87,F87,G87,TEXT(H87,"yyyymmddhhmmss"),I87,TEXT(J87,"yyyymmddhhmmss"),K87) -> 'https://api.gdeltproject.org/api/v2/doc/doc?query=("Donald Trump" OR "President Trump") domainis:foxnews.com&startdatetime=20200524000000&enddatetime=20200525000000&mode=artlist&maxrecords=250&sort=datedesc&format=csv',
A88: ='Dates to search'!$A$26 -> 43976 | B88: FoxNews | C88: 'https://api.gdeltproject.org/api/v2/doc/doc?query= | D88: ='Search terms'!$A$2 -> ("Donald Trump" OR "President Trump") | E88: domainis: | F88: =VLOOKUP(B88,'Sources to search'!A:B,2,FALSE) -> foxnews.com | G88: &startdatetime= | H88: =VLOOKUP(A88,'Dates to search'!A:C,2,FALSE) -> 43976 | I88: &enddatetime= | J88: =VLOOKUP(A88,'Dates to search'!A:C,3,FALSE) -> 43977 | K88: &mode=artlist&maxrecords=250&sort=datedesc&format=csv', | L88: =CONCATENATE(C88,D88,E88,F88,G88,TEXT(H88,"yyyymmddhhmmss"),I88,TEXT(J88,"yyyymmddhhmmss"),K88) -> 'https://api.gdeltproject.org/api/v2/doc/doc?query=("Donald Trump" OR "President Trump") domainis:foxnews.com&startdatetime=20200525000000&enddatetime=20200526000000&mode=artlist&maxrecords=250&sort=datedesc&format=csv',
A89: ='Dates to search'!$A$27 -> 43977 | B89: FoxNews | C89: 'https://api.gdeltproject.org/api/v2/doc/doc?query= | D89: ='Search terms'!$A$2 -> ("Donald Trump" OR "President Trump") | E89: domainis: | F89: =VLOOKUP(B89,'Sources to search'!A:B,2,FALSE) -> foxnews.com | G89: &startdatetime= | H89: =VLOOKUP(A89,'Dates to search'!A:C,2,FALSE) -> 43977 | I89: &enddatetime= | J89: =VLOOKUP(A89,'Dates to search'!A:C,3,FALSE) -> 43978 | K89: &mode=artlist&maxrecords=250&sort=datedesc&format=csv', | L89: =CONCATENATE(C89,D89,E89,F89,G89,TEXT(H89,"yyyymmddhhmmss"),I89,TEXT(J89,"yyyymmddhhmmss"),K89) -> 'https://api.gdeltproject.org/api/v2/doc/doc?query=("Donald Trump" OR "President Trump") domainis:foxnews.com&startdatetime=20200526000000&enddatetime=20200527000000&mode=artlist&maxrecords=250&sort=datedesc&format=csv',
A90: ='Dates to search'!$A$28 -> 43978 | B90: FoxNews | C90: 'https://api.gdeltproject.org/api/v2/doc/doc?query= | D90: ='Search terms'!$A$2 -> ("Donald Trump" OR "President Trump") | E90: domainis: | F90: =VLOOKUP(B90,'Sources to search'!A:B,2,FALSE) -> foxnews.com | G90: &startdatetime= | H90: =VLOOKUP(A90,'Dates to search'!A:C,2,FALSE) -> 43978 | I90: &enddatetime= | J90: =VLOOKUP(A90,'Dates to search'!A:C,3,FALSE) -> 43979 | K90: &mode=artlist&maxrecords=250&sort=datedesc&format=csv', | L90: =CONCATENATE(C90,D90,E90,F90,G90,TEXT(H90,"yyyymmddhhmmss"),I90,TEXT(J90,"yyyymmddhhmmss"),K90) -> 'https://api.gdeltproject.org/api/v2/doc/doc?query=("Donald Trump" OR "President Trump") domainis:foxnews.com&startdatetime=20200527000000&enddatetime=20200528000000&mode=artlist&maxrecords=250&sort=datedesc&format=csv',
A91: ='Dates to search'!$A$29 -> 43979 | B91: FoxNews | C91: 'https://api.gdeltproject.org/api/v2/doc/doc?query= | D91: ='Search terms'!$A$2 -> ("Donald Trump" OR "President Trump") | E91: domainis: | F91: =VLOOKUP(B91,'Sources to search'!A:B,2,FALSE) -> foxnews.com | G91: &startdatetime= | H91: =VLOOKUP(A91,'Dates to search'!A:C,2,FALSE) -> 43979 | I91: &enddatetime= | J91: =VLOOKUP(A91,'Dates to search'!A:C,3,FALSE) -> 43980 | K91: &mode=artlist&maxrecords=250&sort=datedesc&format=csv', | L91: =CONCATENATE(C91,D91,E91,F91,G91,TEXT(H91,"yyyymmddhhmmss"),I91,TEXT(J91,"yyyymmddhhmmss"),K91) -> 'https://api.gdeltproject.org/api/v2/doc/doc?query=("Donald Trump" OR "President Trump") domainis:foxnews.com&startdatetime=20200528000000&enddatetime=20200529000000&mode=artlist&maxrecords=250&sort=datedesc&format=csv',
A92: ='Dates to search'!$A$30 -> 43980 | B92: FoxNews | C92: 'https://api.gdeltproject.org/api/v2/doc/doc?query= | D92: ='Search terms'!$A$2 -> ("Donald Trump" OR "President Trump") | E92: domainis: | F92: =VLOOKUP(B92,'Sources to search'!A:B,2,FALSE) -> foxnews.com | G92: &startdatetime= | H92: =VLOOKUP(A92,'Dates to search'!A:C,2,FALSE) -> 43980 | I92: &enddatetime= | J92: =VLOOKUP(A92,'Dates to search'!A:C,3,FALSE) -> 43981 | K92: &mode=artlist&maxrecords=250&sort=datedesc&format=csv', | L92: =CONCATENATE(C92,D92,E92,F92,G92,TEXT(H92,"yyyymmddhhmmss"),I92,TEXT(J92,"yyyymmddhhmmss"),K92) -> 'https://api.gdeltproject.org/api/v2/doc/doc?query=("Donald Trump" OR "President Trump") domainis:foxnews.com&startdatetime=20200529000000&enddatetime=20200530000000&mode=artlist&maxrecords=250&sort=datedesc&format=csv',
A93: ='Dates to search'!$A$31 -> 43981 | B93: FoxNews | C93: 'https://api.gdeltproject.org/api/v2/doc/doc?query= | D93: ='Search terms'!$A$2 -> ("Donald Trump" OR "President Trump") | E93: domainis: | F93: =VLOOKUP(B93,'Sources to search'!A:B,2,FALSE) -> foxnews.com | G93: &startdatetime= | H93: =VLOOKUP(A93,'Dates to search'!A:C,2,FALSE) -> 43981 | I93: &enddatetime= | J93: =VLOOKUP(A93,'Dates to search'!A:C,3,FALSE) -> 43982 | K93: &mode=artlist&maxrecords=250&sort=datedesc&format=csv', | L93: =CONCATENATE(C93,D93,E93,F93,G93,TEXT(H93,"yyyymmddhhmmss"),I93,TEXT(J93,"yyyymmddhhmmss"),K93) -> 'https://api.gdeltproject.org/api/v2/doc/doc?query=("Donald Trump" OR "President Trump") domainis:foxnews.com&startdatetime=20200530000000&enddatetime=20200531000000&mode=artlist&maxrecords=250&sort=datedesc&format=csv',
A94: ='Dates to search'!$A$32 -> 43982 | B94: FoxNews | C94: 'https://api.gdeltproject.org/api/v2/doc/doc?query= | D94: ='Search terms'!$A$2 -> ("Donald Trump" OR "President Trump") | E94: domainis: | F94: =VLOOKUP(B94,'Sources to search'!A:B,2,FALSE) -> foxnews.com | G94: &startdatetime= | H94: =VLOOKUP(A94,'Dates to search'!A:C,2,FALSE) -> 43982 | I94: &enddatetime= | J94: =VLOOKUP(A94,'Dates to search'!A:C,3,FALSE) -> 43983 | K94: &mode=artlist&maxrecords=250&sort=datedesc&format=csv', | L94: =CONCATENATE(C94,D94,E94,F94,G94,TEXT(H94,"yyyymmddhhmmss"),I94,TEXT(J94,"yyyymmddhhmmss"),K94) -> 'https://api.gdeltproject.org/api/v2/doc/doc?query=("Donald Trump" OR "President Trump") domainis:foxnews.com&startdatetime=20200531000000&enddatetime=20200601000000&mode=artlist&maxrecords=250&sort=datedesc&format=csv',
A95: ='Dates to search'!$A$2 -> 43952 | B95: MSNBC | C95: 'https://api.gdeltproject.org/api/v2/doc/doc?query= | D95: ='Search terms'!$A$2 -> ("Donald Trump" OR "President Trump") | E95: domainis: | F95: =VLOOKUP(B95,'Sources to search'!A:B,2,FALSE) -> msnbc.com | G95: &startdatetime= | H95: =VLOOKUP(A95,'Dates to search'!A:C,2,FALSE) -> 43952 | I95: &enddatetime= | J95: =VLOOKUP(A95,'Dates to search'!A:C,3,FALSE) -> 43953 | K95: &mode=artlist&maxrecords=250&sort=datedesc&format=csv', | L95: =CONCATENATE(C95,D95,E95,F95,G95,TEXT(H95,"yyyymmddhhmmss"),I95,TEXT(J95,"yyyymmddhhmmss"),K95) -> 'https://api.gdeltproject.org/api/v2/doc/doc?query=("Donald Trump" OR "President Trump") domainis:msnbc.com&startdatetime=20200501000000&enddatetime=20200502000000&mode=artlist&maxrecords=250&sort=datedesc&format=csv',
A96: ='Dates to search'!$A$3 -> 43953 | B96: MSNBC | C96: 'https://api.gdeltproject.org/api/v2/doc/doc?query= | D96: ='Search terms'!$A$2 -> ("Donald Trump" OR "President Trump") | E96: domainis: | F96: =VLOOKUP(B96,'Sources to search'!A:B,2,FALSE) -> msnbc.com | G96: &startdatetime= | H96: =VLOOKUP(A96,'Dates to search'!A:C,2,FALSE) -> 43953 | I96: &enddatetime= | J96: =VLOOKUP(A96,'Dates to search'!A:C,3,FALSE) -> 43954 | K96: &mode=artlist&maxrecords=250&sort=datedesc&format=csv', | L96: =CONCATENATE(C96,D96,E96,F96,G96,TEXT(H96,"yyyymmddhhmmss"),I96,TEXT(J96,"yyyymmddhhmmss"),K96) -> 'https://api.gdeltproject.org/api/v2/doc/doc?query=("Donald Trump" OR "President Trump") domainis:msnbc.com&startdatetime=20200502000000&enddatetime=20200503000000&mode=artlist&maxrecords=250&sort=datedesc&format=csv',
A97: ='Dates to search'!$A$4 -> 43954 | B97: MSNBC | C97: 'https://api.gdeltproject.org/api/v2/doc/doc?query= | D97: ='Search terms'!$A$2 -> ("Donald Trump" OR "President Trump") | E97: domainis: | F97: =VLOOKUP(B97,'Sources to search'!A:B,2,FALSE) -> msnbc.com | G97: &startdatetime= | H97: =VLOOKUP(A97,'Dates to search'!A:C,2,FALSE) -> 43954 | I97: &enddatetime= | J97: =VLOOKUP(A97,'Dates to search'!A:C,3,FALSE) -> 43955 | K97: &mode=artlist&maxrecords=250&sort=datedesc&format=csv', | L97: =CONCATENATE(C97,D97,E97,F97,G97,TEXT(H97,"yyyymmddhhmmss"),I97,TEXT(J97,"yyyymmddhhmmss"),K97) -> 'https://api.gdeltproject.org/api/v2/doc/doc?query=("Donald Trump" OR "President Trump") domainis:msnbc.com&startdatetime=20200503000000&enddatetime=20200504000000&mode=artlist&maxrecords=250&sort=datedesc&format=csv',
A98: ='Dates to search'!$A$5 -> 43955 | B98: MSNBC | C98: 'https://api.gdeltproject.org/api/v2/doc/doc?query= | D98: ='Search terms'!$A$2 -> ("Donald Trump" OR "President Trump") | E98: domainis: | F98: =VLOOKUP(B98,'Sources to search'!A:B,2,FALSE) -> msnbc.com | G98: &startdatetime= | H98: =VLOOKUP(A98,'Dates to search'!A:C,2,FALSE) -> 43955 | I98: &enddatetime= | J98: =VLOOKUP(A98,'Dates to search'!A:C,3,FALSE) -> 43956 | K98: &mode=artlist&maxrecords=250&sort=datedesc&format=csv', | L98: =CONCATENATE(C98,D98,E98,F98,G98,TEXT(H98,"yyyymmddhhmmss"),I98,TEXT(J98,"yyyymmddhhmmss"),K98) -> 'https://api.gdeltproject.org/api/v2/doc/doc?query=("Donald Trump" OR "President Trump") domainis:msnbc.com&startdatetime=20200504000000&enddatetime=20200505000000&mode=artlist&maxrecords=250&sort=datedesc&format=csv',
A99: ='Dates to search'!$A$6 -> 43956 | B99: MSNBC | C99: 'https://api.gdeltproject.org/api/v2/doc/doc?query= | D99: ='Search terms'!$A$2 -> ("Donald Trump" OR "President Trump") | E99: domainis: | F99: =VLOOKUP(B99,'Sources to search'!A:B,2,FALSE) -> msnbc.com | G99: &startdatetime= | H99: =VLOOKUP(A99,'Dates to search'!A:C,2,FALSE) -> 43956 | I99: &enddatetime= | J99: =VLOOKUP(A99,'Dates to search'!A:C,3,FALSE) -> 43957 | K99: &mode=artlist&maxrecords=250&sort=datedesc&format=csv', | L99: =CONCATENATE(C99,D99,E99,F99,G99,TEXT(H99,"yyyymmddhhmmss"),I99,TEXT(J99,"yyyymmddhhmmss"),K99) -> 'https://api.gdeltproject.org/api/v2/doc/doc?query=("Donald Trump" OR "President Trump") domainis:msnbc.com&startdatetime=20200505000000&enddatetime=20200506000000&mode=artlist&maxrecords=250&sort=datedesc&format=csv',
A100: ='Dates to search'!$A$7 -> 43957 | B100: MSNBC | C100: 'https://api.gdeltproject.org/api/v2/doc/doc?query= | D100: ='Search terms'!$A$2 -> ("Donald Trump" OR "President Trump") | E100: domainis: | F100: =VLOOKUP(B100,'Sources to search'!A:B,2,FALSE) -> msnbc.com | G100: &startdatetime= | H100: =VLOOKUP(A100,'Dates to search'!A:C,2,FALSE) -> 43957 | I100: &enddatetime= | J100: =VLOOKUP(A100,'Dates to search'!A:C,3,FALSE) -> 43958 | K100: &mode=artlist&maxrecords=250&sort=datedesc&format=csv', | L100: =CONCATENATE(C100,D100,E100,F100,G100,TEXT(H100,"yyyymmddhhmmss"),I100,TEXT(J100,"yyyymmddhhmmss"),K100) -> 'https://api.gdeltproject.org/api/v2/doc/doc?query=("Donald Trump" OR "President Trump") domainis:msnbc.com&startdatetime=20200506000000&enddatetime=20200507000000&mode=artlist&maxrecords=250&sort=datedesc&format=csv',
...
