Workbook

Sheet Dates to search
A1: Date | B1: Startdate | C1: Enddate
A2: 43952 | B2: =A2 -> 43952 | C2: =A2+1 -> 43953
A3: 43953 | B3: =A3 -> 43953 | C3: =A3+1 -> 43954
A4: 43954 | B4: =A4 -> 43954 | C4: =A4+1 -> 43955
A5: 43955 | B5: =A5 -> 43955 | C5: =A5+1 -> 43956
A6: 43956 | B6: =A6 -> 43956 | C6: =A6+1 -> 43957
A7: 43957 | B7: =A7 -> 43957 | C7: =A7+1 -> 43958
A8: 43958 | B8: =A8 -> 43958 | C8: =A8+1 -> 43959
A9: 43959 | B9: =A9 -> 43959 | C9: =A9+1 -> 43960
A10: 43960 | B10: =A10 -> 43960 | C10: =A10+1 -> 43961
A11: 43961 | B11: =A11 -> 43961 | C11: =A11+1 -> 43962
A12: 43962 | B12: =A12 -> 43962 | C12: =A12+1 -> 43963
A13: 43963 | B13: =A13 -> 43963 | C13: =A13+1 -> 43964
... A32: 43982 | B32: =A32 -> 43982 | C32: =A32+1 -> 43983

Sheet Sources to search
A1: Source | B1: URL
A2: AP | B2: apnews.com
A3: CNN | B3: CNN.com
A4: FoxNews | B4: foxnews.com
A5: MSNBC | B5: msnbc.com
A6: NPR | B6: npr.org
A7: NY Times | B7: nytimes.com
A8: USA Today | B8: usatoday.com
A9: Wall Street Journal | B9: wsj.com
A10: Washington Post | B10: washingtonpost.com

Sheet Search terms
A1: Search term(s):
A2: ("Donald Trump" OR "President Trump")

Sheet URLs30Days
A1: Date | B1: Source | C1: Part 1 | D1: Part 2 | E1: Part 3 | F1: Part 4 | G1: Part 5 | H1: Part 6 | I1: Part 7 | J1: Part 8 | K1: Part 9 | L1: FullURL
A2: ='Dates to search'!$A$2 -> 43952 | B2: AP | C2: 'https://api.gdeltproject.org/api/v2/doc/doc?query= | D2: ='Search terms'!$A$2 -> ("Donald Trump" OR "President Trump") | E2: domainis: | F2: =VLOOKUP(B2,'Sources to search'!A:B,2,FALSE) -> apnews.com | G2: &startdatetime= | H2: =VLOOKUP(A2,'Dates to search'!A:C,2,FALSE) -> 43952 | I2: &enddatetime= | J2: =VLOOKUP(A2,'Dates to search'!A:C,3,FALSE) -> 43953 | K2: &mode=artlist&maxrecords=250&sort=datedesc&format=csv', | L2: =CONCATENATE(C2,D2,E2,F2,G2,TEXT(H2,"yyyymmddhhmmss"),I2,TEXT(J2,"yyyymmddhhmmss"),K2) -> 'https://api.gdeltproject.org/api/v2/doc/doc?query=("Donald Trump" OR "President Trump") domainis:apnews.com&startdatetime=20200501000000&enddatetime=20200502000000&mode=artlist&maxrecords=250&sort=datedesc&format=csv',
A3: ='Dates to search'!$A$3 -> 43953 | B3: AP | C3: 'https://api.gdeltproject.org/api/v2/doc/doc?query= | D3: ='Search terms'!$A$2 -> ("Donald Trump" OR "President Trump") | E3: domainis: | F3: =VLOOKUP(B3,'Sources to search'!A:B,2,FALSE) -> apnews.com | G3: &startdatetime= | H3: =VLOOKUP(A3,'Dates to search'!A:C,2,FALSE) -> 43953 | I3: &enddatetime= | J3: =VLOOKUP(A3,'Dates to search'!A:C,3,FALSE) -> 43954 | K3: &mode=artlist&maxrecords=250&sort=datedesc&format=csv', | L3: =CONCATENATE(C3,D3,E3,F3,G3,TEXT(H3,"yyyymmddhhmmss"),I3,TEXT(J3,"yyyymmddhhmmss"),K3) -> 'https://api.gdeltproject.org/api/v2/doc/doc?query=("Donald Trump" OR "President Trump") domainis:apnews.com&startdatetime=20200502000000&enddatetime=20200503000000&mode=artlist&maxrecords=250&sort=datedesc&format=csv',
A4: ='Dates to search'!$A$4 -> 43954 | B4: AP | C4: 'https://api.gdeltproject.org/api/v2/doc/doc?query= | D4: ='Search terms'!$A$2 -> ("Donald Trump" OR "President Trump") | E4: domainis: | F4: =VLOOKUP(B4,'Sources to search'!A:B,2,FALSE) -> apnews.com | G4: &startdatetime= | H4: =VLOOKUP(A4,'Dates to search'!A:C,2,FALSE) -> 43954 | I4: &enddatetime= | J4: =VLOOKUP(A4,'Dates to search'!A:C,3,FALSE) -> 43955 | K4: &mode=artlist&maxrecords=250&sort=datedesc&format=csv', | L4: =CONCATENATE(C4,D4,E4,F4,G4,TEXT(H4,"yyyymmddhhmmss"),I4,TEXT(J4,"yyyymmddhhmmss"),K4) -> 'https://api.gdeltproject.org/api/v2/doc/doc?query=("Donald Trump" OR "President Trump") domainis:apnews.com&startdatetime=20200503000000&enddatetime=20200504000000&mode=artlist&maxrecords=250&sort=datedesc&format=csv',
A5: ='Dates to search'!$A$5 -> 43955 | B5: AP | C5: 'https://api.gdeltproject.org/api/v2/doc/doc?query= | D5: ='Search terms'!$A$2 -> ("Donald Trump" OR "President Trump") | E5: domainis: | F5: =VLOOKUP(B5,'Sources to search'!A:B,2,FALSE) -> apnews.com | G5: &startdatetime= | H5: =VLOOKUP(A5,'Dates to search'!A:C,2,FALSE) -> 43955 | I5: &enddatetime= | J5: =VLOOKUP(A5,'Dates to search'!A:C,3,FALSE) -> 43956 | K5: &mode=artlist&maxrecords=250&sort=datedesc&format=csv', | L5: =CONCATENATE(C5,D5,E5,F5,G5,TEXT(H5,"yyyymmddhhmmss"),I5,TEXT(J5,"yyyymmddhhmmss"),K5) -> 'https://api.gdeltproject.org/api/v2/doc/doc?query=("Donald Trump" OR "President Trump") domainis:apnews.com&startdatetime=20200504000000&enddatetime=20200505000000&mode=artlist&maxrecords=250&sort=datedesc&format=csv',
A6: ='Dates to search'!$A$6 -> 43956 | B6: AP | C6: 'https://api.gdeltproject.org/api/v2/doc/doc?query= | D6: ='Search terms'!$A$2 -> ("Donald Trump" OR "President Trump") | E6: domainis: | F6: =VLOOKUP(B6,'Sources to search'!A:B,2,FALSE) -> apnews.com | G6: &startdatetime= | H6: =VLOOKUP(A6,'Dates to search'!A:C,2,FALSE) -> 43956 | I6: &enddatetime= | J6: =VLOOKUP(A6,'Dates to search'!A:C,3,FALSE) -> 43957 | K6: &mode=artlist&maxrecords=250&sort=datedesc&format=csv', | L6: =CONCATENATE(C6,D6,E6,F6,G6,TEXT(H6,"yyyymmddhhmmss"),I6,TEXT(J6,"yyyymmddhhmmss"),K6) -> 'https://api.gdeltproject.org/api/v2/doc/doc?query=("Donald Trump" OR "President Trump") domainis:apnews.com&startdatetime=20200505000000&enddatetime=20200506000000&mode=artlist&maxrecords=250&sort=datedesc&format=csv',
A7: ='Dates to search'!$A$7 -> 43957 | B7: AP | C7: 'https://api.gdeltproject.org/api/v2/doc/doc?query= | D7: ='Search terms'!$A$2 -> ("Donald Trump" OR "President Trump") | E7: domainis: | F7: =VLOOKUP(B7,'Sources to search'!A:B,2,FALSE) -> apnews.com | G7: &startdatetime= | H7: =VLOOKUP(A7,'Dates to search'!A:C,2,FALSE) -> 43957 | I7: &enddatetime= | J7: =VLOOKUP(A7,'Dates to search'!A:C,3,FALSE) -> 43958 | K7: &mode=artlist&maxrecords=250&sort=datedesc&format=csv', | L7: =CONCATENATE(C7,D7,E7,F7,G7,TEXT(H7,"yyyymmddhhmmss"),I7,TEXT(J7,"yyyymmddhhmmss"),K7) -> 'https://api.gdeltproject.org/api/v2/doc/doc?query=("Donald Trump" OR "President Trump") domainis:apnews.com&startdatetime=20200506000000&enddatetime=20200507000000&mode=artlist&maxrecords=250&sort=datedesc&format=csv',
A8: ='Dates to search'!$A$8 -> 43958 | B8: AP | C8: 'https://api.gdeltproject.org/api/v2/doc/doc?query= | D8: ='Search terms'!$A$2 -> ("Donald Trump" OR "President Trump") | E8: domainis: | F8: =VLOOKUP(B8,'Sources to search'!A:B,2,FALSE) -> apnews.com | G8: &startdatetime= | H8: =VLOOKUP(A8,'Dates to search'!A:C,2,FALSE) -> 43958 | I8: &enddatetime= | J8: =VLOOKUP(A8,'Dates to search'!A:C,3,FALSE) -> 43959 | K8: &mode=artlist&maxrecords=250&sort=datedesc&format=csv', | L8: =CONCATENATE(C8,D8,E8,F8,G8,TEXT(H8,"yyyymmddhhmmss"),I8,TEXT(J8,"yyyymmddhhmmss"),K8) -> 'https://api.gdeltproject.org/api/v2/doc/doc?query=("Donald Trump" OR "President Trump") domainis:apnews.com&startdatetime=20200507000000&enddatetime=20200508000000&mode=artlist&maxrecords=250&sort=datedesc&format=csv',
A9: ='Dates to search'!$A$9 -> 43959 | B9: AP | C9: 'https://api.gdeltproject.org/api/v2/doc/doc?query= | D9: ='Search terms'!$A$2 -> ("Donald Trump" OR "President Trump") | E9: domainis: | F9: =VLOOKUP(B9,'Sources to search'!A:B,2,FALSE) -> apnews.com | G9: &startdatetime= | H9: =VLOOKUP(A9,'Dates to search'!A:C,2,FALSE) -> 43959 | I9: &enddatetime= | J9: =VLOOKUP(A9,'Dates to search'!A:C,3,FALSE) -> 43960 | K9: &mode=artlist&maxrecords=250&sort=datedesc&format=csv', | L9: =CONCATENATE(C9,D9,E9,F9,G9,TEXT(H9,"yyyymmddhhmmss"),I9,TEXT(J9,"yyyymmddhhmmss"),K9) -> 'https://api.gdeltproject.org/api/v2/doc/doc?query=("Donald Trump" OR "President Trump") domainis:apnews.com&startdatetime=20200508000000&enddatetime=20200509000000&mode=artlist&maxrecords=250&sort=datedesc&format=csv',
A10: ='Dates to search'!$A$10 -> 43960 | B10: AP | C10: 'https://api.gdeltproject.org/api/v2/doc/doc?query= | D10: ='Search terms'!$A$2 -> ("Donald Trump" OR "President Trump") | E10: domainis: | F10: =VLOOKUP(B10,'Sources to search'!A:B,2,FALSE) -> apnews.com | G10: &startdatetime= | H10: =VLOOKUP(A10,'Dates to search'!A:C,2,FALSE) -> 43960 | I10: &enddatetime= | J10: =VLOOKUP(A10,'Dates to search'!A:C,3,FALSE) -> 43961 | K10: &mode=artlist&maxrecords=250&sort=datedesc&format=csv', | L10: =CONCATENATE(C10,D10,E10,F10,G10,TEXT(H10,"yyyymmddhhmmss"),I10,TEXT(J10,"yyyymmddhhmmss"),K10) -> 'https://api.gdeltproject.org/api/v2/doc/doc?query=("Donald Trump" OR "President Trump") domainis:apnews.com&startdatetime=20200509000000&enddatetime=20200510000000&mode=artlist&maxrecords=250&sort=datedesc&format=csv',
A11: ='Dates to search'!$A$11 -> 43961 | B11: AP | C11: 'https://api.gdeltproject.org/api/v2/doc/doc?query= | D11: ='Search terms'!$A$2 -> ("Donald Trump" OR "President Trump") | E11: domainis: | F11: =VLOOKUP(B11,'Sources to search'!A:B,2,FALSE) -> apnews.com | G11: &startdatetime= | H11: =VLOOKUP(A11,'Dates to search'!A:C,2,FALSE) -> 43961 | I11: &enddatetime= | J11: =VLOOKUP(A11,'Dates to search'!A:C,3,FALSE) -> 43962 | K11: &mode=artlist&maxrecords=250&sort=datedesc&format=csv', | L11: =CONCATENATE(C11,D11,E11,F11,G11,TEXT(H11,"yyyymmddhhmmss"),I11,TEXT(J11,"yyyymmddhhmmss"),K11) -> 'https://api.gdeltproject.org/api/v2/doc/doc?query=("Donald Trump" OR "President Trump") domainis:apnews.com&startdatetime=20200510000000&enddatetime=20200511000000&mode=artlist&maxrecords=250&sort=datedesc&format=csv',
A12: ='Dates to search'!$A$12 -> 43962 | B12: AP | C12: 'https://api.gdeltproject.org/api/v2/doc/doc?query= | D12: ='Search terms'!$A$2 -> ("Donald Trump" OR "President Trump") | E12: domainis: | F12: =VLOOKUP(B12,'Sources to search'!A:B,2,FALSE) -> apnews.com | G12: &startdatetime= | H12: =VLOOKUP(A12,'Dates to search'!A:C,2,FALSE) -> 43962 | I12: &enddatetime= | J12: =VLOOKUP(A12,'Dates to search'!A:C,3,FALSE) -> 43963 | K12: &mode=artlist&maxrecords=250&sort=datedesc&format=csv', | L12: =CONCATENATE(C12,D12,E12,F12,G12,TEXT(H12,"yyyymmddhhmmss"),I12,TEXT(J12,"yyyymmddhhmmss"),K12) -> 'https://api.gdeltproject.org/api/v2/doc/doc?query=("Donald Trump" OR "President Trump") domainis:apnews.com&startdatetime=20200511000000&enddatetime=20200512000000&mode=artlist&maxrecords=250&sort=datedesc&format=csv',
A13: ='Dates to search'!$A$13 -> 43963 | B13: AP | C13: 'https://api.gdeltproject.org/api/v2/doc/doc?query= | D13: ='Search terms'!$A$2 -> ("Donald Trump" OR "President Trump") | E13: domainis: | F13: =VLOOKUP(B13,'Sources to search'!A:B,2,FALSE) -> apnews.com | G13: &startdatetime= | H13: =VLOOKUP(A13,'Dates to search'!A:C,2,FALSE) -> 43963 | I13: &enddatetime= | J13: =VLOOKUP(A13,'Dates to search'!A:C,3,FALSE) -> 43964 | K13: &mode=artlist&maxrecords=250&sort=datedesc&format=csv', | L13: =CONCATENATE(C13,D13,E13,F13,G13,TEXT(H13,"yyyymmddhhmmss"),I13,TEXT(J13,"yyyymmddhhmmss"),K13) -> 'https://api.gdeltproject.org/api/v2/doc/doc?query=("Donald Trump" OR "President Trump") domainis:apnews.com&startdatetime=20200512000000&enddatetime=20200513000000&mode=artlist&maxrecords=250&sort=datedesc&format=csv',
A14: ='Dates to search'!$A$14 -> 43964 | B14: AP | C14: 'https://api.gdeltproject.org/api/v2/doc/doc?query= | D14: ='Search terms'!$A$2 -> ("Donald Trump" OR "President Trump") | E14: domainis: | F14: =VLOOKUP(B14,'Sources to search'!A:B,2,FALSE) -> apnews.com | G14: &startdatetime= | H14: =VLOOKUP(A14,'Dates to search'!A:C,2,FALSE) -> 43964 | I14: &enddatetime= | J14: =VLOOKUP(A14,'Dates to search'!A:C,3,FALSE) -> 43965 | K14: &mode=artlist&maxrecords=250&sort=datedesc&format=csv', | L14: =CONCATENATE(C14,D14,E14,F14,G14,TEXT(H14,"yyyymmddhhmmss"),I14,TEXT(J14,"yyyymmddhhmmss"),K14) -> 'https://api.gdeltproject.org/api/v2/doc/doc?query=("Donald Trump" OR "President Trump") domainis:apnews.com&startdatetime=20200513000000&enddatetime=20200514000000&mode=artlist&maxrecords=250&sort=datedesc&format=csv',
A15: ='Dates to search'!$A$15 -> 43965 | B15: AP | C15: 'https://api.gdeltproject.org/api/v2/doc/doc?query= | D15: ='Search terms'!$A$2 -> ("Donald Trump" OR "President Trump") | E15: domainis: | F15: =VLOOKUP(B15,'Sources to search'!A:B,2,FALSE) -> apnews.com | G15: &startdatetime= | H15: =VLOOKUP(A15,'Dates to search'!A:C,2,FALSE) -> 43965 | I15: &enddatetime= | J15: =VLOOKUP(A15,'Dates to search'!A:C,3,FALSE) -> 43966 | K15: &mode=artlist&maxrecords=250&sort=datedesc&format=csv', | L15: =CONCATENATE(C15,D15,E15,F15,G15,TEXT(H15,"yyyymmddhhmmss"),I15,TEXT(J15,"yyyymmddhhmmss"),K15) -> 'https://api.gdeltproject.org/api/v2/doc/doc?query=("Donald Trump" OR "President Trump") domainis:apnews.com&startdatetime=20200514000000&enddatetime=20200515000000&mode=artlist&maxrecords=250&sort=datedesc&format=csv',
A16: ='Dates to search'!$A$16 -> 43966 | B16: AP | C16: 'https://api.gdeltproject.org/api/v2/doc/doc?query= | D16: ='Search terms'!$A$2 -> ("Donald Trump" OR "President Trump") | E16: domainis: | F16: =VLOOKUP(B16,'Sources to search'!A:B,2,FALSE) -> apnews.com | G16: &startdatetime= | H16: =VLOOKUP(A16,'Dates to search'!A:C,2,FALSE) -> 43966 | I16: &enddatetime= | J16: =VLOOKUP(A16,'Dates to search'!A:C,3,FALSE) -> 43967 | K16: &mode=artlist&maxrecords=250&sort=datedesc&format=csv', | L16: =CONCATENATE(C16,D16,E16,F16,G16,TEXT(H16,"yyyymmddhhmmss"),I16,TEXT(J16,"yyyymmddhhmmss"),K16) -> 'https://api.gdeltproject.org/api/v2/doc/doc?query=("Donald Trump" OR "President Trump") domainis:apnews.com&startdatetime=20200515000000&enddatetime=20200516000000&mode=artlist&maxrecords=250&sort=datedesc&format=csv',
A17: ='Dates to search'!$A$17 -> 43967 | B17: AP | C17: 'https://api.gdeltproject.org/api/v2/doc/doc?query= | D17: ='Search terms'!$A$2 -> ("Donald Trump" OR "President Trump") | E17: domainis: | F17: =VLOOKUP(B17,'Sources to search'!A:B,2,FALSE) -> apnews.com | G17: &startdatetime= | H17: =VLOOKUP(A17,'Dates to search'!A:C,2,FALSE) -> 43967 | I17: &enddatetime= | J17: =VLOOKUP(A17,'Dates to search'!A:C,3,FALSE) -> 43968 | K17: &mode=artlist&maxrecords=250&sort=datedesc&format=csv', | L17: =CONCATENATE(C17,D17,E17,F17,G17,TEXT(H17,"yyyymmddhhmmss"),I17,TEXT(J17,"yyyymmddhhmmss"),K17) -> 'https://api.gdeltproject.org/api/v2/doc/doc?query=("Donald Trump" OR "President Trump") domainis:apnews.com&startdatetime=20200516000000&enddatetime=20200517000000&mode=artlist&maxrecords=250&sort=datedesc&format=csv',
A18: ='Dates to search'!$A$18 -> 43968 | B18: AP | C18: 'https://api.gdeltproject.org/api/v2/doc/doc?query= | D18: ='Search terms'!$A$2 -> ("Donald Trump" OR "President Trump") | E18: domainis: | F18: =VLOOKUP(B18,'Sources to search'!A:B,2,FALSE) -> apnews.com | G18: &startdatetime= | H18: =VLOOKUP(A18,'Dates to search'!A:C,2,FALSE) -> 43968 | I18: &enddatetime= | J18: =VLOOKUP(A18,'Dates to search'!A:C,3,FALSE) -> 43969 | K18: &mode=artlist&maxrecords=250&sort=datedesc&format=csv', | L18: =CONCATENATE(C18,D18,E18,F18,G18,TEXT(H18,"yyyymmddhhmmss"),I18,TEXT(J18,"yyyymmddhhmmss"),K18) -> 'https://api.gdeltproject.org/api/v2/doc/doc?query=("Donald Trump" OR "President Trump") domainis:apnews.com&startdatetime=20200517000000&enddatetime=20200518000000&mode=artlist&maxrecords=250&sort=datedesc&format=csv',
A19: ='Dates to search'!$A$19 -> 43969 | B19: AP | C19: 'https://api.gdeltproject.org/api/v2/doc/doc?query= | D19: ='Search terms'!$A$2 -> ("Donald Trump" OR "President Trump") | E19: domainis: | F19: =VLOOKUP(B19,'Sources to search'!A:B,2,FALSE) -> apnews.com | G19: &startdatetime= | H19: =VLOOKUP(A19,'Dates to search'!A:C,2,FALSE) -> 43969 | I19: &enddatetime= | J19: =VLOOKUP(A19,'Dates to search'!A:C,3,FALSE) -> 43970 | K19: &mode=artlist&maxrecords=250&sort=datedesc&format=csv', | L19: =CONCATENATE(C19,D19,E19,F19,G19,TEXT(H19,"yyyymmddhhmmss"),I19,TEXT(J19,"yyyymmddhhmmss"),K19) -> 'https://api.gdeltproject.org/api/v2/doc/doc?query=("Donald Trump" OR "President Trump") domainis:apnews.com&startdatetime=20200518000000&enddatetime=20200519000000&mode=artlist&maxrecords=250&sort=datedesc&format=csv',
A20: ='Dates to search'!$A$20 -> 43970 | B20: AP | C20: 'https://api.gdeltproject.org/api/v2/doc/doc?query= | D20: ='Search terms'!$A$2 -> ("Donald Trump" OR "President Trump") | E20: domainis: | F20: =VLOOKUP(B20,'Sources to search'!A:B,2,FALSE) -> apnews.com | G20: &startdatetime= | H20: =VLOOKUP(A20,'Dates to search'!A:C,2,FALSE) -> 43970 | I20: &enddatetime= | J20: =VLOOKUP(A20,'Dates to search'!A:C,3,FALSE) -> 43971 | K20: &mode=artlist&maxrecords=250&sort=datedesc&format=csv', | L20: =CONCATENATE(C20,D20,E20,F20,G20,TEXT(H20,"yyyymmddhhmmss"),I20,TEXT(J20,"yyyymmddhhmmss"),K20) -> 'https://api.gdeltproject.org/api/v2/doc/doc?query=("Donald Trump" OR "President Trump") domainis:apnews.com&startdatetime=20200519000000&enddatetime=20200520000000&mode=artlist&maxrecords=250&sort=datedesc&format=csv',
A21: ='Dates to search'!$A$21 -> 43971 | B21: AP | C21: 'https://api.gdeltproject.org/api/v2/doc/doc?query= | D21: ='Search terms'!$A$2 -> ("Donald Trump" OR "President Trump") | E21: domainis: | F21: =VLOOKUP(B21,'Sources to search'!A:B,2,FALSE) -> apnews.com | G21: &startdatetime= | H21: =VLOOKUP(A21,'Dates to search'!A:C,2,FALSE) -> 43971 | I21: &enddatetime= | J21: =VLOOKUP(A21,'Dates to search'!A:C,3,FALSE) -> 43972 | K21: &mode=artlist&maxrecords=250&sort=datedesc&format=csv', | L21: =CONCATENATE(C21,D21,E21,F21,G21,TEXT(H21,"yyyymmddhhmmss"),I21,TEXT(J21,"yyyymmddhhmmss"),K21) -> 'https://api.gdeltproject.org/api/v2/doc/doc?query=("Donald Trump" OR "President Trump") domainis:apnews.com&startdatetime=20200520000000&enddatetime=20200521000000&mode=artlist&maxrecords=250&sort=datedesc&format=csv',
A22: ='Dates to search'!$A$22 -> 43972 | B22: AP | C22: 'https://api.gdeltproject.org/api/v2/doc/doc?query= | D22: ='Search terms'!$A$2 -> ("Donald Trump" OR "President Trump") | E22: domainis: | F22: =VLOOKUP(B22,'Sources to search'!A:B,2,FALSE) -> apnews.com | G22: &startdatetime= | H22: =VLOOKUP(A22,'Dates to search'!A:C,2,FALSE) -> 43972 | I22: &enddatetime= | J22: =VLOOKUP(A22,'Dates to search'!A:C,3,FALSE) -> 43973 | K22: &mode=artlist&maxrecords=250&sort=datedesc&format=csv', | L22: =CONCATENATE(C22,D22,E22,F22,G22,TEXT(H22,"yyyymmddhhmmss"),I22,TEXT(J22,"yyyymmddhhmmss"),K22) -> 'https://api.gdeltproject.org/api/v2/doc/doc?query=("Donald Trump" OR "President Trump") domainis:apnews.com&startdatetime=20200521000000&enddatetime=20200522000000&mode=artlist&maxrecords=250&sort=datedesc&format=csv',
A23: ='Dates to search'!$A$23 -> 43973 | B23: AP | C23: 'https://api.gdeltproject.org/api/v2/doc/doc?query= | D23: ='Search terms'!$A$2 -> ("Donald Trump" OR "President Trump") | E23: domainis: | F23: =VLOOKUP(B23,'Sources to search'!A:B,2,FALSE) -> apnews.com | G23: &startdatetime= | H23: =VLOOKUP(A23,'Dates to search'!A:C,2,FALSE) -> 43973 | I23: &enddatetime= | J23: =VLOOKUP(A23,'Dates to search'!A:C,3,FALSE) -> 43974 | K23: &mode=artlist&maxrecords=250&sort=datedesc&format=csv', | L23: =CONCATENATE(C23,D23,E23,F23,G23,TEXT(H23,"yyyymmddhhmmss"),I23,TEXT(J23,"yyyymmddhhmmss"),K23) -> 'https://api.gdeltproject.org/api/v2/doc/doc?query=("Donald Trump" OR "President Trump") domainis:apnews.com&startdatetime=20200522000000&enddatetime=20200523000000&mode=artlist&maxrecords=250&sort=datedesc&format=csv',
A24: ='Dates to search'!$A$24 -> 43974 | B24: AP | C24: 'https://api.gdeltproject.org/api/v2/doc/doc?query= | D24: ='Search terms'!$A$2 -> ("Donald Trump" OR "President Trump") | E24: domainis: | F24: =VLOOKUP(B24,'Sources to search'!A:B,2,FALSE) -> apnews.com | G24: &startdatetime= | H24: =VLOOKUP(A24,'Dates to search'!A:C,2,FALSE) -> 43974 | I24: &enddatetime= | J24: =VLOOKUP(A24,'Dates to search'!A:C,3,FALSE) -> 43975 | K24: &mode=artlist&maxrecords=250&sort=datedesc&format=csv', | L24: =CONCATENATE(C24,D24,E24,F24,G24,TEXT(H24,"yyyymmddhhmmss"),I24,TEXT(J24,"yyyymmddhhmmss"),K24) -> 'https://api.gdeltproject.org/api/v2/doc/doc?query=("Donald Trump" OR "President Trump") domainis:apnews.com&startdatetime=20200523000000&enddatetime=20200524000000&mode=artlist&maxrecords=250&sort=datedesc&format=csv',
A25: ='Dates to search'!$A$25 -> 43975 | B25: AP | C25: 'https://api.gdeltproject.org/api/v2/doc/doc?query= | D25: ='Search terms'!$A$2 -> ("Donald Trump" OR "President Trump") | E25: domainis: | F25: =VLOOKUP(B25,'Sources to search'!A:B,2,FALSE) -> apnews.com | G25: &startdatetime= | H25: =VLOOKUP(A25,'Dates to search'!A:C,2,FALSE) -> 43975 | I25: &enddatetime= | J25: =VLOOKUP(A25,'Dates to search'!A:C,3,FALSE) -> 43976 | K25: &mode=artlist&maxrecords=250&sort=datedesc&format=csv', | L25: =CONCATENATE(C25,D25,E25,F25,G25,TEXT(H25,"yyyymmddhhmmss"),I25,TEXT(J25,"yyyymmddhhmmss"),K25) -> 'https://api.gdeltproject.org/api/v2/doc/doc?query=("Donald Trump" OR "President Trump") domainis:apnews.com&startdatetime=20200524000000&enddatetime=20200525000000&mode=artlist&maxrecords=250&sort=datedesc&format=csv',
A26: ='Dates to search'!$A$26 -> 43976 | B26: AP | C26: 'https://api.gdeltproject.org/api/v2/doc/doc?query= | D26: ='Search terms'!$A$2 -> ("Donald Trump" OR "President Trump") | E26: domainis: | F26: =VLOOKUP(B26,'Sources to search'!A:B,2,FALSE) -> apnews.com | G26: &startdatetime= | H26: =VLOOKUP(A26,'Dates to search'!A:C,2,FALSE) -> 43976 | I26: &enddatetime= | J26: =VLOOKUP(A26,'Dates to search'!A:C,3,FALSE) -> 43977 | K26: &mode=artlist&maxrecords=250&sort=datedesc&format=csv', | L26: =CONCATENATE(C26,D26,E26,F26,G26,TEXT(H26,"yyyymmddhhmmss"),I26,TEXT(J26,"yyyymmddhhmmss"),K26) -> 'https://api.gdeltproject.org/api/v2/doc/doc?query=("Donald Trump" OR "President Trump") domainis:apnews.com&startdatetime=20200525000000&enddatetime=20200526000000&mode=artlist&maxrecords=250&sort=datedesc&format=csv',
A27: ='Dates to search'!$A$27 -> 43977 | B27: AP | C27: 'https://api.gdeltproject.org/api/v2/doc/doc?query= | D27: ='Search terms'!$A$2 -> ("Donald Trump" OR "President Trump") | E27: domainis: | F27: =VLOOKUP(B27,'Sources to search'!A:B,2,FALSE) -> apnews.com | G27: &startdatetime= | H27: =VLOOKUP(A27,'Dates to search'!A:C,2,FALSE) -> 43977 | I27: &enddatetime= | J27: =VLOOKUP(A27,'Dates to search'!A:C,3,FALSE) -> 43978 | K27: &mode=artlist&maxrecords=250&sort=datedesc&format=csv', | L27: =CONCATENATE(C27,D27,E27,F27,G27,TEXT(H27,"yyyymmddhhmmss"),I27,TEXT(J27,"yyyymmddhhmmss"),K27) -> 'https://api.gdeltproject.org/api/v2/doc/doc?query=("Donald Trump" OR "President Trump") domainis:apnews.com&startdatetime=20200526000000&enddatetime=20200527000000&mode=artlist&maxrecords=250&sort=datedesc&format=csv',
A28: ='Dates to search'!$A$28 -> 43978 | B28: AP | C28: 'https://api.gdeltproject.org/api/v2/doc/doc?query= | D28: ='Search terms'!$A$2 -> ("Donald Trump" OR "President Trump") | E28: domainis: | F28: =VLOOKUP(B28,'Sources to search'!A:B,2,FALSE) -> apnews.com | G28: &startdatetime= | H28: =VLOOKUP(A28,'Dates to search'!A:C,2,FALSE) -> 43978 | I28: &enddatetime= | J28: =VLOOKUP(A28,'Dates to search'!A:C,3,FALSE) -> 43979 | K28: &mode=artlist&maxrecords=250&sort=datedesc&format=csv', | L28: =CONCATENATE(C28,D28,E28,F28,G28,TEXT(H28,"yyyymmddhhmmss"),I28,TEXT(J28,"yyyymmddhhmmss"),K28) -> 'https://api.gdeltproject.org/api/v2/doc/doc?query=("Donald Trump" OR "President Trump") domainis:apnews.com&startdatetime=20200527000000&enddatetime=20200528000000&mode=artlist&maxrecords=250&sort=datedesc&format=csv',
A29: ='Dates to search'!$A$29 -> 43979 | B29: AP | C29: 'https://api.gdeltproject.org/api/v2/doc/doc?query= | D29: ='Search terms'!$A$2 -> ("Donald Trump" OR "President Trump") | E29: domainis: | F29: =VLOOKUP(B29,'Sources to search'!A:B,2,FALSE) -> apnews.com | G29: &startdatetime= | H29: =VLOOKUP(A29,'Dates to search'!A:C,2,FALSE) -> 43979 | I29: &enddatetime= | J29: =VLOOKUP(A29,'Dates to search'!A:C,3,FALSE) -> 43980 | K29: &mode=artlist&maxrecords=250&sort=datedesc&format=csv', | L29: =CONCATENATE(C29,D29,E29,F29,G29,TEXT(H29,"yyyymmddhhmmss"),I29,TEXT(J29,"yyyymmddhhmmss"),K29) -> 'https://api.gdeltproject.org/api/v2/doc/doc?query=("Donald Trump" OR "President Trump") domainis:apnews.com&startdatetime=20200528000000&enddatetime=20200529000000&mode=artlist&maxrecords=250&sort=datedesc&format=csv',
A30: ='Dates to search'!$A$30 -> 43980 | B30: AP | C30: 'https://api.gdeltproject.org/api/v2/doc/doc?query= | D30: ='Search terms'!$A$2 -> ("Donald Trump" OR "President Trump") | E30: domainis: | F30: =VLOOKUP(B30,'Sources to search'!A:B,2,FALSE) -> apnews.com | G30: &startdatetime= | H30: =VLOOKUP(A30,'Dates to search'!A:C,2,FALSE) -> 43980 | I30: &enddatetime= | J30: =VLOOKUP(A30,'Dates to search'!A:C,3,FALSE) -> 43981 | K30: &mode=artlist&maxrecords=250&sort=datedesc&format=csv', | L30: =CONCATENATE(C30,D30,E30,F30,G30,TEXT(H30,"yyyymmddhhmmss"),I30,TEXT(J30,"yyyymmddhhmmss"),K30) -> 'https://api.gdeltproject.org/api/v2/doc/doc?query=("Donald Trump" OR "President Trump") domainis:apnews.com&startdatetime=20200529000000&enddatetime=20200530000000&mode=artlist&maxrecords=250&sort=datedesc&format=csv',
A31: ='Dates to search'!$A$31 -> 43981 | B31: AP | C31: 'https://api.gdeltproject.org/api/v2/doc/doc?query= | D31: ='Search terms'!$A$2 -> ("Donald Trump" OR "President Trump") | E31: domainis: | F31: =VLOOKUP(B31,'Sources to search'!A:B,2,FALSE) -> apnews.com | G31: &startdatetime= | H31: =VLOOKUP(A31,'Dates to search'!A:C,2,FALSE) -> 43981 | I31: &enddatetime= | J31: =VLOOKUP(A31,'Dates to search'!A:C,3,FALSE) -> 43982 | K31: &mode=artlist&maxrecords=250&sort=datedesc&format=csv', | L31: =CONCATENATE(C31,D31,E31,F31,G31,TEXT(H31,"yyyymmddhhmmss"),I31,TEXT(J31,"yyyymmddhhmmss"),K31) -> 'https://api.gdeltproject.org/api/v2/doc/doc?query=("Donald Trump" OR "President Trump") domainis:apnews.com&startdatetime=20200530000000&enddatetime=20200531000000&mode=artlist&maxrecords=250&sort=datedesc&format=csv',
A32: ='Dates to search'!$A$2 -> 43952 | B32: CNN | C32: 'https://api.gdeltproject.org/api/v2/doc/doc?query= | D32: ='Search terms'!$A$2 -> ("Donald Trump" OR "President Trump") | E32: domainis: | F32: =VLOOKUP(B32,'Sources to search'!A:B,2,FALSE) -> CNN.com | G32: &startdatetime= | H32: =VLOOKUP(A32,'Dates to search'!A:C,2,FALSE) -> 43952 | I32: &enddatetime= | J32: =VLOOKUP(A32,'Dates to search'!A:C,3,FALSE) -> 43953 | K32: &mode=artlist&maxrecords=250&sort=datedesc&format=csv', | L32: =CONCATENATE(C32,D32,E32,F32,G32,TEXT(H32,"yyyymmddhhmmss"),I32,TEXT(J32,"yyyymmddhhmmss"),K32) -> 'https://api.gdeltproject.org/api/v2/doc/doc?query=("Donald Trump" OR "President Trump") domainis:CNN.com&startdatetime=20200501000000&enddatetime=20200502000000&mode=artlist&maxrecords=250&sort=datedesc&format=csv',
A33: ='Dates to search'!$A$3 -> 43953 | B33: CNN | C33: 'https://api.gdeltproject.org/api/v2/doc/doc?query= | D33: ='Search terms'!$A$2 -> ("Donald Trump" OR "President Trump") | E33: domainis: | F33: =VLOOKUP(B33,'Sources to search'!A:B,2,FALSE) -> CNN.com | G33: &startdatetime= | H33: =VLOOKUP(A33,'Dates to search'!A:C,2,FALSE) -> 43953 | I33: &enddatetime= | J33: =VLOOKUP(A33,'Dates to search'!A:C,3,FALSE) -> 43954 | K33: &mode=artlist&maxrecords=250&sort=datedesc&format=csv', | L33: =CONCATENATE(C33,D33,E33,F33,G33,TEXT(H33,"yyyymmddhhmmss"),I33,TEXT(J33,"yyyymmddhhmmss"),K33) -> 'https://api.gdeltproject.org/api/v2/doc/doc?query=("Donald Trump" OR "President Trump") domainis:CNN.com&startdatetime=20200502000000&enddatetime=20200503000000&mode=artlist&maxrecords=250&sort=datedesc&format=csv',
A34: ='Dates to search'!$A$4 -> 43954 | B34: CNN | C34: 'https://api.gdeltproject.org/api/v2/doc/doc?query= | D34: ='Search terms'!$A$2 -> ("Donald Trump" OR "President Trump") | E34: domainis: | F34: =VLOOKUP(B34,'Sources to search'!A:B,2,FALSE) -> CNN.com | G34: &startdatetime= | H34: =VLOOKUP(A34,'Dates to search'!A:C,2,FALSE) -> 43954 | I34: &enddatetime= | J34: =VLOOKUP(A34,'Dates to search'!A:C,3,FALSE) -> 43955 | K34: &mode=artlist&maxrecords=250&sort=datedesc&format=csv', | L34: =CONCATENATE(C34,D34,E34,F34,G34,TEXT(H34,"yyyymmddhhmmss"),I34,TEXT(J34,"yyyymmddhhmmss"),K34) -> 'https://api.gdeltproject.org/api/v2/doc/doc?query=("Donald Trump" OR "President Trump") domainis:CNN.com&startdatetime=20200503000000&enddatetime=20200504000000&mode=artlist&maxrecords=250&sort=datedesc&format=csv',
A35: ='Dates to search'!$A$5 -> 43955 | B35: CNN | C35: 'https://api.gdeltproject.org/api/v2/doc/doc?query= | D35: ='Search terms'!$A$2 -> ("Donald Trump" OR "President Trump") | E35: domainis: | F35: =VLOOKUP(B35,'Sources to search'!A:B,2,FALSE) -> CNN.com | G35: &startdatetime= | H35: =VLOOKUP(A35,'Dates to search'!A:C,2,FALSE) -> 43955 | I35: &enddatetime= | J35: =VLOOKUP(A35,'Dates to search'!A:C,3,FALSE) -> 43956 | K35: &mode=artlist&maxrecords=250&sort=datedesc&format=csv', | L35: =CONCATENATE(C35,D35,E35,F35,G35,TEXT(H35,"yyyymmddhhmmss"),I35,TEXT(J35,"yyyymmddhhmmss"),K35) -> 'https://api.gdeltproject.org/api/v2/doc/doc?query=("Donald Trump" OR "President Trump") domainis:CNN.com&startdatetime=20200504000000&enddatetime=20200505000000&mode=artlist&maxrecords=250&sort=datedesc&format=csv',
A36: ='Dates to search'!$A$6 -> 43956 | B36: CNN | C36: 'https://api.gdeltproject.org/api/v2/doc/doc?query= | D36: ='Search terms'!$A$2 -> ("Donald Trump" OR "President Trump") | E36: domainis: | F36: =VLOOKUP(B36,'Sources to search'!A:B,2,FALSE) -> CNN.com | G36: &startdatetime= | H36: =VLOOKUP(A36,'Dates to search'!A:C,2,FALSE) -> 43956 | I36: &enddatetime= | J36: =VLOOKUP(A36,'Dates to search'!A:C,3,FALSE) -> 43957 | K36: &mode=artlist&maxrecords=250&sort=datedesc&format=csv', | L36: =CONCATENATE(C36,D36,E36,F36,G36,TEXT(H36,"yyyymmddhhmmss"),I36,TEXT(J36,"yyyymmddhhmmss"),K36) -> 'https://api.gdeltproject.org/api/v2/doc/doc?query=("Donald Trump" OR "President Trump") domainis:CNN.com&startdatetime=20200505000000&enddatetime=20200506000000&mode=artlist&maxrecords=250&sort=datedesc&format=csv',
A37: ='Dates to search'!$A$7 -> 43957 | B37: CNN | C37: 'https://api.gdeltproject.org/api/v2/doc/doc?query= | D37: ='Search terms'!$A$2 -> ("Donald Trump" OR "President Trump") | E37: domainis: | F37: =VLOOKUP(B37,'Sources to search'!A:B,2,FALSE) -> CNN.com | G37: &startdatetime= | H37: =VLOOKUP(A37,'Dates to search'!A:C,2,FALSE) -> 43957 | I37: &enddatetime= | J37: =VLOOKUP(A37,'Dates to search'!A:C,3,FALSE) -> 43958 | K37: &mode=artlist&maxrecords=250&sort=datedesc&format=csv', | L37: =CONCATENATE(C37,D37,E37,F37,G37,TEXT(H37,"yyyymmddhhmmss"),I37,TEXT(J37,"yyyymmddhhmmss"),K37) -> 'https://api.gdeltproject.org/api/v2/doc/doc?query=("Donald Trump" OR "President Trump") domainis:CNN.com&startdatetime=20200506000000&enddatetime=20200507000000&mode=artlist&maxrecords=250&sort=datedesc&format=csv',
A38: ='Dates to search'!$A$8 -> 43958 | B38: CNN | C38: 'https://api.gdeltproject.org/api/v2/doc/doc?query= | D38: ='Search terms'!$A$2 -> ("Donald Trump" OR "President Trump") | E38: domainis: | F38: =VLOOKUP(B38,'Sources to search'!A:B,2,FALSE) -> CNN.com | G38: &startdatetime= | H38: =VLOOKUP(A38,'Dates to search'!A:C,2,FALSE) -> 43958 | I38: &enddatetime= | J38: =VLOOKUP(A38,'Dates to search'!A:C,3,FALSE) -> 43959 | K38: &mode=artlist&maxrecords=250&sort=datedesc&format=csv', | L38: =CONCATENATE(C38,D38,E38,F38,G38,TEXT(H38,"yyyymmddhhmmss"),I38,TEXT(J38,"yyyymmddhhmmss"),K38) -> 'https://api.gdeltproject.org/api/v2/doc/doc?query=("Donald Trump" OR "President Trump") domainis:CNN.com&startdatetime=20200507000000&enddatetime=20200508000000&mode=artlist&maxrecords=250&sort=datedesc&format=csv',
A39: ='Dates to search'!$A$9 -> 43959 | B39: CNN | C39: 'https://api.gdeltproject.org/api/v2/doc/doc?query= | D39: ='Search terms'!$A$2 -> ("Donald Trump" OR "President Trump") | E39: domainis: | F39: =VLOOKUP(B39,'Sources to search'!A:B,2,FALSE) -> CNN.com | G39: &startdatetime= | H39: =VLOOKUP(A39,'Dates to search'!A:C,2,FALSE) -> 43959 | I39: &enddatetime= | J39: =VLOOKUP(A39,'Dates to search'!A:C,3,FALSE) -> 43960 | K39: &mode=artlist&maxrecords=250&sort=datedesc&format=csv', | L39: =CONCATENATE(C39,D39,E39,F39,G39,TEXT(H39,"yyyymmddhhmmss"),I39,TEXT(J39,"yyyymmddhhmmss"),K39) -> 'https://api.gdeltproject.org/api/v2/doc/doc?query=("Donald Trump" OR "President Trump") domainis:CNN.com&startdatetime=20200508000000&enddatetime=20200509000000&mode=artlist&maxrecords=250&sort=datedesc&format=csv',
A40: ='Dates to search'!$A$10 -> 43960 | B40: CNN | C40: 'https://api.gdeltproject.org/api/v2/doc/doc?query= | D40: ='Search terms'!$A$2 -> ("Donald Trump" OR "President Trump") | E40: domainis: | F40: =VLOOKUP(B40,'Sources to search'!A:B,2,FALSE) -> CNN.com | G40: &startdatetime= | H40: =VLOOKUP(A40,'Dates to search'!A:C,2,FALSE) -> 43960 | I40: &enddatetime= | J40: =VLOOKUP(A40,'Dates to search'!A:C,3,FALSE) -> 43961 | K40: &mode=artlist&maxrecords=250&sort=datedesc&format=csv', | L40: =CONCATENATE(C40,D40,E40,F40,G40,TEXT(H40,"yyyymmddhhmmss"),I40,TEXT(J40,"yyyymmddhhmmss"),K40) -> 'https://api.gdeltproject.org/api/v2/doc/doc?query=("Donald Trump" OR "President Trump") domainis:CNN.com&startdatetime=20200509000000&enddatetime=20200510000000&mode=artlist&maxrecords=250&sort=datedesc&format=csv',
...

Sheet URLs31Days
A1: Date | B1: Source | C1: Part 1 | D1: Part 2 | E1: Part 3 | F1: Part 4 | G1: Part 5 | H1: Part 6 | I1: Part 7 | J1: Part 8 | K1: Part 9 | L1: FullURL
A2: ='Dates to search'!$A$2 -> 43952 | B2: AP | C2: 'https://api.gdeltproject.org/api/v2/doc/doc?query= | D2: ='Search terms'!$A$2 -> ("Donald Trump" OR "President Trump") | E2: domainis: | F2: =VLOOKUP(B2,'Sources to search'!A:B,2,FALSE) -> apnews.com | G2: &startdatetime= | H2: =VLOOKUP(A2,'Dates to search'!A:C,2,FALSE) -> 43952 | I2: &enddatetime= | J2: =VLOOKUP(A2,'Dates to search'!A:C,3,FALSE) -> 43953 | K2: &mode=artlist&maxrecords=250&sort=datedesc&format=csv', | L2: =CONCATENATE(C2,D2,E2,F2,G2,TEXT(H2,"yyyymmddhhmmss"),I2,TEXT(J2,"yyyymmddhhmmss"),K2) -> 'https://api.gdeltproject.org/api/v2/doc/doc?query=("Donald Trump" OR "President Trump") domainis:apnews.com&startdatetime=20200501000000&enddatetime=20200502000000&mode=artlist&maxrecords=250&sort=datedesc&format=csv',
A3: ='Dates to search'!$A$3 -> 43953 | B3: AP | C3: 'https://api.gdeltproject.org/api/v2/doc/doc?query= | D3: ='Search terms'!$A$2 -> ("Donald Trump" OR "President Trump") | E3: domainis: | F3: =VLOOKUP(B3,'Sources to search'!A:B,2,FALSE) -> apnews.com | G3: &startdatetime= | H3: =VLOOKUP(A3,'Dates to search'!A:C,2,FALSE) -> 43953 | I3: &enddatetime= | J3: =VLOOKUP(A3,'Dates to search'!A:C,3,FALSE) -> 43954 | K3: &mode=artlist&maxrecords=250&sort=datedesc&format=csv', | L3: =CONCATENATE(C3,D3,E3,F3,G3,TEXT(H3,"yyyymmddhhmmss"),I3,TEXT(J3,"yyyymmddhhmmss"),K3) -> 'https://api.gdeltproject.org/api/v2/doc/doc?query=("Donald Trump" OR "President Trump") domainis:apnews.com&startdatetime=20200502000000&enddatetime=20200503000000&mode=artlist&maxrecords=250&sort=datedesc&format=csv',
A4: ='Dates to search'!$A$4 -> 43954 | B4: AP | C4: 'https://api.gdeltproject.org/api/v2/doc/doc?query= | D4: ='Search terms'!$A$2 -> ("Donald Trump" OR "President Trump") | E4: domainis: | F4: =VLOOKUP(B4,'Sources to search'!A:B,2,FALSE) -> apnews.com | G4: &startdatetime= | H4: =VLOOKUP(A4,'Dates to search'!A:C,2,FALSE) -> 43954 | I4: &enddatetime= | J4: =VLOOKUP(A4,'Dates to search'!A:C,3,FALSE) -> 43955 | K4: &mode=artlist&maxrecords=250&sort=datedesc&format=csv', | L4: =CONCATENATE(C4,D4,E4,F4,G4,TEXT(H4,"yyyymmddhhmmss"),I4,TEXT(J4,"yyyymmddhhmmss"),K4) -> 'https://api.gdeltproject.org/api/v2/doc/doc?query=("Donald Trump" OR "President Trump") domainis:apnews.com&startdatetime=20200503000000&enddatetime=20200504000000&mode=artlist&maxrecords=250&sort=datedesc&format=csv',
A5: ='Dates to search'!$A$5 -> 43955 | B5: AP | C5: 'https://api.gdeltproject.org/api/v2/doc/doc?query= | D5: ='Search terms'!$A$2 -> ("Donald Trump" OR "President Trump") | E5: domainis: | F5: =VLOOKUP(B5,'Sources to search'!A:B,2,FALSE) -> apnews.com | G5: &startdatetime= | H5: =VLOOKUP(A5,'Dates to search'!A:C,2,FALSE) -> 43955 | I5: &enddatetime= | J5: =VLOOKUP(A5,'Dates to search'!A:C,3,FALSE) -> 43956 | K5: &mode=artlist&maxrecords=250&sort=datedesc&format=csv', | L5: =CONCATENATE(C5,D5,E5,F5,G5,TEXT(H5,"yyyymmddhhmmss"),I5,TEXT(J5,"yyyymmddhhmmss"),K5) -> 'https://api.gdeltproject.org/api/v2/doc/doc?query=("Donald Trump" OR "President Trump") domainis:apnews.com&startdatetime=20200504000000&enddatetime=20200505000000&mode=artlist&maxrecords=250&sort=datedesc&format=csv',
A6: ='Dates to search'!$A$6 -> 43956 | B6: AP | C6: 'https://api.gdeltproject.org/api/v2/doc/doc?query= | D6: ='Search terms'!$A$2 -> ("Donald Trump" OR "President Trump") | E6: domainis: | F6: =VLOOKUP(B6,'Sources to search'!A:B,2,FALSE) -> apnews.com | G6: &startdatetime= | H6: =VLOOKUP(A6,'Dates to search'!A:C,2,FALSE) -> 43956 | I6: &enddatetime= | J6: =VLOOKUP(A6,'Dates to search'!A:C,3,FALSE) -> 43957 | K6: &mode=artlist&maxrecords=250&sort=datedesc&format=csv', | L6: =CONCATENATE(C6,D6,E6,F6,G6,TEXT(H6,"yyyymmddhhmmss"),I6,TEXT(J6,"yyyymmddhhmmss"),K6) -> 'https://api.gdeltproject.org/api/v2/doc/doc?query=("Donald Trump" OR "President Trump") domainis:apnews.com&startdatetime=20200505000000&enddatetime=20200506000000&mode=artlist&maxrecords=250&sort=datedesc&format=csv',
A7: ='Dates to search'!$A$7 -> 43957 | B7: AP | C7: 'https://api.gdeltproject.org/api/v2/doc/doc?query= | D7: ='Search terms'!$A$2 -> ("Donald Trump" OR "President Trump") | E7: domainis: | F7: =VLOOKUP(B7,'Sources to search'!A:B,2,FALSE) -> apnews.com | G7: &startdatetime= | H7: =VLOOKUP(A7,'Dates to search'!A:C,2,FALSE) -> 43957 | I7: &enddatetime= | J7: =VLOOKUP(A7,'Dates to search'!A:C,3,FALSE) -> 43958 | K7: &mode=artlist&maxrecords=250&sort=datedesc&format=csv', | L7: =CONCATENATE(C7,D7,E7,F7,G7,TEXT(H7,"yyyymmddhhmmss"),I7,TEXT(J7,"yyyymmddhhmmss"),K7) -> 'https://api.gdeltproject.org/api/v2/doc/doc?query=("Donald Trump" OR "President Trump") domainis:apnews.com&startdatetime=20200506000000&enddatetime=20200507000000&mode=artlist&maxrecords=250&sort=datedesc&format=csv',
A8: ='Dates to search'!$A$8 -> 43958 | B8: AP | C8: 'https://api.gdeltproject.org/api/v2/doc/doc?query= | D8: ='Search terms'!$A$2 -> ("Donald Trump" OR "President Trump") | E8: domainis: | F8: =VLOOKUP(B8,'Sources to search'!A:B,2,FALSE) -> apnews.com | G8: &startdatetime= | H8: =VLOOKUP(A8,'Dates to search'!A:C,2,FALSE) -> 43958 | I8: &enddatetime= | J8: =VLOOKUP(A8,'Dates to search'!A:C,3,FALSE) -> 43959 | K8: &mode=artlist&maxrecords=250&sort=datedesc&format=csv', | L8: =CONCATENATE(C8,D8,E8,F8,G8,TEXT(H8,"yyyymmddhhmmss"),I8,TEXT(J8,"yyyymmddhhmmss"),K8) -> 'https://api.gdeltproject.org/api/v2/doc/doc?query=("Donald Trump" OR "President Trump") domainis:apnews.com&startdatetime=20200507000000&enddatetime=20200508000000&mode=artlist&maxrecords=250&sort=datedesc&format=csv',
A9: ='Dates to search'!$A$9 -> 43959 | B9: AP | C9: 'https://api.gdeltproject.org/api/v2/doc/doc?query= | D9: ='Search terms'!$A$2 -> ("Donald Trump" OR "President Trump") | E9: domainis: | F9: =VLOOKUP(B9,'Sources to search'!A:B,2,FALSE) -> apnews.com | G9: &startdatetime= | H9: =VLOOKUP(A9,'Dates to search'!A:C,2,FALSE) -> 43959 | I9: &enddatetime= | J9: =VLOOKUP(A9,'Dates to search'!A:C,3,FALSE) -> 43960 | K9: &mode=artlist&maxrecords=250&sort=datedesc&format=csv', | L9: =CONCATENATE(C9,D9,E9,F9,G9,TEXT(H9,"yyyymmddhhmmss"),I9,TEXT(J9,"yyyymmddhhmmss"),K9) -> 'https://api.gdeltproject.org/api/v2/doc/doc?query=("Donald Trump" OR "President Trump") domainis:apnews.com&startdatetime=20200508000000&enddatetime=20200509000000&mode=artlist&maxrecords=250&sort=datedesc&format=csv',
A10: ='Dates to search'!$A$10 -> 43960 | B10: AP | C10: 'https://api.gdeltproject.org/api/v2/doc/doc?query= | D10: ='Search terms'!$A$2 -> ("Donald Trump" OR "President Trump") | E10: domainis: | F10: =VLOOKUP(B10,'Sources to search'!A:B,2,FALSE) -> apnews.com | G10: &startdatetime= | H10: =VLOOKUP(A10,'Dates to search'!A:C,2,FALSE) -> 43960 | I10: &enddatetime= | J10: =VLOOKUP(A10,'Dates to search'!A:C,3,FALSE) -> 43961 | K10: &mode=artlist&maxrecords=250&sort=datedesc&format=csv', | L10: =CONCATENATE(C10,D10,E10,F10,G10,TEXT(H10,"yyyymmddhhmmss"),I10,TEXT(J10,"yyyymmddhhmmss"),K10) -> 'https://api.gdeltproject.org/api/v2/doc/doc?query=("Donald Trump" OR "President Trump") domainis:apnews.com&startdatetime=20200509000000&enddatetime=20200510000000&mode=artlist&maxrecords=250&sort=datedesc&format=csv',
A11: ='Dates to search'!$A$11 -> 43961 | B11: AP | C11: 'https://api.gdeltproject.org/api/v2/doc/doc?query= | D11: ='Search terms'!$A$2 -> ("Donald Trump" OR "President Trump") | E11: domainis: | F11: =VLOOKUP(B11,'Sources to search'!A:B,2,FALSE) -> apnews.com | G11: &startdatetime= | H11: =VLOOKUP(A11,'Dates to search'!A:C,2,FALSE) -> 43961 | I11: &enddatetime= | J11: =VLOOKUP(A11,'Dates to search'!A:C,3,FALSE) -> 43962 | K11: &mode=artlist&maxrecords=250&sort=datedesc&format=csv', | L11: =CONCATENATE(C11,D11,E11,F11,G11,TEXT(H11,"yyyymmddhhmmss"),I11,TEXT(J11,"yyyymmddhhmmss"),K11) -> 'https://api.gdeltproject.org/api/v2/doc/doc?query=("Donald Trump" OR "President Trump") domainis:apnews.com&startdatetime=20200510000000&enddatetime=20200511000000&mode=artlist&maxrecords=250&sort=datedesc&format=csv',
A12: ='Dates to search'!$A$12 -> 43962 | B12: AP | C12: 'https://api.gdeltproject.org/api/v2/doc/doc?query= | D12: ='Search terms'!$A$2 -> ("Donald Trump" OR "President Trump") | E12: domainis: | F12: =VLOOKUP(B12,'Sources to search'!A:B,2,FALSE) -> apnews.com | G12: &startdatetime= | H12: =VLOOKUP(A12,'Dates to search'!A:C,2,FALSE) -> 43962 | I12: &enddatetime= | J12: =VLOOKUP(A12,'Dates to search'!A:C,3,FALSE) -> 43963 | K12: &mode=artlist&maxrecords=250&sort=datedesc&format=csv', | L12: =CONCATENATE(C12,D12,E12,F12,G12,TEXT(H12,"yyyymmddhhmmss"),I12,TEXT(J12,"yyyymmddhhmmss"),K12) -> 'https://api.gdeltproject.org/api/v2/doc/doc?query=("Donald Trump" OR "President Trump") domainis:apnews.com&startdatetime=20200511000000&enddatetime=20200512000000&mode=artlist&maxrecords=250&sort=datedesc&format=csv',
A13: ='Dates to search'!$A$13 -> 43963 | B13: AP | C13: 'https://api.gdeltproject.org/api/v2/doc/doc?query= | D13: ='Search terms'!$A$2 -> ("Donald Trump" OR "President Trump") | E13: domainis: | F13: =VLOOKUP(B13,'Sources to search'!A:B,2,FALSE) -> apnews.com | G13: &startdatetime= | H13: =VLOOKUP(A13,'Dates to search'!A:C,2,FALSE) -> 43963 | I13: &enddatetime= | J13: =VLOOKUP(A13,'Dates to search'!A:C,3,FALSE) -> 43964 | K13: &mode=artlist&maxrecords=250&sort=datedesc&format=csv', | L13: =CONCATENATE(C13,D13,E13,F13,G13,TEXT(H13,"yyyymmddhhmmss"),I13,TEXT(J13,"yyyymmddhhmmss"),K13) -> 'https://api.gdeltproject.org/api/v2/doc/doc?query=("Donald Trump" OR "President Trump") domainis:apnews.com&startdatetime=20200512000000&enddatetime=20200513000000&mode=artlist&maxrecords=250&sort=datedesc&format=csv',
A14: ='Dates to search'!$A$14 -> 43964 | B14: AP | C14: 'https://api.gdeltproject.org/api/v2/doc/doc?query= | D14: ='Search terms'!$A$2 -> ("Donald Trump" OR "President Trump") | E14: domainis: | F14: =VLOOKUP(B14,'Sources to search'!A:B,2,FALSE) -> apnews.com | G14: &startdatetime= | H14: =VLOOKUP(A14,'Dates to search'!A:C,2,FALSE) -> 43964 | I14: &enddatetime= | J14: =VLOOKUP(A14,'Dates to search'!A:C,3,FALSE) -> 43965 | K14: &mode=artlist&maxrecords=250&sort=datedesc&format=csv', | L14: =CONCATENATE(C14,D14,E14,F14,G14,TEXT(H14,"yyyymmddhhmmss"),I14,TEXT(J14,"yyyymmddhhmmss"),K14) -> 'https://api.gdeltproject.org/api/v2/doc/doc?query=("Donald Trump" OR "President Trump") domainis:apnews.com&startdatetime=20200513000000&enddatetime=20200514000000&mode=artlist&maxrecords=250&sort=datedesc&format=csv',
A15: ='Dates to search'!$A$15 -> 43965 | B15: AP | C15: 'https://api.gdeltproject.org/api/v2/doc/doc?query= | D15: ='Search terms'!$A$2 -> ("Donald Trump" OR "President Trump") | E15: domainis: | F15: =VLOOKUP(B15,'Sources to search'!A:B,2,FALSE) -> apnews.com | G15: &startdatetime= | H15: =VLOOKUP(A15,'Dates to search'!A:C,2,FALSE) -> 43965 | I15: &enddatetime= | J15: =VLOOKUP(A15,'Dates to search'!A:C,3,FALSE) -> 43966 | K15: &mode=artlist&maxrecords=250&sort=datedesc&format=csv', | L15: =CONCATENATE(C15,D15,E15,F15,G15,TEXT(H15,"yyyymmddhhmmss"),I15,TEXT(J15,"yyyymmddhhmmss"),K15) -> 'https://api.gdeltproject.org/api/v2/doc/doc?query=("Donald Trump" OR "President Trump") domainis:apnews.com&startdatetime=20200514000000&enddatetime=20200515000000&mode=artlist&maxrecords=250&sort=datedesc&format=csv',
A16: ='Dates to search'!$A$16 -> 43966 | B16: AP | C16: 'https://api.gdeltproject.org/api/v2/doc/doc?query= | D16: ='Search terms'!$A$2 -> ("Donald Trump" OR "President Trump") | E16: domainis: | F16: =VLOOKUP(B16,'Sources to search'!A:B,2,FALSE) -> apnews.com | G16: &startdatetime= | H16: =VLOOKUP(A16,'Dates to search'!A:C,2,FALSE) -> 43966 | I16: &enddatetime= | J16: =VLOOKUP(A16,'Dates to search'!A:C,3,FALSE) -> 43967 | K16: &mode=artlist&maxrecords=250&sort=datedesc&format=csv', | L16: =CONCATENATE(C16,D16,E16,F16,G16,TEXT(H16,"yyyymmddhhmmss"),I16,TEXT(J16,"yyyymmddhhmmss"),K16) -> 'https://api.gdeltproject.org/api/v2/doc/doc?query=("Donald Trump" OR "President Trump") domainis:apnews.com&startdatetime=20200515000000&enddatetime=20200516000000&mode=artlist&maxrecords=250&sort=datedesc&format=csv',
A17: ='Dates to search'!$A$17 -> 43967 | B17: AP | C17: 'https://api.gdeltproject.org/api/v2/doc/doc?query= | D17: ='Search terms'!$A$2 -> ("Donald Trump" OR "President Trump") | E17: domainis: | F17: =VLOOKUP(B17,'Sources to search'!A:B,2,FALSE) -> apnews.com | G17: &startdatetime= | H17: =VLOOKUP(A17,'Dates to search'!A:C,2,FALSE) -> 43967 | I17: &enddatetime= | J17: =VLOOKUP(A17,'Dates to search'!A:C,3,FALSE) -> 43968 | K17: &mode=artlist&maxrecords=250&sort=datedesc&format=csv', | L17: =CONCATENATE(C17,D17,E17,F17,G17,TEXT(H17,"yyyymmddhhmmss"),I17,TEXT(J17,"yyyymmddhhmmss"),K17) -> 'https://api.gdeltproject.org/api/v2/doc/doc?query=("Donald Trump" OR "President Trump") domainis:apnews.com&startdatetime=20200516000000&enddatetime=20200517000000&mode=artlist&maxrecords=250&sort=datedesc&format=csv',
A18: ='Dates to search'!$A$18 -> 43968 | B18: AP | C18: 'https://api.gdeltproject.org/api/v2/doc/doc?query= | D18: ='Search terms'!$A$2 -> ("Donald Trump" OR "President Trump") | E18: domainis: | F18: =VLOOKUP(B18,'Sources to search'!A:B,2,FALSE) -> apnews.com | G18: &startdatetime= | H18: =VLOOKUP(A18,'Dates to search'!A:C,2,FALSE) -> 43968 | I18: &enddatetime= | J18: =VLOOKUP(A18,'Dates to search'!A:C,3,FALSE) -> 43969 | K18: &mode=artlist&maxrecords=250&sort=datedesc&format=csv', | L18: =CONCATENATE(C18,D18,E18,F18,G18,TEXT(H18,"yyyymmddhhmmss"),I18,TEXT(J18,"yyyymmddhhmmss"),K18) -> 'https://api.gdeltproject.org/api/v2/doc/doc?query=("Donald Trump" OR "President Trump") domainis:apnews.com&startdatetime=20200517000000&enddatetime=20200518000000&mode=artlist&maxrecords=250&sort=datedesc&format=csv',
A19: ='Dates to search'!$A$19 -> 43969 | B19: AP | C19: 'https://api.gdeltproject.org/api/v2/doc/doc?query= | D19: ='Search terms'!$A$2 -> ("Donald Trump" OR "President Trump") | E19: domainis: | F19: =VLOOKUP(B19,'Sources to search'!A:B,2,FALSE) -> apnews.com | G19: &startdatetime= | H19: =VLOOKUP(A19,'Dates to search'!A:C,2,FALSE) -> 43969 | I19: &enddatetime= | J19: =VLOOKUP(A19,'Dates to search'!A:C,3,FALSE) -> 43970 | K19: &mode=artlist&maxrecords=250&sort=datedesc&format=csv', | L19: =CONCATENATE(C19,D19,E19,F19,G19,TEXT(H19,"yyyymmddhhmmss"),I19,TEXT(J19,"yyyymmddhhmmss"),K19) -> 'https://api.gdeltproject.org/api/v2/doc/doc?query=("Donald Trump" OR "President Trump") domainis:apnews.com&startdatetime=20200518000000&enddatetime=20200519000000&mode=artlist&maxrecords=250&sort=datedesc&format=csv',
A20: ='Dates to search'!$A$20 -> 43970 | B20: AP | C20: 'https://api.gdeltproject.org/api/v2/doc/doc?query= | D20: ='Search terms'!$A$2 -> ("Donald Trump" OR "President Trump") | E20: domainis: | F20: =VLOOKUP(B20,'Sources to search'!A:B,2,FALSE) -> apnews.com | G20: &startdatetime= | H20: =VLOOKUP(A20,'Dates to search'!A:C,2,FALSE) -> 43970 | I20: &enddatetime= | J20: =VLOOKUP(A20,'Dates to search'!A:C,3,FALSE) -> 43971 | K20: &mode=artlist&maxrecords=250&sort=datedesc&format=csv', | L20: =CONCATENATE(C20,D20,E20,F20,G20,TEXT(H20,"yyyymmddhhmmss"),I20,TEXT(J20,"yyyymmddhhmmss"),K20) -> 'https://api.gdeltproject.org/api/v2/doc/doc?query=("Donald Trump" OR "President Trump") domainis:apnews.com&startdatetime=20200519000000&enddatetime=20200520000000&mode=artlist&maxrecords=250&sort=datedesc&format=csv',
A21: ='Dates to search'!$A$21 -> 43971 | B21: AP | C21: 'https://api.gdeltproject.org/api/v2/doc/doc?query= | D21: ='Search terms'!$A$2 -> ("Donald Trump" OR "President Trump") | E21: domainis: | F21: =VLOOKUP(B21,'Sources to search'!A:B,2,FALSE) -> apnews.com | G21: &startdatetime= | H21: =VLOOKUP(A21,'Dates to search'!A:C,2,FALSE) -> 43971 | I21: &enddatetime= | J21: =VLOOKUP(A21,'Dates to search'!A:C,3,FALSE) -> 43972 | K21: &mode=artlist&maxrecords=250&sort=datedesc&format=csv', | L21: =CONCATENATE(C21,D21,E21,F21,G21,TEXT(H21,"yyyymmddhhmmss"),I21,TEXT(J21,"yyyymmddhhmmss"),K21) -> 'https://api.gdeltproject.org/api/v2/doc/doc?query=("Donald Trump" OR "President Trump") domainis:apnews.com&startdatetime=20200520000000&enddatetime=20200521000000&mode=artlist&maxrecords=250&sort=datedesc&format=csv',
A22: ='Dates to search'!$A$22 -> 43972 | B22: AP | C22: 'https://api.gdeltproject.org/api/v2/doc/doc?query= | D22: ='Search terms'!$A$2 -> ("Donald Trump" OR "President Trump") | E22: domainis: | F22: =VLOOKUP(B22,'Sources to search'!A:B,2,FALSE) -> apnews.com | G22: &startdatetime= | H22: =VLOOKUP(A22,'Dates to search'!A:C,2,FALSE) -> 43972 | I22: &enddatetime= | J22: =VLOOKUP(A22,'Dates to search'!A:C,3,FALSE) -> 43973 | K22: &mode=artlist&maxrecords=250&sort=datedesc&format=csv', | L22: =CONCATENATE(C22,D22,E22,F22,G22,TEXT(H22,"yyyymmddhhmmss"),I22,TEXT(J22,"yyyymmddhhmmss"),K22) -> 'https://api.gdeltproject.org/api/v2/doc/doc?query=("Donald Trump" OR "President Trump") domainis:apnews.com&startdatetime=20200521000000&enddatetime=20200522000000&mode=artlist&maxrecords=250&sort=datedesc&format=csv',
A23: ='Dates to search'!$A$23 -> 43973 | B23: AP | C23: 'https://api.gdeltproject.org/api/v2/doc/doc?query= | D23: ='Search terms'!$A$2 -> ("Donald Trump" OR "President Trump") | E23: domainis: | F23: =VLOOKUP(B23,'Sources to search'!A:B,2,FALSE) -> apnews.com | G23: &startdatetime= | H23: =VLOOKUP(A23,'Dates to search'!A:C,2,FALSE) -> 43973 | I23: &enddatetime= | J23: =VLOOKUP(A23,'Dates to search'!A:C,3,FALSE) -> 43974 | K23: &mode=artlist&maxrecords=250&sort=datedesc&format=csv', | L23: =CONCATENATE(C23,D23,E23,F23,G23,TEXT(H23,"yyyymmddhhmmss"),I23,TEXT(J23,"yyyymmddhhmmss"),K23) -> 'https://api.gdeltproject.org/api/v2/doc/doc?query=("Donald Trump" OR "President Trump") domainis:apnews.com&startdatetime=20200522000000&enddatetime=20200523000000&mode=artlist&maxrecords=250&sort=datedesc&format=csv',
A24: ='Dates to search'!$A$24 -> 43974 | B24: AP | C24: 'https://api.gdeltproject.org/api/v2/doc/doc?query= | D24: ='Search terms'!$A$2 -> ("Donald Trump" OR "President Trump") | E24: domainis: | F24: =VLOOKUP(B24,'Sources to search'!A:B,2,FALSE) -> apnews.com | G24: &startdatetime= | H24: =VLOOKUP(A24,'Dates to search'!A:C,2,FALSE) -> 43974 | I24: &enddatetime= | J24: =VLOOKUP(A24,'Dates to search'!A:C,3,FALSE) -> 43975 | K24: &mode=artlist&maxrecords=250&sort=datedesc&format=csv', | L24: =CONCATENATE(C24,D24,E24,F24,G24,TEXT(H24,"yyyymmddhhmmss"),I24,TEXT(J24,"yyyymmddhhmmss"),K24) -> 'https://api.gdeltproject.org/api/v2/doc/doc?query=("Donald Trump" OR "President Trump") domainis:apnews.com&startdatetime=20200523000000&enddatetime=20200524000000&mode=artlist&maxrecords=250&sort=datedesc&format=csv',
A25: ='Dates to search'!$A$25 -> 43975 | B25: AP | C25: 'https://api.gdeltproject.org/api/v2/doc/doc?query= | D25: ='Search terms'!$A$2 -> ("Donald Trump" OR "President Trump") | E25: domainis: | F25: =VLOOKUP(B25,'Sources to search'!A:B,2,FALSE) -> apnews.com | G25: &startdatetime= | H25: =VLOOKUP(A25,'Dates to search'!A:C,2,FALSE) -> 43975 | I25: &enddatetime= | J25: =VLOOKUP(A25,'Dates to search'!A:C,3,FALSE) -> 43976 | K25: &mode=artlist&maxrecords=250&sort=datedesc&format=csv', | L25: =CONCATENATE(C25,D25,E25,F25,G25,TEXT(H25,"yyyymmddhhmmss"),I25,TEXT(J25,"yyyymmddhhmmss"),K25) -> 'https://api.gdeltproject.org/api/v2/doc/doc?query=("Donald Trump" OR "President Trump") domainis:apnews.com&startdatetime=20200524000000&enddatetime=20200525000000&mode=artlist&maxrecords=250&sort=datedesc&format=csv',
A26: ='Dates to search'!$A$26 -> 43976 | B26: AP | C26: 'https://api.gdeltproject.org/api/v2/doc/doc?query= | D26: ='Search terms'!$A$2 -> ("Donald Trump" OR "President Trump") | E26: domainis: | F26: =VLOOKUP(B26,'Sources to search'!A:B,2,FALSE) -> apnews.com | G26: &startdatetime= | H26: =VLOOKUP(A26,'Dates to search'!A:C,2,FALSE) -> 43976 | I26: &enddatetime= | J26: =VLOOKUP(A26,'Dates to search'!A:C,3,FALSE) -> 43977 | K26: &mode=artlist&maxrecords=250&sort=datedesc&format=csv', | L26: =CONCATENATE(C26,D26,E26,F26,G26,TEXT(H26,"yyyymmddhhmmss"),I26,TEXT(J26,"yyyymmddhhmmss"),K26) -> 'https://api.gdeltproject.org/api/v2/doc/doc?query=("Donald Trump" OR "President Trump") domainis:apnews.com&startdatetime=20200525000000&enddatetime=20200526000000&mode=artlist&maxrecords=250&sort=datedesc&format=csv',
A27: ='Dates to search'!$A$27 -> 43977 | B27: AP | C27: 'https://api.gdeltproject.org/api/v2/doc/doc?query= | D27: ='Search terms'!$A$2 -> ("Donald Trump" OR "President Trump") | E27: domainis: | F27: =VLOOKUP(B27,'Sources to search'!A:B,2,FALSE) -> apnews.com | G27: &startdatetime= | H27: =VLOOKUP(A27,'Dates to search'!A:C,2,FALSE) -> 43977 | I27: &enddatetime= | J27: =VLOOKUP(A27,'Dates to search'!A:C,3,FALSE) -> 43978 | K27: &mode=artlist&maxrecords=250&sort=datedesc&format=csv', | L27: =CONCATENATE(C27,D27,E27,F27,G27,TEXT(H27,"yyyymmddhhmmss"),I27,TEXT(J27,"yyyymmddhhmmss"),K27) -> 'https://api.gdeltproject.org/api/v2/doc/doc?query=("Donald Trump" OR "President Trump") domainis:apnews.com&startdatetime=20200526000000&enddatetime=20200527000000&mode=artlist&maxrecords=250&sort=datedesc&format=csv',
A28: ='Dates to search'!$A$28 -> 43978 | B28: AP | C28: 'https://api.gdeltproject.org/api/v2/doc/doc?query= | D28: ='Search terms'!$A$2 -> ("Donald Trump" OR "President Trump") | E28: domainis: | F28: =VLOOKUP(B28,'Sources to search'!A:B,2,FALSE) -> apnews.com | G28: &startdatetime= | H28: =VLOOKUP(A28,'Dates to search'!A:C,2,FALSE) -> 43978 | I28: &enddatetime= | J28: =VLOOKUP(A28,'Dates to search'!A:C,3,FALSE) -> 43979 | K28: &mode=artlist&maxrecords=250&sort=datedesc&format=csv', | L28: =CONCATENATE(C28,D28,E28,F28,G28,TEXT(H28,"yyyymmddhhmmss"),I28,TEXT(J28,"yyyymmddhhmmss"),K28) -> 'https://api.gdeltproject.org/api/v2/doc/doc?query=("Donald Trump" OR "President Trump") domainis:apnews.com&startdatetime=20200527000000&enddatetime=20200528000000&mode=artlist&maxrecords=250&sort=datedesc&format=csv',
A29: ='Dates to search'!$A$29 -> 43979 | B29: AP | C29: 'https://api.gdeltproject.org/api/v2/doc/doc?query= | D29: ='Search terms'!$A$2 -> ("Donald Trump" OR "President Trump") | E29: domainis: | F29: =VLOOKUP(B29,'Sources to search'!A:B,2,FALSE) -> apnews.com | G29: &startdatetime= | H29: =VLOOKUP(A29,'Dates to search'!A:C,2,FALSE) -> 43979 | I29: &enddatetime= | J29: =VLOOKUP(A29,'Dates to search'!A:C,3,FALSE) -> 43980 | K29: &mode=artlist&maxrecords=250&sort=datedesc&format=csv', | L29: =CONCATENATE(C29,D29,E29,F29,G29,TEXT(H29,"yyyymmddhhmmss"),I29,TEXT(J29,"yyyymmddhhmmss"),K29) -> 'https://api.gdeltproject.org/api/v2/doc/doc?query=("Donald Trump" OR "President Trump") domainis:apnews.com&startdatetime=20200528000000&enddatetime=20200529000000&mode=artlist&maxrecords=250&sort=datedesc&format=csv',
A30: ='Dates to search'!$A$30 -> 43980 | B30: AP | C30: 'https://api.gdeltproject.org/api/v2/doc/doc?query= | D30: ='Search terms'!$A$2 -> ("Donald Trump" OR "President Trump") | E30: domainis: | F30: =VLOOKUP(B30,'Sources to search'!A:B,2,FALSE) -> apnews.com | G30: &startdatetime= | H30: =VLOOKUP(A30,'Dates to search'!A:C,2,FALSE) -> 43980 | I30: &enddatetime= | J30: =VLOOKUP(A30,'Dates to search'!A:C,3,FALSE) -> 43981 | K30: &mode=artlist&maxrecords=250&sort=datedesc&format=csv', | L30: =CONCATENATE(C30,D30,E30,F30,G30,TEXT(H30,"yyyymmddhhmmss"),I30,TEXT(J30,"yyyymmddhhmmss"),K30) -> 'https://api.gdeltproject.org/api/v2/doc/doc?query=("Donald Trump" OR "President Trump") domainis:apnews.com&startdatetime=20200529000000&enddatetime=20200530000000&mode=artlist&maxrecords=250&sort=datedesc&format=csv',
A31: ='Dates to search'!$A$31 -> 43981 | B31: AP | C31: 'https://api.gdeltproject.org/api/v2/doc/doc?query= | D31: ='Search terms'!$A$2 -> ("Donald Trump" OR "President Trump") | E31: domainis: | F31: =VLOOKUP(B31,'Sources to search'!A:B,2,FALSE) -> apnews.com | G31: &startdatetime= | H31: =VLOOKUP(A31,'Dates to search'!A:C,2,FALSE) -> 43981 | I31: &enddatetime= | J31: =VLOOKUP(A31,'Dates to search'!A:C,3,FALSE) -> 43982 | K31: &mode=artlist&maxrecords=250&sort=datedesc&format=csv', | L31: =CONCATENATE(C31,D31,E31,F31,G31,TEXT(H31,"yyyymmddhhmmss"),I31,TEXT(J31,"yyyymmddhhmmss"),K31) -> 'https://api.gdeltproject.org/api/v2/doc/doc?query=("Donald Trump" OR "President Trump") domainis:apnews.com&startdatetime=20200530000000&enddatetime=20200531000000&mode=artlist&maxrecords=250&sort=datedesc&format=csv',
A32: ='Dates to search'!$A$32 -> 43982 | B32: AP | C32: 'https://api.gdeltproject.org/api/v2/doc/doc?query= | D32: ='Search terms'!$A$2 -> ("Donald Trump" OR "President Trump") | E32: domainis: | F32: =VLOOKUP(B32,'Sources to search'!A:B,2,FALSE) -> apnews.com | G32: &startdatetime= | H32: =VLOOKUP(A32,'Dates to search'!A:C,2,FALSE) -> 43982 | I32: &enddatetime= | J32: =VLOOKUP(A32,'Dates to search'!A:C,3,FALSE) -> 43983 | K32: &mode=artlist&maxrecords=250&sort=datedesc&format=csv', | L32: =CONCATENATE(C32,D32,E32,F32,G32,TEXT(H32,"yyyymmddhhmmss"),I32,TEXT(J32,"yyyymmddhhmmss"),K32) -> 'https://api.gdeltproject.org/api/v2/doc/doc?query=("Donald Trump" OR "President Trump") domainis:apnews.com&startdatetime=20200531000000&enddatetime=20200601000000&mode=artlist&maxrecords=250&sort=datedesc&format=csv',
A33: ='Dates to search'!$A$2 -> 43952 | B33: CNN | C33: 'https://api.gdeltproject.org/api/v2/doc/doc?query= | D33: ='Search terms'!$A$2 -> ("Donald Trump" OR "President Trump") | E33: domainis: | F33: =VLOOKUP(B33,'Sources to search'!A:B,2,FALSE) -> CNN.com | G33: &startdatetime= | H33: =VLOOKUP(A33,'Dates to search'!A:C,2,FALSE) -> 43952 | I33: &enddatetime= | J33: =VLOOKUP(A33,'Dates to search'!A:C,3,FALSE) -> 43953 | K33: &mode=artlist&maxrecords=250&sort=datedesc&format=csv', | L33: =CONCATENATE(C33,D33,E33,F33,G33,TEXT(H33,"yyyymmddhhmmss"),I33,TEXT(J33,"yyyymmddhhmmss"),K33) -> 'https://api.gdeltproject.org/api/v2/doc/doc?query=("Donald Trump" OR "President Trump") domainis:CNN.com&startdatetime=20200501000000&enddatetime=20200502000000&mode=artlist&maxrecords=250&sort=datedesc&format=csv',
A34: ='Dates to search'!$A$3 -> 43953 | B34: CNN | C34: 'https://api.gdeltproject.org/api/v2/doc/doc?query= | D34: ='Search terms'!$A$2 -> ("Donald Trump" OR "President Trump") | E34: domainis: | F34: =VLOOKUP(B34,'Sources to search'!A:B,2,FALSE) -> CNN.com | G34: &startdatetime= | H34: =VLOOKUP(A34,'Dates to search'!A:C,2,FALSE) -> 43953 | I34: &enddatetime= | J34: =VLOOKUP(A34,'Dates to search'!A:C,3,FALSE) -> 43954 | K34: &mode=artlist&maxrecords=250&sort=datedesc&format=csv', | L34: =CONCATENATE(C34,D34,E34,F34,G34,TEXT(H34,"yyyymmddhhmmss"),I34,TEXT(J34,"yyyymmddhhmmss"),K34) -> 'https://api.gdeltproject.org/api/v2/doc/doc?query=("Donald Trump" OR "President Trump") domainis:CNN.com&startdatetime=20200502000000&enddatetime=20200503000000&mode=artlist&maxrecords=250&sort=datedesc&format=csv',
